Workbook
Name Angle: Param!$B$14
Name Backward: Displacements!$G$19:$G$24
Name Black: Param!$B$35
Name ClipSize: Param!$B$45
Name DecPosX: Param!$G$15
Name DecPosY: Param!$G$16
Name Fire: Param!$M$18
Name Forward: Displacements!$F$19:$F$24
Name LeftClip: Param!$M$20
Name LGreen: Param!$B$36
Name Life: Param!$M$17
Name MapAngle: Param!$B$10
Name MapAngle1: Param!$D$10
Name MapAngle2: Param!$E$10
Name MapCenterCol: Param!$B$9
Name MapCenterRow: Param!$B$8
Name MaxLife: Param!$B$46
Name MaxLum: Param!$B$36
Name NewPosition: Displacements!$U$19:$U$24
Name OffsetCol: Param!$G$9
Name OffsetRow: Param!$G$8
Name PosX: Param!$B$15
Name PosY: Param!$B$16
Name PwallX: Param!$B$2
Name PWallY: Param!$B$3
Name Red: Param!$B$34
Name Reload: Displacements!$M$19:$M$24
Name RightClip: Param!$M$19
Name ScreenHeight: Param!$B$43
Name ScreenWidth: Param!$B$42
Name Shoot: Displacements!$L$19:$L$24
Name StrafeLeft: Displacements!$H$19:$H$24
Name StrafeRight: Displacements!$I$19:$I$24
Name tick: Param!$B$13
Name TLeft: Displacements!$J$19:$J$24
Name TRight: Displacements!$K$19:$K$24

Sheet Readme
F1: Welcome !
A2: How to use - without vba
B4: The 3D engine is made without vba, so, you can actually use it without activating macro
B5: Go to "Screen" sheet, and enjoy the view !
B6: An excel sheet doesnt move all alone, so to make a simple action (move, fire, reload …), you have to :
C7: - copy the block of the chosen action from the Displacements tabs (the blues blocks)
C8: - past it in the orange block
C9: - go back to the screen enjoy the change
B10: If you want to teleport, or turn the camera, you can manually modify the values.
B11: You can also teleport in time ! Since you cannot control monsters, this would be the faster way to wait for a one of them to pass by.
B12: You can control your stats, to be able to kill yourself (put a 0 instead of 1 on the first value), or fire, etc. See in the param sheet to see what values are for.
B13: You can discover all of theses calculation sheets, trying to discover how it works
B14: Here, you discovered this nice 3d engine, without any vba
A16: How to use - without vba
B18: Macro are the only way [I found so far] to catch the keyboard events
B19: The vba code is quite basic :
C20: Sub Forward()
D21: Range("NewPosition").Value = Range("Forward").Value | K21: <-- this just copy/past the same way described before
C22: End Sub
B23: Same procedure for each of the 8 possible actions
B24: You can see by yourself in the developper menu
C25: Activate developper menu in Excel Option - first tab - 3rd button from the top
B27: You can activate macro !
C28: Quit and reload if the option is gone
C29: Download the version with macro if you get the one without
B31: And now, you can use keys to move, default binding are :
C32: CTRL-Z to move forward
C33: CTRL-S to move backward
C34: CTRL-A to turn left
C35: CTRL-E to turn right
C36: CTRL-Q to strafe left
C37: CTRL-D to strafe right
C38: CTRL-W to fire
C39: CTRL-R to reload
B40: You can change key binding in the "Macros" menu in developper tab, or simply install french keyboard (just kidding)
B42: Now, you can explore, fight ghost, get killed, enjoy your score, retry, revenge, search for an exit of this maze, learn how to read the map, travel to the edge of the map, study ghost behavior, get lost, restart …
B43: There is many parameters to change if you want, all of them are in column B of the tab "Param", you can change any of them.
C44: As a rule of thumb, if you replace a formula by a value, or you would break something.
C45: Caution : screen width and height and FoV are not suffisent to get entirely the expected result.
D46: Actually, a resolution change require more than 10 operations, some of them are quite tricky, sorry for that
...

Sheet Screen
A1: =IF(ScreenHeight!$B2<OFFSET(Radar!$AC$3,COLUMN(),0), Param!$B$38/ScreenHeight!$B2, (Param!$B$37+1/(1-OFFSET(Radar!$AD$3,COLUMN(),0)*ScreenHeight!$C2)/Param!$B$39)/OFFSET(Radar!$AC$3,COLUMN(),0))*DistanceShader!A1*LightShader!A1*(IF(OFFSET(Ghosts!$S$41,COLUMN(),0)<ScreenHeight!$E2, 1, (SQRT(OFFSET(Ghosts!$T$41,COLUMN(),0)-OFFSET(Ghosts!$R$41,COLUMN(),0)*ScreenHeight!$D2)-1))+IF(Ghosts!$B$35,IF(Param!$M$21,-1-POWER(0.3,Param!$M$21)/(IF(Param!$M$21<20,LightShader!A66,OFFSET(LightShader!A66,Param!$M$21-20,0))+POWER(0.3,Param!$M$21)),-2),0)) -> 1.5108959 | B1: =IF(ScreenHeight!$B2<OFFSET(Radar!$AC$3,COLUMN(),0), Param!$B$38/ScreenHeight!$B2, (Param!$B$37+1/(1-OFFSET(Radar!$AD$3,COLUMN(),0)*ScreenHeight!$C2)/Param!$B$39)/OFFSET(Radar!$AC$3,COLUMN(),0))*DistanceShader!B1*LightShader!B1*(IF(OFFSET(Ghosts!$S$41,COLUMN(),0)<ScreenHeight!$E2, 1, (SQRT(OFFSET(Ghosts!$T$41,COLUMN(),0)-OFFSET(Ghosts!$R$41,COLUMN(),0)*ScreenHeight!$D2)-1))+IF(Ghosts!$B$35,IF(Param!$M$21,-1-POWER(0.3,Param!$M$21)/(IF(Param!$M$21<20,LightShader!B66,OFFSET(LightShader!B66,Param!$M$21-20,0))+POWER(0.3,Param!$M$21)),-2),0)) -> 1.547703 | C1: =IF(ScreenHeight!$B2<OFFSET(Radar!$AC$3,COLUMN(),0), Param!$B$38/ScreenHeight!$B2, (Param!$B$37+1/(1-OFFSET(Radar!$AD$3,COLUMN(),0)*ScreenHeight!$C2)/Param!$B$39)/OFFSET(Radar!$AC$3,COLUMN(),0))*DistanceShader!C1*LightShader!C1*(IF(OFFSET(Ghosts!$S$41,COLUMN(),0)<ScreenHeight!$E2, 1, (SQRT(OFFSET(Ghosts!$T$41,COLUMN(),0)-OFFSET(Ghosts!$R$41,COLUMN(),0)*ScreenHeight!$D2)-1))+IF(Ghosts!$B$35,IF(Param!$M$21,-1-POWER(0.3,Param!$M$21)/(IF(Param!$M$21<20,LightShader!C66,OFFSET(LightShader!C66,Param!$M$21-20,0))+POWER(0.3,Param!$M$21)),-2),0)) -> 1.5855917 | D1: =IF(ScreenHeight!$B2<OFFSET(Radar!$AC$3,COLUMN(),0), Param!$B$38/ScreenHeight!$B2, (Param!$B$37+1/(1-OFFSET(Radar!$AD$3,COLUMN(),0)*ScreenHeight!$C2)/Param!$B$39)/OFFSET(Radar!$AC$3,COLUMN(),0))*DistanceShader!D1*LightShader!D1*(IF(OFFSET(Ghosts!$S$41,COLUMN(),0)<ScreenHeight!$E2, 1, (SQRT(OFFSET(Ghosts!$T$41,COLUMN(),0)-OFFSET(Ghosts!$R$41,COLUMN(),0)*ScreenHeight!$D2)-1))+IF(Ghosts!$B$35,IF(Param!$M$21,-1-POWER(0.3,Param!$M$21)/(IF(Param!$M$21<20,LightShader!D66,OFFSET(LightShader!D66,Param!$M$21-20,0))+POWER(0.3,Param!$M$21)),-2),0)) -> 1.6245887 | E1: =IF(ScreenHeight!$B2<OFFSET(Radar!$AC$3,COLUMN(),0), Param!$B$38/ScreenHeight!$B2, (Param!$B$37+1/(1-OFFSET(Radar!$AD$3,COLUMN(),0)*ScreenHeight!$C2)/Param!$B$39)/OFFSET(Radar!$AC$3,COLUMN(),0))*DistanceShader!E1*LightShader!E1*(IF(OFFSET(Ghosts!$S$41,COLUMN(),0)<ScreenHeight!$E2, 1, (SQRT(OFFSET(Ghosts!$T$41,COLUMN(),0)-OFFSET(Ghosts!$R$41,COLUMN(),0)*ScreenHeight!$D2)-1))+IF(Ghosts!$B$35,IF(Param!$M$21,-1-POWER(0.3,Param!$M$21)/(IF(Param!$M$21<20,LightShader!E66,OFFSET(LightShader!E66,Param!$M$21-20,0))+POWER(0.3,Param!$M$21)),-2),0)) -> 1.6647198 | F1: =IF(ScreenHeight!$B2<OFFSET(Radar!$AC$3,COLUMN(),0), Param!$B$38/ScreenHeight!$B2, (Param!$B$37+1/(1-OFFSET(Radar!$AD$3,COLUMN(),0)*ScreenHeight!$C2)/Param!$B$39)/OFFSET(Radar!$AC$3,COLUMN(),0))*DistanceShader!F1*LightShader!F1*(IF(OFFSET(Ghosts!$S$41,COLUMN(),0)<ScreenHeight!$E2, 1, (SQRT(OFFSET(Ghosts!$T$41,COLUMN(),0)-OFFSET(Ghosts!$R$41,COLUMN(),0)*ScreenHeight!$D2)-1))+IF(Ghosts!$B$35,IF(Param!$M$21,-1-POWER(0.3,Param!$M$21)/(IF(Param!$M$21<20,LightShader!F66,OFFSET(LightShader!F66,Param!$M$21-20,0))+POWER(0.3,Param!$M$21)),-2),0)) -> 1.7060103 | G1: =IF(ScreenHeight!$B2<OFFSET(Radar!$AC$3,COLUMN(),0), Param!$B$38/ScreenHeight!$B2, (Param!$B$37+1/(1-OFFSET(Radar!$AD$3,COLUMN(),0)*ScreenHeight!$C2)/Param!$B$39)/OFFSET(Radar!$AC$3,COLUMN(),0))*DistanceShader!G1*LightShader!G1*(IF(OFFSET(Ghosts!$S$41,COLUMN(),0)<ScreenHeight!$E2, 1, (SQRT(OFFSET(Ghosts!$T$41,COLUMN(),0)-OFFSET(Ghosts!$R$41,COLUMN(),0)*ScreenHeight!$D2)-1))+IF(Ghosts!$B$35,IF(Param!$M$21,-1-POWER(0.3,Param!$M$21)/(IF(Param!$M$21<20,LightShader!G66,OFFSET(LightShader!G66,Param!$M$21-20,0))+POWER(0.3,Param!$M$21)),-2),0)) -> 1.7484841 | H1: =IF(ScreenHeight!$B2<OFFSET(Radar!$AC$3,COLUMN(),0), Param!$B$38/ScreenHeight!$B2, (Param!$B$37+1/(1-OFFSET(Radar!$AD$3,COLUMN(),0)*ScreenHeight!$C2)/Param!$B$39)/OFFSET(Radar!$AC$3,COLUMN(),0))*DistanceShader!H1*LightShader!H1*(IF(OFFSET(Ghosts!$S$41,COLUMN(),0)<ScreenHeight!$E2, 1, (SQRT(OFFSET(Ghosts!$T$41,COLUMN(),0)-OFFSET(Ghosts!$R$41,COLUMN(),0)*ScreenHeight!$D2)-1))+IF(Ghosts!$B$35,IF(Param!$M$21,-1-POWER(0.3,Param!$M$21)/(IF(Param!$M$21<20,LightShader!H66,OFFSET(LightShader!H66,Param!$M$21-20,0))+POWER(0.3,Param!$M$21)),-2),0)) -> 1.7921642 | ... CW1: =IF(ScreenHeight!$B2<OFFSET(Radar!$AC$3,COLUMN(),0), Param!$B$38/ScreenHeight!$B2, (Param!$B$37+1/(1-OFFSET(Radar!$AD$3,COLUMN(),0)*ScreenHeight!$C2)/Param!$B$39)/OFFSET(Radar!$AC$3,COLUMN(),0))*DistanceShader!CW1*LightShader!CW1*(IF(OFFSET(Ghosts!$S$41,COLUMN(),0)<ScreenHeight!$E2, 1, (SQRT(OFFSET(Ghosts!$T$41,COLUMN(),0)-OFFSET(Ghosts!$R$41,COLUMN(),0)*ScreenHeight!$D2)-1))+IF(Ghosts!$B$35,IF(Param!$M$21,-1-POWER(0.3,Param!$M$21)/(IF(Param!$M$21<20,LightShader!CW66,OFFSET(LightShader!CW66,Param!$M$21-20,0))+POWER(0.3,Param!$M$21)),-2),0)) -> 1.4830017
A2: =IF(ScreenHeight!$B3<OFFSET(Radar!$AC$3,COLUMN(),0), Param!$B$38/ScreenHeight!$B3, (Param!$B$37+1/(1-OFFSET(Radar!$AD$3,COLUMN(),0)*ScreenHeight!$C3)/Param!$B$39)/OFFSET(Radar!$AC$3,COLUMN(),0))*DistanceShader!A2*LightShader!A2*(IF(OFFSET(Ghosts!$S$41,COLUMN(),0)<ScreenHeight!$E3, 1, (SQRT(OFFSET(Ghosts!$T$41,COLUMN(),0)-OFFSET(Ghosts!$R$41,COLUMN(),0)*ScreenHeight!$D3)-1))+IF(Ghosts!$B$35,IF(Param!$M$21,-1-POWER(0.3,Param!$M$21)/(IF(Param!$M$21<20,LightShader!A67,OFFSET(LightShader!A67,Param!$M$21-20,0))+POWER(0.3,Param!$M$21)),-2),0)) -> 1.4830579 | B2: =IF(ScreenHeight!$B3<OFFSET(Radar!$AC$3,COLUMN(),0), Param!$B$38/ScreenHeight!$B3, (Param!$B$37+1/(1-OFFSET(Radar!$AD$3,COLUMN(),0)*ScreenHeight!$C3)/Param!$B$39)/OFFSET(Radar!$AC$3,COLUMN(),0))*DistanceShader!B2*LightShader!B2*(IF(OFFSET(Ghosts!$S$41,COLUMN(),0)<ScreenHeight!$E3, 1, (SQRT(OFFSET(Ghosts!$T$41,COLUMN(),0)-OFFSET(Ghosts!$R$41,COLUMN(),0)*ScreenHeight!$D3)-1))+IF(Ghosts!$B$35,IF(Param!$M$21,-1-POWER(0.3,Param!$M$21)/(IF(Param!$M$21<20,LightShader!B67,OFFSET(LightShader!B67,Param!$M$21-20,0))+POWER(0.3,Param!$M$21)),-2),0)) -> 1.5197453 | C2: =IF(ScreenHeight!$B3<OFFSET(Radar!$AC$3,COLUMN(),0), Param!$B$38/ScreenHeight!$B3, (Param!$B$37+1/(1-OFFSET(Radar!$AD$3,COLUMN(),0)*ScreenHeight!$C3)/Param!$B$39)/OFFSET(Radar!$AC$3,COLUMN(),0))*DistanceShader!C2*LightShader!C2*(IF(OFFSET(Ghosts!$S$41,COLUMN(),0)<ScreenHeight!$E3, 1, (SQRT(OFFSET(Ghosts!$T$41,COLUMN(),0)-OFFSET(Ghosts!$R$41,COLUMN(),0)*ScreenHeight!$D3)-1))+IF(Ghosts!$B$35,IF(Param!$M$21,-1-POWER(0.3,Param!$M$21)/(IF(Param!$M$21<20,LightShader!C67,OFFSET(LightShader!C67,Param!$M$21-20,0))+POWER(0.3,Param!$M$21)),-2),0)) -> 1.5575413 | D2: =IF(ScreenHeight!$B3<OFFSET(Radar!$AC$3,COLUMN(),0), Param!$B$38/ScreenHeight!$B3, (Param!$B$37+1/(1-OFFSET(Radar!$AD$3,COLUMN(),0)*ScreenHeight!$C3)/Param!$B$39)/OFFSET(Radar!$AC$3,COLUMN(),0))*DistanceShader!D2*LightShader!D2*(IF(OFFSET(Ghosts!$S$41,COLUMN(),0)<ScreenHeight!$E3, 1, (SQRT(OFFSET(Ghosts!$T$41,COLUMN(),0)-OFFSET(Ghosts!$R$41,COLUMN(),0)*ScreenHeight!$D3)-1))+IF(Ghosts!$B$35,IF(Param!$M$21,-1-POWER(0.3,Param!$M$21)/(IF(Param!$M$21<20,LightShader!D67,OFFSET(LightShader!D67,Param!$M$21-20,0))+POWER(0.3,Param!$M$21)),-2),0)) -> 1.5964752 | E2: =IF(ScreenHeight!$B3<OFFSET(Radar!$AC$3,COLUMN(),0), Param!$B$38/ScreenHeight!$B3, (Param!$B$37+1/(1-OFFSET(Radar!$AD$3,COLUMN(),0)*ScreenHeight!$C3)/Param!$B$39)/OFFSET(Radar!$AC$3,COLUMN(),0))*DistanceShader!E2*LightShader!E2*(IF(OFFSET(Ghosts!$S$41,COLUMN(),0)<ScreenHeight!$E3, 1, (SQRT(OFFSET(Ghosts!$T$41,COLUMN(),0)-OFFSET(Ghosts!$R$41,COLUMN(),0)*ScreenHeight!$D3)-1))+IF(Ghosts!$B$35,IF(Param!$M$21,-1-POWER(0.3,Param!$M$21)/(IF(Param!$M$21<20,LightShader!E67,OFFSET(LightShader!E67,Param!$M$21-20,0))+POWER(0.3,Param!$M$21)),-2),0)) -> 1.6365762 | F2: =IF(ScreenHeight!$B3<OFFSET(Radar!$AC$3,COLUMN(),0), Param!$B$38/ScreenHeight!$B3, (Param!$B$37+1/(1-OFFSET(Radar!$AD$3,COLUMN(),0)*ScreenHeight!$C3)/Param!$B$39)/OFFSET(Radar!$AC$3,COLUMN(),0))*DistanceShader!F2*LightShader!F2*(IF(OFFSET(Ghosts!$S$41,COLUMN(),0)<ScreenHeight!$E3, 1, (SQRT(OFFSET(Ghosts!$T$41,COLUMN(),0)-OFFSET(Ghosts!$R$41,COLUMN(),0)*ScreenHeight!$D3)-1))+IF(Ghosts!$B$35,IF(Param!$M$21,-1-POWER(0.3,Param!$M$21)/(IF(Param!$M$21<20,LightShader!F67,OFFSET(LightShader!F67,Param!$M$21-20,0))+POWER(0.3,Param!$M$21)),-2),0)) -> 1.6778727 | G2: =IF(ScreenHeight!$B3<OFFSET(Radar!$AC$3,COLUMN(),0), Param!$B$38/ScreenHeight!$B3, (Param!$B$37+1/(1-OFFSET(Radar!$AD$3,COLUMN(),0)*ScreenHeight!$C3)/Param!$B$39)/OFFSET(Radar!$AC$3,COLUMN(),0))*DistanceShader!G2*LightShader!G2*(IF(OFFSET(Ghosts!$S$41,COLUMN(),0)<ScreenHeight!$E3, 1, (SQRT(OFFSET(Ghosts!$T$41,COLUMN(),0)-OFFSET(Ghosts!$R$41,COLUMN(),0)*ScreenHeight!$D3)-1))+IF(Ghosts!$B$35,IF(Param!$M$21,-1-POWER(0.3,Param!$M$21)/(IF(Param!$M$21<20,LightShader!G67,OFFSET(LightShader!G67,Param!$M$21-20,0))+POWER(0.3,Param!$M$21)),-2),0)) -> 1.7203925 | H2: =IF(ScreenHeight!$B3<OFFSET(Radar!$AC$3,COLUMN(),0), Param!$B$38/ScreenHeight!$B3, (Param!$B$37+1/(1-OFFSET(Radar!$AD$3,COLUMN(),0)*ScreenHeight!$C3)/Param!$B$39)/OFFSET(Radar!$AC$3,COLUMN(),0))*DistanceShader!H2*LightShader!H2*(IF(OFFSET(Ghosts!$S$41,COLUMN(),0)<ScreenHeight!$E3, 1, (SQRT(OFFSET(Ghosts!$T$41,COLUMN(),0)-OFFSET(Ghosts!$R$41,COLUMN(),0)*ScreenHeight!$D3)-1))+IF(Ghosts!$B$35,IF(Param!$M$21,-1-POWER(0.3,Param!$M$21)/(IF(Param!$M$21<20,LightShader!H67,OFFSET(LightShader!H67,Param!$M$21-20,0))+POWER(0.3,Param!$M$21)),-2),0)) -> 1.764162 | ... CW2: =IF(ScreenHeight!$B3<OFFSET(Radar!$AC$3,COLUMN(),0), Param!$B$38/ScreenHeight!$B3, (Param!$B$37+1/(1-OFFSET(Radar!$AD$3,COLUMN(),0)*ScreenHeight!$C3)/Param!$B$39)/OFFSET(Radar!$AC$3,COLUMN(),0))*DistanceShader!CW2*LightShader!CW2*(IF(OFFSET(Ghosts!$S$41,COLUMN(),0)<ScreenHeight!$E3, 1, (SQRT(OFFSET(Ghosts!$T$41,COLUMN(),0)-OFFSET(Ghosts!$R$41,COLUMN(),0)*ScreenHeight!$D3)-1))+IF(Ghosts!$B$35,IF(Param!$M$21,-1-POWER(0.3,Param!$M$21)/(IF(Param!$M$21<20,LightShader!CW67,OFFSET(LightShader!CW67,Param!$M$21-20,0))+POWER(0.3,Param!$M$21)),-2),0)) -> 1.4553865
A3: =IF(ScreenHeight!$B4<OFFSET(Radar!$AC$3,COLUMN(),0), Param!$B$38/ScreenHeight!$B4, (Param!$B$37+1/(1-OFFSET(Radar!$AD$3,COLUMN(),0)*ScreenHeight!$C4)/Param!$B$39)/OFFSET(Radar!$AC$3,COLUMN(),0))*DistanceShader!A3*LightShader!A3*(IF(OFFSET(Ghosts!$S$41,COLUMN(),0)<ScreenHeight!$E4, 1, (SQRT(OFFSET(Ghosts!$T$41,COLUMN(),0)-OFFSET(Ghosts!$R$41,COLUMN(),0)*ScreenHeight!$D4)-1))+IF(Ghosts!$B$35,IF(Param!$M$21,-1-POWER(0.3,Param!$M$21)/(IF(Param!$M$21<20,LightShader!A68,OFFSET(LightShader!A68,Param!$M$21-20,0))+POWER(0.3,Param!$M$21)),-2),0)) -> 1.4537042 | B3: =IF(ScreenHeight!$B4<OFFSET(Radar!$AC$3,COLUMN(),0), Param!$B$38/ScreenHeight!$B4, (Param!$B$37+1/(1-OFFSET(Radar!$AD$3,COLUMN(),0)*ScreenHeight!$C4)/Param!$B$39)/OFFSET(Radar!$AC$3,COLUMN(),0))*DistanceShader!B3*LightShader!B3*(IF(OFFSET(Ghosts!$S$41,COLUMN(),0)<ScreenHeight!$E4, 1, (SQRT(OFFSET(Ghosts!$T$41,COLUMN(),0)-OFFSET(Ghosts!$R$41,COLUMN(),0)*ScreenHeight!$D4)-1))+IF(Ghosts!$B$35,IF(Param!$M$21,-1-POWER(0.3,Param!$M$21)/(IF(Param!$M$21<20,LightShader!B68,OFFSET(LightShader!B68,Param!$M$21-20,0))+POWER(0.3,Param!$M$21)),-2),0)) -> 1.4902112 | C3: =IF(ScreenHeight!$B4<OFFSET(Radar!$AC$3,COLUMN(),0), Param!$B$38/ScreenHeight!$B4, (Param!$B$37+1/(1-OFFSET(Radar!$AD$3,COLUMN(),0)*ScreenHeight!$C4)/Param!$B$39)/OFFSET(Radar!$AC$3,COLUMN(),0))*DistanceShader!C3*LightShader!C3*(IF(OFFSET(Ghosts!$S$41,COLUMN(),0)<ScreenHeight!$E4, 1, (SQRT(OFFSET(Ghosts!$T$41,COLUMN(),0)-OFFSET(Ghosts!$R$41,COLUMN(),0)*ScreenHeight!$D4)-1))+IF(Ghosts!$B$35,IF(Param!$M$21,-1-POWER(0.3,Param!$M$21)/(IF(Param!$M$21<20,LightShader!C68,OFFSET(LightShader!C68,Param!$M$21-20,0))+POWER(0.3,Param!$M$21)),-2),0)) -> 1.5278516 | D3: =IF(ScreenHeight!$B4<OFFSET(Radar!$AC$3,COLUMN(),0), Param!$B$38/ScreenHeight!$B4, (Param!$B$37+1/(1-OFFSET(Radar!$AD$3,COLUMN(),0)*ScreenHeight!$C4)/Param!$B$39)/OFFSET(Radar!$AC$3,COLUMN(),0))*DistanceShader!D3*LightShader!D3*(IF(OFFSET(Ghosts!$S$41,COLUMN(),0)<ScreenHeight!$E4, 1, (SQRT(OFFSET(Ghosts!$T$41,COLUMN(),0)-OFFSET(Ghosts!$R$41,COLUMN(),0)*ScreenHeight!$D4)-1))+IF(Ghosts!$B$35,IF(Param!$M$21,-1-POWER(0.3,Param!$M$21)/(IF(Param!$M$21<20,LightShader!D68,OFFSET(LightShader!D68,Param!$M$21-20,0))+POWER(0.3,Param!$M$21)),-2),0)) -> 1.5666577 | E3: =IF(ScreenHeight!$B4<OFFSET(Radar!$AC$3,COLUMN(),0), Param!$B$38/ScreenHeight!$B4, (Param!$B$37+1/(1-OFFSET(Radar!$AD$3,COLUMN(),0)*ScreenHeight!$C4)/Param!$B$39)/OFFSET(Radar!$AC$3,COLUMN(),0))*DistanceShader!E3*LightShader!E3*(IF(OFFSET(Ghosts!$S$41,COLUMN(),0)<ScreenHeight!$E4, 1, (SQRT(OFFSET(Ghosts!$T$41,COLUMN(),0)-OFFSET(Ghosts!$R$41,COLUMN(),0)*ScreenHeight!$D4)-1))+IF(Ghosts!$B$35,IF(Param!$M$21,-1-POWER(0.3,Param!$M$21)/(IF(Param!$M$21<20,LightShader!E68,OFFSET(LightShader!E68,Param!$M$21-20,0))+POWER(0.3,Param!$M$21)),-2),0)) -> 1.6066617 | F3: =IF(ScreenHeight!$B4<OFFSET(Radar!$AC$3,COLUMN(),0), Param!$B$38/ScreenHeight!$B4, (Param!$B$37+1/(1-OFFSET(Radar!$AD$3,COLUMN(),0)*ScreenHeight!$C4)/Param!$B$39)/OFFSET(Radar!$AC$3,COLUMN(),0))*DistanceShader!F3*LightShader!F3*(IF(OFFSET(Ghosts!$S$41,COLUMN(),0)<ScreenHeight!$E4, 1, (SQRT(OFFSET(Ghosts!$T$41,COLUMN(),0)-OFFSET(Ghosts!$R$41,COLUMN(),0)*ScreenHeight!$D4)-1))+IF(Ghosts!$B$35,IF(Param!$M$21,-1-POWER(0.3,Param!$M$21)/(IF(Param!$M$21<20,LightShader!F68,OFFSET(LightShader!F68,Param!$M$21-20,0))+POWER(0.3,Param!$M$21)),-2),0)) -> 1.6478955 | G3: =IF(ScreenHeight!$B4<OFFSET(Radar!$AC$3,COLUMN(),0), Param!$B$38/ScreenHeight!$B4, (Param!$B$37+1/(1-OFFSET(Radar!$AD$3,COLUMN(),0)*ScreenHeight!$C4)/Param!$B$39)/OFFSET(Radar!$AC$3,COLUMN(),0))*DistanceShader!G3*LightShader!G3*(IF(OFFSET(Ghosts!$S$41,COLUMN(),0)<ScreenHeight!$E4, 1, (SQRT(OFFSET(Ghosts!$T$41,COLUMN(),0)-OFFSET(Ghosts!$R$41,COLUMN(),0)*ScreenHeight!$D4)-1))+IF(Ghosts!$B$35,IF(Param!$M$21,-1-POWER(0.3,Param!$M$21)/(IF(Param!$M$21<20,LightShader!G68,OFFSET(LightShader!G68,Param!$M$21-20,0))+POWER(0.3,Param!$M$21)),-2),0)) -> 1.6903904 | H3: =IF(ScreenHeight!$B4<OFFSET(Radar!$AC$3,COLUMN(),0), Param!$B$38/ScreenHeight!$B4, (Param!$B$37+1/(1-OFFSET(Radar!$AD$3,COLUMN(),0)*ScreenHeight!$C4)/Param!$B$39)/OFFSET(Radar!$AC$3,COLUMN(),0))*DistanceShader!H3*LightShader!H3*(IF(OFFSET(Ghosts!$S$41,COLUMN(),0)<ScreenHeight!$E4, 1, (SQRT(OFFSET(Ghosts!$T$41,COLUMN(),0)-OFFSET(Ghosts!$R$41,COLUMN(),0)*ScreenHeight!$D4)-1))+IF(Ghosts!$B$35,IF(Param!$M$21,-1-POWER(0.3,Param!$M$21)/(IF(Param!$M$21<20,LightShader!H68,OFFSET(LightShader!H68,Param!$M$21-20,0))+POWER(0.3,Param!$M$21)),-2),0)) -> 1.734177 | ... CW3: =IF(ScreenHeight!$B4<OFFSET(Radar!$AC$3,COLUMN(),0), Param!$B$38/ScreenHeight!$B4, (Param!$B$37+1/(1-OFFSET(Radar!$AD$3,COLUMN(),0)*ScreenHeight!$C4)/Param!$B$39)/OFFSET(Radar!$AC$3,COLUMN(),0))*DistanceShader!CW3*LightShader!CW3*(IF(OFFSET(Ghosts!$S$41,COLUMN(),0)<ScreenHeight!$E4, 1, (SQRT(OFFSET(Ghosts!$T$41,COLUMN(),0)-OFFSET(Ghosts!$R$41,COLUMN(),0)*ScreenHeight!$D4)-1))+IF(Ghosts!$B$35,IF(Param!$M$21,-1-POWER(0.3,Param!$M$21)/(IF(Param!$M$21<20,LightShader!CW68,OFFSET(LightShader!CW68,Param!$M$21-20,0))+POWER(0.3,Param!$M$21)),-2),0)) -> 1.4262992
A4: =IF(ScreenHeight!$B5<OFFSET(Radar!$AC$3,COLUMN(),0), Param!$B$38/ScreenHeight!$B5, (Param!$B$37+1/(1-OFFSET(Radar!$AD$3,COLUMN(),0)*ScreenHeight!$C5)/Param!$B$39)/OFFSET(Radar!$AC$3,COLUMN(),0))*DistanceShader!A4*LightShader!A4*(IF(OFFSET(Ghosts!$S$41,COLUMN(),0)<ScreenHeight!$E5, 1, (SQRT(OFFSET(Ghosts!$T$41,COLUMN(),0)-OFFSET(Ghosts!$R$41,COLUMN(),0)*ScreenHeight!$D5)-1))+IF(Ghosts!$B$35,IF(Param!$M$21,-1-POWER(0.3,Param!$M$21)/(IF(Param!$M$21<20,LightShader!A69,OFFSET(LightShader!A69,Param!$M$21-20,0))+POWER(0.3,Param!$M$21)),-2),0)) -> 1.4228127 | B4: =IF(ScreenHeight!$B5<OFFSET(Radar!$AC$3,COLUMN(),0), Param!$B$38/ScreenHeight!$B5, (Param!$B$37+1/(1-OFFSET(Radar!$AD$3,COLUMN(),0)*ScreenHeight!$C5)/Param!$B$39)/OFFSET(Radar!$AC$3,COLUMN(),0))*DistanceShader!B4*LightShader!B4*(IF(OFFSET(Ghosts!$S$41,COLUMN(),0)<ScreenHeight!$E5, 1, (SQRT(OFFSET(Ghosts!$T$41,COLUMN(),0)-OFFSET(Ghosts!$R$41,COLUMN(),0)*ScreenHeight!$D5)-1))+IF(Ghosts!$B$35,IF(Param!$M$21,-1-POWER(0.3,Param!$M$21)/(IF(Param!$M$21<20,LightShader!B69,OFFSET(LightShader!B69,Param!$M$21-20,0))+POWER(0.3,Param!$M$21)),-2),0)) -> 1.4590755 | C4: =IF(ScreenHeight!$B5<OFFSET(Radar!$AC$3,COLUMN(),0), Param!$B$38/ScreenHeight!$B5, (Param!$B$37+1/(1-OFFSET(Radar!$AD$3,COLUMN(),0)*ScreenHeight!$C5)/Param!$B$39)/OFFSET(Radar!$AC$3,COLUMN(),0))*DistanceShader!C4*LightShader!C4*(IF(OFFSET(Ghosts!$S$41,COLUMN(),0)<ScreenHeight!$E5, 1, (SQRT(OFFSET(Ghosts!$T$41,COLUMN(),0)-OFFSET(Ghosts!$R$41,COLUMN(),0)*ScreenHeight!$D5)-1))+IF(Ghosts!$B$35,IF(Param!$M$21,-1-POWER(0.3,Param!$M$21)/(IF(Param!$M$21<20,LightShader!C69,OFFSET(LightShader!C69,Param!$M$21-20,0))+POWER(0.3,Param!$M$21)),-2),0)) -> 1.4964942 | D4: =IF(ScreenHeight!$B5<OFFSET(Radar!$AC$3,COLUMN(),0), Param!$B$38/ScreenHeight!$B5, (Param!$B$37+1/(1-OFFSET(Radar!$AD$3,COLUMN(),0)*ScreenHeight!$C5)/Param!$B$39)/OFFSET(Radar!$AC$3,COLUMN(),0))*DistanceShader!D4*LightShader!D4*(IF(OFFSET(Ghosts!$S$41,COLUMN(),0)<ScreenHeight!$E5, 1, (SQRT(OFFSET(Ghosts!$T$41,COLUMN(),0)-OFFSET(Ghosts!$R$41,COLUMN(),0)*ScreenHeight!$D5)-1))+IF(Ghosts!$B$35,IF(Param!$M$21,-1-POWER(0.3,Param!$M$21)/(IF(Param!$M$21<20,LightShader!D69,OFFSET(LightShader!D69,Param!$M$21-20,0))+POWER(0.3,Param!$M$21)),-2),0)) -> 1.5351039 | E4: =IF(ScreenHeight!$B5<OFFSET(Radar!$AC$3,COLUMN(),0), Param!$B$38/ScreenHeight!$B5, (Param!$B$37+1/(1-OFFSET(Radar!$AD$3,COLUMN(),0)*ScreenHeight!$C5)/Param!$B$39)/OFFSET(Radar!$AC$3,COLUMN(),0))*DistanceShader!E4*LightShader!E4*(IF(OFFSET(Ghosts!$S$41,COLUMN(),0)<ScreenHeight!$E5, 1, (SQRT(OFFSET(Ghosts!$T$41,COLUMN(),0)-OFFSET(Ghosts!$R$41,COLUMN(),0)*ScreenHeight!$D5)-1))+IF(Ghosts!$B$35,IF(Param!$M$21,-1-POWER(0.3,Param!$M$21)/(IF(Param!$M$21<20,LightShader!E69,OFFSET(LightShader!E69,Param!$M$21-20,0))+POWER(0.3,Param!$M$21)),-2),0)) -> 1.5749399 | F4: =IF(ScreenHeight!$B5<OFFSET(Radar!$AC$3,COLUMN(),0), Param!$B$38/ScreenHeight!$B5, (Param!$B$37+1/(1-OFFSET(Radar!$AD$3,COLUMN(),0)*ScreenHeight!$C5)/Param!$B$39)/OFFSET(Radar!$AC$3,COLUMN(),0))*DistanceShader!F4*LightShader!F4*(IF(OFFSET(Ghosts!$S$41,COLUMN(),0)<ScreenHeight!$E5, 1, (SQRT(OFFSET(Ghosts!$T$41,COLUMN(),0)-OFFSET(Ghosts!$R$41,COLUMN(),0)*ScreenHeight!$D5)-1))+IF(Ghosts!$B$35,IF(Param!$M$21,-1-POWER(0.3,Param!$M$21)/(IF(Param!$M$21<20,LightShader!F69,OFFSET(LightShader!F69,Param!$M$21-20,0))+POWER(0.3,Param!$M$21)),-2),0)) -> 1.6160376 | G4: =IF(ScreenHeight!$B5<OFFSET(Radar!$AC$3,COLUMN(),0), Param!$B$38/ScreenHeight!$B5, (Param!$B$37+1/(1-OFFSET(Radar!$AD$3,COLUMN(),0)*ScreenHeight!$C5)/Param!$B$39)/OFFSET(Radar!$AC$3,COLUMN(),0))*DistanceShader!G4*LightShader!G4*(IF(OFFSET(Ghosts!$S$41,COLUMN(),0)<ScreenHeight!$E5, 1, (SQRT(OFFSET(Ghosts!$T$41,COLUMN(),0)-OFFSET(Ghosts!$R$41,COLUMN(),0)*ScreenHeight!$D5)-1))+IF(Ghosts!$B$35,IF(Param!$M$21,-1-POWER(0.3,Param!$M$21)/(IF(Param!$M$21<20,LightShader!G69,OFFSET(LightShader!G69,Param!$M$21-20,0))+POWER(0.3,Param!$M$21)),-2),0)) -> 1.6584321 | H4: =IF(ScreenHeight!$B5<OFFSET(Radar!$AC$3,COLUMN(),0), Param!$B$38/ScreenHeight!$B5, (Param!$B$37+1/(1-OFFSET(Radar!$AD$3,COLUMN(),0)*ScreenHeight!$C5)/Param!$B$39)/OFFSET(Radar!$AC$3,COLUMN(),0))*DistanceShader!H4*LightShader!H4*(IF(OFFSET(Ghosts!$S$41,COLUMN(),0)<ScreenHeight!$E5, 1, (SQRT(OFFSET(Ghosts!$T$41,COLUMN(),0)-OFFSET(Ghosts!$R$41,COLUMN(),0)*ScreenHeight!$D5)-1))+IF(Ghosts!$B$35,IF(Param!$M$21,-1-POWER(0.3,Param!$M$21)/(IF(Param!$M$21<20,LightShader!H69,OFFSET(LightShader!H69,Param!$M$21-20,0))+POWER(0.3,Param!$M$21)),-2),0)) -> 1.7021577 | ... CW4: =IF(ScreenHeight!$B5<OFFSET(Radar!$AC$3,COLUMN(),0), Param!$B$38/ScreenHeight!$B5, (Param!$B$37+1/(1-OFFSET(Radar!$AD$3,COLUMN(),0)*ScreenHeight!$C5)/Param!$B$39)/OFFSET(Radar!$AC$3,COLUMN(),0))*DistanceShader!CW4*LightShader!CW4*(IF(OFFSET(Ghosts!$S$41,COLUMN(),0)<ScreenHeight!$E5, 1, (SQRT(OFFSET(Ghosts!$T$41,COLUMN(),0)-OFFSET(Ghosts!$R$41,COLUMN(),0)*ScreenHeight!$D5)-1))+IF(Ghosts!$B$35,IF(Param!$M$21,-1-POWER(0.3,Param!$M$21)/(IF(Param!$M$21<20,LightShader!CW69,OFFSET(LightShader!CW69,Param!$M$21-20,0))+POWER(0.3,Param!$M$21)),-2),0)) -> 1.3957194
A5: =IF(ScreenHeight!$B6<OFFSET(Radar!$AC$3,COLUMN(),0), Param!$B$38/ScreenHeight!$B6, (Param!$B$37+1/(1-OFFSET(Radar!$AD$3,COLUMN(),0)*ScreenHeight!$C6)/Param!$B$39)/OFFSET(Radar!$AC$3,COLUMN(),0))*DistanceShader!A5*LightShader!A5*(IF(OFFSET(Ghosts!$S$41,COLUMN(),0)<ScreenHeight!$E6, 1, (SQRT(OFFSET(Ghosts!$T$41,COLUMN(),0)-OFFSET(Ghosts!$R$41,COLUMN(),0)*ScreenHeight!$D6)-1))+IF(Ghosts!$B$35,IF(Param!$M$21,-1-POWER(0.3,Param!$M$21)/(IF(Param!$M$21<20,LightShader!A70,OFFSET(LightShader!A70,Param!$M$21-20,0))+POWER(0.3,Param!$M$21)),-2),0)) -> 1.3903649 | B5: =IF(ScreenHeight!$B6<OFFSET(Radar!$AC$3,COLUMN(),0), Param!$B$38/ScreenHeight!$B6, (Param!$B$37+1/(1-OFFSET(Radar!$AD$3,COLUMN(),0)*ScreenHeight!$C6)/Param!$B$39)/OFFSET(Radar!$AC$3,COLUMN(),0))*DistanceShader!B5*LightShader!B5*(IF(OFFSET(Ghosts!$S$41,COLUMN(),0)<ScreenHeight!$E6, 1, (SQRT(OFFSET(Ghosts!$T$41,COLUMN(),0)-OFFSET(Ghosts!$R$41,COLUMN(),0)*ScreenHeight!$D6)-1))+IF(Ghosts!$B$35,IF(Param!$M$21,-1-POWER(0.3,Param!$M$21)/(IF(Param!$M$21<20,LightShader!B70,OFFSET(LightShader!B70,Param!$M$21-20,0))+POWER(0.3,Param!$M$21)),-2),0)) -> 1.4263167 | C5: =IF(ScreenHeight!$B6<OFFSET(Radar!$AC$3,COLUMN(),0), Param!$B$38/ScreenHeight!$B6, (Param!$B$37+1/(1-OFFSET(Radar!$AD$3,COLUMN(),0)*ScreenHeight!$C6)/Param!$B$39)/OFFSET(Radar!$AC$3,COLUMN(),0))*DistanceShader!C5*LightShader!C5*(IF(OFFSET(Ghosts!$S$41,COLUMN(),0)<ScreenHeight!$E6, 1, (SQRT(OFFSET(Ghosts!$T$41,COLUMN(),0)-OFFSET(Ghosts!$R$41,COLUMN(),0)*ScreenHeight!$D6)-1))+IF(Ghosts!$B$35,IF(Param!$M$21,-1-POWER(0.3,Param!$M$21)/(IF(Param!$M$21<20,LightShader!C70,OFFSET(LightShader!C70,Param!$M$21-20,0))+POWER(0.3,Param!$M$21)),-2),0)) -> 1.4634441 | D5: =IF(ScreenHeight!$B6<OFFSET(Radar!$AC$3,COLUMN(),0), Param!$B$38/ScreenHeight!$B6, (Param!$B$37+1/(1-OFFSET(Radar!$AD$3,COLUMN(),0)*ScreenHeight!$C6)/Param!$B$39)/OFFSET(Radar!$AC$3,COLUMN(),0))*DistanceShader!D5*LightShader!D5*(IF(OFFSET(Ghosts!$S$41,COLUMN(),0)<ScreenHeight!$E6, 1, (SQRT(OFFSET(Ghosts!$T$41,COLUMN(),0)-OFFSET(Ghosts!$R$41,COLUMN(),0)*ScreenHeight!$D6)-1))+IF(Ghosts!$B$35,IF(Param!$M$21,-1-POWER(0.3,Param!$M$21)/(IF(Param!$M$21<20,LightShader!D70,OFFSET(LightShader!D70,Param!$M$21-20,0))+POWER(0.3,Param!$M$21)),-2),0)) -> 1.5017851 | E5: =IF(ScreenHeight!$B6<OFFSET(Radar!$AC$3,COLUMN(),0), Param!$B$38/ScreenHeight!$B6, (Param!$B$37+1/(1-OFFSET(Radar!$AD$3,COLUMN(),0)*ScreenHeight!$C6)/Param!$B$39)/OFFSET(Radar!$AC$3,COLUMN(),0))*DistanceShader!E5*LightShader!E5*(IF(OFFSET(Ghosts!$S$41,COLUMN(),0)<ScreenHeight!$E6, 1, (SQRT(OFFSET(Ghosts!$T$41,COLUMN(),0)-OFFSET(Ghosts!$R$41,COLUMN(),0)*ScreenHeight!$D6)-1))+IF(Ghosts!$B$35,IF(Param!$M$21,-1-POWER(0.3,Param!$M$21)/(IF(Param!$M$21<20,LightShader!E70,OFFSET(LightShader!E70,Param!$M$21-20,0))+POWER(0.3,Param!$M$21)),-2),0)) -> 1.5413782 | F5: =IF(ScreenHeight!$B6<OFFSET(Radar!$AC$3,COLUMN(),0), Param!$B$38/ScreenHeight!$B6, (Param!$B$37+1/(1-OFFSET(Radar!$AD$3,COLUMN(),0)*ScreenHeight!$C6)/Param!$B$39)/OFFSET(Radar!$AC$3,COLUMN(),0))*DistanceShader!F5*LightShader!F5*(IF(OFFSET(Ghosts!$S$41,COLUMN(),0)<ScreenHeight!$E6, 1, (SQRT(OFFSET(Ghosts!$T$41,COLUMN(),0)-OFFSET(Ghosts!$R$41,COLUMN(),0)*ScreenHeight!$D6)-1))+IF(Ghosts!$B$35,IF(Param!$M$21,-1-POWER(0.3,Param!$M$21)/(IF(Param!$M$21<20,LightShader!F70,OFFSET(LightShader!F70,Param!$M$21-20,0))+POWER(0.3,Param!$M$21)),-2),0)) -> 1.582262 | G5: =IF(ScreenHeight!$B6<OFFSET(Radar!$AC$3,COLUMN(),0), Param!$B$38/ScreenHeight!$B6, (Param!$B$37+1/(1-OFFSET(Radar!$AD$3,COLUMN(),0)*ScreenHeight!$C6)/Param!$B$39)/OFFSET(Radar!$AC$3,COLUMN(),0))*DistanceShader!G5*LightShader!G5*(IF(OFFSET(Ghosts!$S$41,COLUMN(),0)<ScreenHeight!$E6, 1, (SQRT(OFFSET(Ghosts!$T$41,COLUMN(),0)-OFFSET(Ghosts!$R$41,COLUMN(),0)*ScreenHeight!$D6)-1))+IF(Ghosts!$B$35,IF(Param!$M$21,-1-POWER(0.3,Param!$M$21)/(IF(Param!$M$21<20,LightShader!G70,OFFSET(LightShader!G70,Param!$M$21-20,0))+POWER(0.3,Param!$M$21)),-2),0)) -> 1.6244754 | H5: =IF(ScreenHeight!$B6<OFFSET(Radar!$AC$3,COLUMN(),0), Param!$B$38/ScreenHeight!$B6, (Param!$B$37+1/(1-OFFSET(Radar!$AD$3,COLUMN(),0)*ScreenHeight!$C6)/Param!$B$39)/OFFSET(Radar!$AC$3,COLUMN(),0))*DistanceShader!H5*LightShader!H5*(IF(OFFSET(Ghosts!$S$41,COLUMN(),0)<ScreenHeight!$E6, 1, (SQRT(OFFSET(Ghosts!$T$41,COLUMN(),0)-OFFSET(Ghosts!$R$41,COLUMN(),0)*ScreenHeight!$D6)-1))+IF(Ghosts!$B$35,IF(Param!$M$21,-1-POWER(0.3,Param!$M$21)/(IF(Param!$M$21<20,LightShader!H70,OFFSET(LightShader!H70,Param!$M$21-20,0))+POWER(0.3,Param!$M$21)),-2),0)) -> 1.6680569 | ... CW5: =IF(ScreenHeight!$B6<OFFSET(Radar!$AC$3,COLUMN(),0), Param!$B$38/ScreenHeight!$B6, (Param!$B$37+1/(1-OFFSET(Radar!$AD$3,COLUMN(),0)*ScreenHeight!$C6)/Param!$B$39)/OFFSET(Radar!$AC$3,COLUMN(),0))*DistanceShader!CW5*LightShader!CW5*(IF(OFFSET(Ghosts!$S$41,COLUMN(),0)<ScreenHeight!$E6, 1, (SQRT(OFFSET(Ghosts!$T$41,COLUMN(),0)-OFFSET(Ghosts!$R$41,COLUMN(),0)*ScreenHeight!$D6)-1))+IF(Ghosts!$B$35,IF(Param!$M$21,-1-POWER(0.3,Param!$M$21)/(IF(Param!$M$21<20,LightShader!CW70,OFFSET(LightShader!CW70,Param!$M$21-20,0))+POWER(0.3,Param!$M$21)),-2),0)) -> 1.3636297
A6: =IF(ScreenHeight!$B7<OFFSET(Radar!$AC$3,COLUMN(),0), Param!$B$38/ScreenHeight!$B7, (Param!$B$37+1/(1-OFFSET(Radar!$AD$3,COLUMN(),0)*ScreenHeight!$C7)/Param!$B$39)/OFFSET(Radar!$AC$3,COLUMN(),0))*DistanceShader!A6*LightShader!A6*(IF(OFFSET(Ghosts!$S$41,COLUMN(),0)<ScreenHeight!$E7, 1, (SQRT(OFFSET(Ghosts!$T$41,COLUMN(),0)-OFFSET(Ghosts!$R$41,COLUMN(),0)*ScreenHeight!$D7)-1))+IF(Ghosts!$B$35,IF(Param!$M$21,-1-POWER(0.3,Param!$M$21)/(IF(Param!$M$21<20,LightShader!A71,OFFSET(LightShader!A71,Param!$M$21-20,0))+POWER(0.3,Param!$M$21)),-2),0)) -> 1.3563459 | B6: =IF(ScreenHeight!$B7<OFFSET(Radar!$AC$3,COLUMN(),0), Param!$B$38/ScreenHeight!$B7, (Param!$B$37+1/(1-OFFSET(Radar!$AD$3,COLUMN(),0)*ScreenHeight!$C7)/Param!$B$39)/OFFSET(Radar!$AC$3,COLUMN(),0))*DistanceShader!B6*LightShader!B6*(IF(OFFSET(Ghosts!$S$41,COLUMN(),0)<ScreenHeight!$E7, 1, (SQRT(OFFSET(Ghosts!$T$41,COLUMN(),0)-OFFSET(Ghosts!$R$41,COLUMN(),0)*ScreenHeight!$D7)-1))+IF(Ghosts!$B$35,IF(Param!$M$21,-1-POWER(0.3,Param!$M$21)/(IF(Param!$M$21<20,LightShader!B71,OFFSET(LightShader!B71,Param!$M$21-20,0))+POWER(0.3,Param!$M$21)),-2),0)) -> 1.391917 | C6: =IF(ScreenHeight!$B7<OFFSET(Radar!$AC$3,COLUMN(),0), Param!$B$38/ScreenHeight!$B7, (Param!$B$37+1/(1-OFFSET(Radar!$AD$3,COLUMN(),0)*ScreenHeight!$C7)/Param!$B$39)/OFFSET(Radar!$AC$3,COLUMN(),0))*DistanceShader!C6*LightShader!C6*(IF(OFFSET(Ghosts!$S$41,COLUMN(),0)<ScreenHeight!$E7, 1, (SQRT(OFFSET(Ghosts!$T$41,COLUMN(),0)-OFFSET(Ghosts!$R$41,COLUMN(),0)*ScreenHeight!$D7)-1))+IF(Ghosts!$B$35,IF(Param!$M$21,-1-POWER(0.3,Param!$M$21)/(IF(Param!$M$21<20,LightShader!C71,OFFSET(LightShader!C71,Param!$M$21-20,0))+POWER(0.3,Param!$M$21)),-2),0)) -> 1.4286804 | D6: =IF(ScreenHeight!$B7<OFFSET(Radar!$AC$3,COLUMN(),0), Param!$B$38/ScreenHeight!$B7, (Param!$B$37+1/(1-OFFSET(Radar!$AD$3,COLUMN(),0)*ScreenHeight!$C7)/Param!$B$39)/OFFSET(Radar!$AC$3,COLUMN(),0))*DistanceShader!D6*LightShader!D6*(IF(OFFSET(Ghosts!$S$41,COLUMN(),0)<ScreenHeight!$E7, 1, (SQRT(OFFSET(Ghosts!$T$41,COLUMN(),0)-OFFSET(Ghosts!$R$41,COLUMN(),0)*ScreenHeight!$D7)-1))+IF(Ghosts!$B$35,IF(Param!$M$21,-1-POWER(0.3,Param!$M$21)/(IF(Param!$M$21<20,LightShader!D71,OFFSET(LightShader!D71,Param!$M$21-20,0))+POWER(0.3,Param!$M$21)),-2),0)) -> 1.4666769 | E6: =IF(ScreenHeight!$B7<OFFSET(Radar!$AC$3,COLUMN(),0), Param!$B$38/ScreenHeight!$B7, (Param!$B$37+1/(1-OFFSET(Radar!$AD$3,COLUMN(),0)*ScreenHeight!$C7)/Param!$B$39)/OFFSET(Radar!$AC$3,COLUMN(),0))*DistanceShader!E6*LightShader!E6*(IF(OFFSET(Ghosts!$S$41,COLUMN(),0)<ScreenHeight!$E7, 1, (SQRT(OFFSET(Ghosts!$T$41,COLUMN(),0)-OFFSET(Ghosts!$R$41,COLUMN(),0)*ScreenHeight!$D7)-1))+IF(Ghosts!$B$35,IF(Param!$M$21,-1-POWER(0.3,Param!$M$21)/(IF(Param!$M$21<20,LightShader!E71,OFFSET(LightShader!E71,Param!$M$21-20,0))+POWER(0.3,Param!$M$21)),-2),0)) -> 1.505948 | F6: =IF(ScreenHeight!$B7<OFFSET(Radar!$AC$3,COLUMN(),0), Param!$B$38/ScreenHeight!$B7, (Param!$B$37+1/(1-OFFSET(Radar!$AD$3,COLUMN(),0)*ScreenHeight!$C7)/Param!$B$39)/OFFSET(Radar!$AC$3,COLUMN(),0))*DistanceShader!F6*LightShader!F6*(IF(OFFSET(Ghosts!$S$41,COLUMN(),0)<ScreenHeight!$E7, 1, (SQRT(OFFSET(Ghosts!$T$41,COLUMN(),0)-OFFSET(Ghosts!$R$41,COLUMN(),0)*ScreenHeight!$D7)-1))+IF(Ghosts!$B$35,IF(Param!$M$21,-1-POWER(0.3,Param!$M$21)/(IF(Param!$M$21<20,LightShader!F71,OFFSET(LightShader!F71,Param!$M$21-20,0))+POWER(0.3,Param!$M$21)),-2),0)) -> 1.5465358 | G6: =IF(ScreenHeight!$B7<OFFSET(Radar!$AC$3,COLUMN(),0), Param!$B$38/ScreenHeight!$B7, (Param!$B$37+1/(1-OFFSET(Radar!$AD$3,COLUMN(),0)*ScreenHeight!$C7)/Param!$B$39)/OFFSET(Radar!$AC$3,COLUMN(),0))*DistanceShader!G6*LightShader!G6*(IF(OFFSET(Ghosts!$S$41,COLUMN(),0)<ScreenHeight!$E7, 1, (SQRT(OFFSET(Ghosts!$T$41,COLUMN(),0)-OFFSET(Ghosts!$R$41,COLUMN(),0)*ScreenHeight!$D7)-1))+IF(Ghosts!$B$35,IF(Param!$M$21,-1-POWER(0.3,Param!$M$21)/(IF(Param!$M$21<20,LightShader!G71,OFFSET(LightShader!G71,Param!$M$21-20,0))+POWER(0.3,Param!$M$21)),-2),0)) -> 1.5884828 | H6: =IF(ScreenHeight!$B7<OFFSET(Radar!$AC$3,COLUMN(),0), Param!$B$38/ScreenHeight!$B7, (Param!$B$37+1/(1-OFFSET(Radar!$AD$3,COLUMN(),0)*ScreenHeight!$C7)/Param!$B$39)/OFFSET(Radar!$AC$3,COLUMN(),0))*DistanceShader!H6*LightShader!H6*(IF(OFFSET(Ghosts!$S$41,COLUMN(),0)<ScreenHeight!$E7, 1, (SQRT(OFFSET(Ghosts!$T$41,COLUMN(),0)-OFFSET(Ghosts!$R$41,COLUMN(),0)*ScreenHeight!$D7)-1))+IF(Ghosts!$B$35,IF(Param!$M$21,-1-POWER(0.3,Param!$M$21)/(IF(Param!$M$21<20,LightShader!H71,OFFSET(LightShader!H71,Param!$M$21-20,0))+POWER(0.3,Param!$M$21)),-2),0)) -> 1.6318316 | ... CW6: =IF(ScreenHeight!$B7<OFFSET(Radar!$AC$3,COLUMN(),0), Param!$B$38/ScreenHeight!$B7, (Param!$B$37+1/(1-OFFSET(Radar!$AD$3,COLUMN(),0)*ScreenHeight!$C7)/Param!$B$39)/OFFSET(Radar!$AC$3,COLUMN(),0))*DistanceShader!CW6*LightShader!CW6*(IF(OFFSET(Ghosts!$S$41,COLUMN(),0)<ScreenHeight!$E7, 1, (SQRT(OFFSET(Ghosts!$T$41,COLUMN(),0)-OFFSET(Ghosts!$R$41,COLUMN(),0)*ScreenHeight!$D7)-1))+IF(Ghosts!$B$35,IF(Param!$M$21,-1-POWER(0.3,Param!$M$21)/(IF(Param!$M$21<20,LightShader!CW71,OFFSET(LightShader!CW71,Param!$M$21-20,0))+POWER(0.3,Param!$M$21)),-2),0)) -> 1.3300168
A7: =IF(ScreenHeight!$B8<OFFSET(Radar!$AC$3,COLUMN(),0), Param!$B$38/ScreenHeight!$B8, (Param!$B$37+1/(1-OFFSET(Radar!$AD$3,COLUMN(),0)*ScreenHeight!$C8)/Param!$B$39)/OFFSET(Radar!$AC$3,COLUMN(),0))*DistanceShader!A7*LightShader!A7*(IF(OFFSET(Ghosts!$S$41,COLUMN(),0)<ScreenHeight!$E8, 1, (SQRT(OFFSET(Ghosts!$T$41,COLUMN(),0)-OFFSET(Ghosts!$R$41,COLUMN(),0)*ScreenHeight!$D8)-1))+IF(Ghosts!$B$35,IF(Param!$M$21,-1-POWER(0.3,Param!$M$21)/(IF(Param!$M$21<20,LightShader!A72,OFFSET(LightShader!A72,Param!$M$21-20,0))+POWER(0.3,Param!$M$21)),-2),0)) -> 1.320745 | B7: =IF(ScreenHeight!$B8<OFFSET(Radar!$AC$3,COLUMN(),0), Param!$B$38/ScreenHeight!$B8, (Param!$B$37+1/(1-OFFSET(Radar!$AD$3,COLUMN(),0)*ScreenHeight!$C8)/Param!$B$39)/OFFSET(Radar!$AC$3,COLUMN(),0))*DistanceShader!B7*LightShader!B7*(IF(OFFSET(Ghosts!$S$41,COLUMN(),0)<ScreenHeight!$E8, 1, (SQRT(OFFSET(Ghosts!$T$41,COLUMN(),0)-OFFSET(Ghosts!$R$41,COLUMN(),0)*ScreenHeight!$D8)-1))+IF(Ghosts!$B$35,IF(Param!$M$21,-1-POWER(0.3,Param!$M$21)/(IF(Param!$M$21<20,LightShader!B72,OFFSET(LightShader!B72,Param!$M$21-20,0))+POWER(0.3,Param!$M$21)),-2),0)) -> 1.3558629 | C7: =IF(ScreenHeight!$B8<OFFSET(Radar!$AC$3,COLUMN(),0), Param!$B$38/ScreenHeight!$B8, (Param!$B$37+1/(1-OFFSET(Radar!$AD$3,COLUMN(),0)*ScreenHeight!$C8)/Param!$B$39)/OFFSET(Radar!$AC$3,COLUMN(),0))*DistanceShader!C7*LightShader!C7*(IF(OFFSET(Ghosts!$S$41,COLUMN(),0)<ScreenHeight!$E8, 1, (SQRT(OFFSET(Ghosts!$T$41,COLUMN(),0)-OFFSET(Ghosts!$R$41,COLUMN(),0)*ScreenHeight!$D8)-1))+IF(Ghosts!$B$35,IF(Param!$M$21,-1-POWER(0.3,Param!$M$21)/(IF(Param!$M$21<20,LightShader!C72,OFFSET(LightShader!C72,Param!$M$21-20,0))+POWER(0.3,Param!$M$21)),-2),0)) -> 1.3921865 | D7: =IF(ScreenHeight!$B8<OFFSET(Radar!$AC$3,COLUMN(),0), Param!$B$38/ScreenHeight!$B8, (Param!$B$37+1/(1-OFFSET(Radar!$AD$3,COLUMN(),0)*ScreenHeight!$C8)/Param!$B$39)/OFFSET(Radar!$AC$3,COLUMN(),0))*DistanceShader!D7*LightShader!D7*(IF(OFFSET(Ghosts!$S$41,COLUMN(),0)<ScreenHeight!$E8, 1, (SQRT(OFFSET(Ghosts!$T$41,COLUMN(),0)-OFFSET(Ghosts!$R$41,COLUMN(),0)*ScreenHeight!$D8)-1))+IF(Ghosts!$B$35,IF(Param!$M$21,-1-POWER(0.3,Param!$M$21)/(IF(Param!$M$21<20,LightShader!D72,OFFSET(LightShader!D72,Param!$M$21-20,0))+POWER(0.3,Param!$M$21)),-2),0)) -> 1.4297593 | E7: =IF(ScreenHeight!$B8<OFFSET(Radar!$AC$3,COLUMN(),0), Param!$B$38/ScreenHeight!$B8, (Param!$B$37+1/(1-OFFSET(Radar!$AD$3,COLUMN(),0)*ScreenHeight!$C8)/Param!$B$39)/OFFSET(Radar!$AC$3,COLUMN(),0))*DistanceShader!E7*LightShader!E7*(IF(OFFSET(Ghosts!$S$41,COLUMN(),0)<ScreenHeight!$E8, 1, (SQRT(OFFSET(Ghosts!$T$41,COLUMN(),0)-OFFSET(Ghosts!$R$41,COLUMN(),0)*ScreenHeight!$D8)-1))+IF(Ghosts!$B$35,IF(Param!$M$21,-1-POWER(0.3,Param!$M$21)/(IF(Param!$M$21<20,LightShader!E72,OFFSET(LightShader!E72,Param!$M$21-20,0))+POWER(0.3,Param!$M$21)),-2),0)) -> 1.4686257 | F7: =IF(ScreenHeight!$B8<OFFSET(Radar!$AC$3,COLUMN(),0), Param!$B$38/ScreenHeight!$B8, (Param!$B$37+1/(1-OFFSET(Radar!$AD$3,COLUMN(),0)*ScreenHeight!$C8)/Param!$B$39)/OFFSET(Radar!$AC$3,COLUMN(),0))*DistanceShader!F7*LightShader!F7*(IF(OFFSET(Ghosts!$S$41,COLUMN(),0)<ScreenHeight!$E8, 1, (SQRT(OFFSET(Ghosts!$T$41,COLUMN(),0)-OFFSET(Ghosts!$R$41,COLUMN(),0)*ScreenHeight!$D8)-1))+IF(Ghosts!$B$35,IF(Param!$M$21,-1-POWER(0.3,Param!$M$21)/(IF(Param!$M$21<20,LightShader!F72,OFFSET(LightShader!F72,Param!$M$21-20,0))+POWER(0.3,Param!$M$21)),-2),0)) -> 1.5088311 | G7: =IF(ScreenHeight!$B8<OFFSET(Radar!$AC$3,COLUMN(),0), Param!$B$38/ScreenHeight!$B8, (Param!$B$37+1/(1-OFFSET(Radar!$AD$3,COLUMN(),0)*ScreenHeight!$C8)/Param!$B$39)/OFFSET(Radar!$AC$3,COLUMN(),0))*DistanceShader!G7*LightShader!G7*(IF(OFFSET(Ghosts!$S$41,COLUMN(),0)<ScreenHeight!$E8, 1, (SQRT(OFFSET(Ghosts!$T$41,COLUMN(),0)-OFFSET(Ghosts!$R$41,COLUMN(),0)*ScreenHeight!$D8)-1))+IF(Ghosts!$B$35,IF(Param!$M$21,-1-POWER(0.3,Param!$M$21)/(IF(Param!$M$21<20,LightShader!G72,OFFSET(LightShader!G72,Param!$M$21-20,0))+POWER(0.3,Param!$M$21)),-2),0)) -> 1.5504216 | H7: =IF(ScreenHeight!$B8<OFFSET(Radar!$AC$3,COLUMN(),0), Param!$B$38/ScreenHeight!$B8, (Param!$B$37+1/(1-OFFSET(Radar!$AD$3,COLUMN(),0)*ScreenHeight!$C8)/Param!$B$39)/OFFSET(Radar!$AC$3,COLUMN(),0))*DistanceShader!H7*LightShader!H7*(IF(OFFSET(Ghosts!$S$41,COLUMN(),0)<ScreenHeight!$E8, 1, (SQRT(OFFSET(Ghosts!$T$41,COLUMN(),0)-OFFSET(Ghosts!$R$41,COLUMN(),0)*ScreenHeight!$D8)-1))+IF(Ghosts!$B$35,IF(Param!$M$21,-1-POWER(0.3,Param!$M$21)/(IF(Param!$M$21<20,LightShader!H72,OFFSET(LightShader!H72,Param!$M$21-20,0))+POWER(0.3,Param!$M$21)),-2),0)) -> 1.5934439 | ... CW7: =IF(ScreenHeight!$B8<OFFSET(Radar!$AC$3,COLUMN(),0), Param!$B$38/ScreenHeight!$B8, (Param!$B$37+1/(1-OFFSET(Radar!$AD$3,COLUMN(),0)*ScreenHeight!$C8)/Param!$B$39)/OFFSET(Radar!$AC$3,COLUMN(),0))*DistanceShader!CW7*LightShader!CW7*(IF(OFFSET(Ghosts!$S$41,COLUMN(),0)<ScreenHeight!$E8, 1, (SQRT(OFFSET(Ghosts!$T$41,COLUMN(),0)-OFFSET(Ghosts!$R$41,COLUMN(),0)*ScreenHeight!$D8)-1))+IF(Ghosts!$B$35,IF(Param!$M$21,-1-POWER(0.3,Param!$M$21)/(IF(Param!$M$21<20,LightShader!CW72,OFFSET(LightShader!CW72,Param!$M$21-20,0))+POWER(0.3,Param!$M$21)),-2),0)) -> 1.2948709
A8: =IF(ScreenHeight!$B9<OFFSET(Radar!$AC$3,COLUMN(),0), Param!$B$38/ScreenHeight!$B9, (Param!$B$37+1/(1-OFFSET(Radar!$AD$3,COLUMN(),0)*ScreenHeight!$C9)/Param!$B$39)/OFFSET(Radar!$AC$3,COLUMN(),0))*DistanceShader!A8*LightShader!A8*(IF(OFFSET(Ghosts!$S$41,COLUMN(),0)<ScreenHeight!$E9, 1, (SQRT(OFFSET(Ghosts!$T$41,COLUMN(),0)-OFFSET(Ghosts!$R$41,COLUMN(),0)*ScreenHeight!$D9)-1))+IF(Ghosts!$B$35,IF(Param!$M$21,-1-POWER(0.3,Param!$M$21)/(IF(Param!$M$21<20,LightShader!A73,OFFSET(LightShader!A73,Param!$M$21-20,0))+POWER(0.3,Param!$M$21)),-2),0)) -> 1.283556 | B8: =IF(ScreenHeight!$B9<OFFSET(Radar!$AC$3,COLUMN(),0), Param!$B$38/ScreenHeight!$B9, (Param!$B$37+1/(1-OFFSET(Radar!$AD$3,COLUMN(),0)*ScreenHeight!$C9)/Param!$B$39)/OFFSET(Radar!$AC$3,COLUMN(),0))*DistanceShader!B8*LightShader!B8*(IF(OFFSET(Ghosts!$S$41,COLUMN(),0)<ScreenHeight!$E9, 1, (SQRT(OFFSET(Ghosts!$T$41,COLUMN(),0)-OFFSET(Ghosts!$R$41,COLUMN(),0)*ScreenHeight!$D9)-1))+IF(Ghosts!$B$35,IF(Param!$M$21,-1-POWER(0.3,Param!$M$21)/(IF(Param!$M$21<20,LightShader!B73,OFFSET(LightShader!B73,Param!$M$21-20,0))+POWER(0.3,Param!$M$21)),-2),0)) -> 1.3181458 | C8: =IF(ScreenHeight!$B9<OFFSET(Radar!$AC$3,COLUMN(),0), Param!$B$38/ScreenHeight!$B9, (Param!$B$37+1/(1-OFFSET(Radar!$AD$3,COLUMN(),0)*ScreenHeight!$C9)/Param!$B$39)/OFFSET(Radar!$AC$3,COLUMN(),0))*DistanceShader!C8*LightShader!C8*(IF(OFFSET(Ghosts!$S$41,COLUMN(),0)<ScreenHeight!$E9, 1, (SQRT(OFFSET(Ghosts!$T$41,COLUMN(),0)-OFFSET(Ghosts!$R$41,COLUMN(),0)*ScreenHeight!$D9)-1))+IF(Ghosts!$B$35,IF(Param!$M$21,-1-POWER(0.3,Param!$M$21)/(IF(Param!$M$21<20,LightShader!C73,OFFSET(LightShader!C73,Param!$M$21-20,0))+POWER(0.3,Param!$M$21)),-2),0)) -> 1.353951 | D8: =IF(ScreenHeight!$B9<OFFSET(Radar!$AC$3,COLUMN(),0), Param!$B$38/ScreenHeight!$B9, (Param!$B$37+1/(1-OFFSET(Radar!$AD$3,COLUMN(),0)*ScreenHeight!$C9)/Param!$B$39)/OFFSET(Radar!$AC$3,COLUMN(),0))*DistanceShader!D8*LightShader!D8*(IF(OFFSET(Ghosts!$S$41,COLUMN(),0)<ScreenHeight!$E9, 1, (SQRT(OFFSET(Ghosts!$T$41,COLUMN(),0)-OFFSET(Ghosts!$R$41,COLUMN(),0)*ScreenHeight!$D9)-1))+IF(Ghosts!$B$35,IF(Param!$M$21,-1-POWER(0.3,Param!$M$21)/(IF(Param!$M$21<20,LightShader!D73,OFFSET(LightShader!D73,Param!$M$21-20,0))+POWER(0.3,Param!$M$21)),-2),0)) -> 1.3910175 | E8: =IF(ScreenHeight!$B9<OFFSET(Radar!$AC$3,COLUMN(),0), Param!$B$38/ScreenHeight!$B9, (Param!$B$37+1/(1-OFFSET(Radar!$AD$3,COLUMN(),0)*ScreenHeight!$C9)/Param!$B$39)/OFFSET(Radar!$AC$3,COLUMN(),0))*DistanceShader!E8*LightShader!E8*(IF(OFFSET(Ghosts!$S$41,COLUMN(),0)<ScreenHeight!$E9, 1, (SQRT(OFFSET(Ghosts!$T$41,COLUMN(),0)-OFFSET(Ghosts!$R$41,COLUMN(),0)*ScreenHeight!$D9)-1))+IF(Ghosts!$B$35,IF(Param!$M$21,-1-POWER(0.3,Param!$M$21)/(IF(Param!$M$21<20,LightShader!E73,OFFSET(LightShader!E73,Param!$M$21-20,0))+POWER(0.3,Param!$M$21)),-2),0)) -> 1.4293928 | F8: =IF(ScreenHeight!$B9<OFFSET(Radar!$AC$3,COLUMN(),0), Param!$B$38/ScreenHeight!$B9, (Param!$B$37+1/(1-OFFSET(Radar!$AD$3,COLUMN(),0)*ScreenHeight!$C9)/Param!$B$39)/OFFSET(Radar!$AC$3,COLUMN(),0))*DistanceShader!F8*LightShader!F8*(IF(OFFSET(Ghosts!$S$41,COLUMN(),0)<ScreenHeight!$E9, 1, (SQRT(OFFSET(Ghosts!$T$41,COLUMN(),0)-OFFSET(Ghosts!$R$41,COLUMN(),0)*ScreenHeight!$D9)-1))+IF(Ghosts!$B$35,IF(Param!$M$21,-1-POWER(0.3,Param!$M$21)/(IF(Param!$M$21<20,LightShader!F73,OFFSET(LightShader!F73,Param!$M$21-20,0))+POWER(0.3,Param!$M$21)),-2),0)) -> 1.4691254 | G8: =IF(ScreenHeight!$B9<OFFSET(Radar!$AC$3,COLUMN(),0), Param!$B$38/ScreenHeight!$B9, (Param!$B$37+1/(1-OFFSET(Radar!$AD$3,COLUMN(),0)*ScreenHeight!$C9)/Param!$B$39)/OFFSET(Radar!$AC$3,COLUMN(),0))*DistanceShader!G8*LightShader!G8*(IF(OFFSET(Ghosts!$S$41,COLUMN(),0)<ScreenHeight!$E9, 1, (SQRT(OFFSET(Ghosts!$T$41,COLUMN(),0)-OFFSET(Ghosts!$R$41,COLUMN(),0)*ScreenHeight!$D9)-1))+IF(Ghosts!$B$35,IF(Param!$M$21,-1-POWER(0.3,Param!$M$21)/(IF(Param!$M$21<20,LightShader!G73,OFFSET(LightShader!G73,Param!$M$21-20,0))+POWER(0.3,Param!$M$21)),-2),0)) -> 1.5102649 | H8: =IF(ScreenHeight!$B9<OFFSET(Radar!$AC$3,COLUMN(),0), Param!$B$38/ScreenHeight!$B9, (Param!$B$37+1/(1-OFFSET(Radar!$AD$3,COLUMN(),0)*ScreenHeight!$C9)/Param!$B$39)/OFFSET(Radar!$AC$3,COLUMN(),0))*DistanceShader!H8*LightShader!H8*(IF(OFFSET(Ghosts!$S$41,COLUMN(),0)<ScreenHeight!$E9, 1, (SQRT(OFFSET(Ghosts!$T$41,COLUMN(),0)-OFFSET(Ghosts!$R$41,COLUMN(),0)*ScreenHeight!$D9)-1))+IF(Ghosts!$B$35,IF(Param!$M$21,-1-POWER(0.3,Param!$M$21)/(IF(Param!$M$21<20,LightShader!H73,OFFSET(LightShader!H73,Param!$M$21-20,0))+POWER(0.3,Param!$M$21)),-2),0)) -> 1.5528619 | ... CW8: =IF(ScreenHeight!$B9<OFFSET(Radar!$AC$3,COLUMN(),0), Param!$B$38/ScreenHeight!$B9, (Param!$B$37+1/(1-OFFSET(Radar!$AD$3,COLUMN(),0)*ScreenHeight!$C9)/Param!$B$39)/OFFSET(Radar!$AC$3,COLUMN(),0))*DistanceShader!CW8*LightShader!CW8*(IF(OFFSET(Ghosts!$S$41,COLUMN(),0)<ScreenHeight!$E9, 1, (SQRT(OFFSET(Ghosts!$T$41,COLUMN(),0)-OFFSET(Ghosts!$R$41,COLUMN(),0)*ScreenHeight!$D9)-1))+IF(Ghosts!$B$35,IF(Param!$M$21,-1-POWER(0.3,Param!$M$21)/(IF(Param!$M$21<20,LightShader!CW73,OFFSET(LightShader!CW73,Param!$M$21-20,0))+POWER(0.3,Param!$M$21)),-2),0)) -> 1.2581868
A9: =IF(ScreenHeight!$B10<OFFSET(Radar!$AC$3,COLUMN(),0), Param!$B$38/ScreenHeight!$B10, (Param!$B$37+1/(1-OFFSET(Radar!$AD$3,COLUMN(),0)*ScreenHeight!$C10)/Param!$B$39)/OFFSET(Radar!$AC$3,COLUMN(),0))*DistanceShader!A9*LightShader!A9*(IF(OFFSET(Ghosts!$S$41,COLUMN(),0)<ScreenHeight!$E10, 1, (SQRT(OFFSET(Ghosts!$T$41,COLUMN(),0)-OFFSET(Ghosts!$R$41,COLUMN(),0)*ScreenHeight!$D10)-1))+IF(Ghosts!$B$35,IF(Param!$M$21,-1-POWER(0.3,Param!$M$21)/(IF(Param!$M$21<20,LightShader!A74,OFFSET(LightShader!A74,Param!$M$21-20,0))+POWER(0.3,Param!$M$21)),-2),0)) -> 1.2447774 | B9: =IF(ScreenHeight!$B10<OFFSET(Radar!$AC$3,COLUMN(),0), Param!$B$38/ScreenHeight!$B10, (Param!$B$37+1/(1-OFFSET(Radar!$AD$3,COLUMN(),0)*ScreenHeight!$C10)/Param!$B$39)/OFFSET(Radar!$AC$3,COLUMN(),0))*DistanceShader!B9*LightShader!B9*(IF(OFFSET(Ghosts!$S$41,COLUMN(),0)<ScreenHeight!$E10, 1, (SQRT(OFFSET(Ghosts!$T$41,COLUMN(),0)-OFFSET(Ghosts!$R$41,COLUMN(),0)*ScreenHeight!$D10)-1))+IF(Ghosts!$B$35,IF(Param!$M$21,-1-POWER(0.3,Param!$M$21)/(IF(Param!$M$21<20,LightShader!B74,OFFSET(LightShader!B74,Param!$M$21-20,0))+POWER(0.3,Param!$M$21)),-2),0)) -> 1.2787619 | C9: =IF(ScreenHeight!$B10<OFFSET(Radar!$AC$3,COLUMN(),0), Param!$B$38/ScreenHeight!$B10, (Param!$B$37+1/(1-OFFSET(Radar!$AD$3,COLUMN(),0)*ScreenHeight!$C10)/Param!$B$39)/OFFSET(Radar!$AC$3,COLUMN(),0))*DistanceShader!C9*LightShader!C9*(IF(OFFSET(Ghosts!$S$41,COLUMN(),0)<ScreenHeight!$E10, 1, (SQRT(OFFSET(Ghosts!$T$41,COLUMN(),0)-OFFSET(Ghosts!$R$41,COLUMN(),0)*ScreenHeight!$D10)-1))+IF(Ghosts!$B$35,IF(Param!$M$21,-1-POWER(0.3,Param!$M$21)/(IF(Param!$M$21<20,LightShader!C74,OFFSET(LightShader!C74,Param!$M$21-20,0))+POWER(0.3,Param!$M$21)),-2),0)) -> 1.3139674 | D9: =IF(ScreenHeight!$B10<OFFSET(Radar!$AC$3,COLUMN(),0), Param!$B$38/ScreenHeight!$B10, (Param!$B$37+1/(1-OFFSET(Radar!$AD$3,COLUMN(),0)*ScreenHeight!$C10)/Param!$B$39)/OFFSET(Radar!$AC$3,COLUMN(),0))*DistanceShader!D9*LightShader!D9*(IF(OFFSET(Ghosts!$S$41,COLUMN(),0)<ScreenHeight!$E10, 1, (SQRT(OFFSET(Ghosts!$T$41,COLUMN(),0)-OFFSET(Ghosts!$R$41,COLUMN(),0)*ScreenHeight!$D10)-1))+IF(Ghosts!$B$35,IF(Param!$M$21,-1-POWER(0.3,Param!$M$21)/(IF(Param!$M$21<20,LightShader!D74,OFFSET(LightShader!D74,Param!$M$21-20,0))+POWER(0.3,Param!$M$21)),-2),0)) -> 1.3504424 | E9: =IF(ScreenHeight!$B10<OFFSET(Radar!$AC$3,COLUMN(),0), Param!$B$38/ScreenHeight!$B10, (Param!$B$37+1/(1-OFFSET(Radar!$AD$3,COLUMN(),0)*ScreenHeight!$C10)/Param!$B$39)/OFFSET(Radar!$AC$3,COLUMN(),0))*DistanceShader!E9*LightShader!E9*(IF(OFFSET(Ghosts!$S$41,COLUMN(),0)<ScreenHeight!$E10, 1, (SQRT(OFFSET(Ghosts!$T$41,COLUMN(),0)-OFFSET(Ghosts!$R$41,COLUMN(),0)*ScreenHeight!$D10)-1))+IF(Ghosts!$B$35,IF(Param!$M$21,-1-POWER(0.3,Param!$M$21)/(IF(Param!$M$21<20,LightShader!E74,OFFSET(LightShader!E74,Param!$M$21-20,0))+POWER(0.3,Param!$M$21)),-2),0)) -> 1.3882369 | F9: =IF(ScreenHeight!$B10<OFFSET(Radar!$AC$3,COLUMN(),0), Param!$B$38/ScreenHeight!$B10, (Param!$B$37+1/(1-OFFSET(Radar!$AD$3,COLUMN(),0)*ScreenHeight!$C10)/Param!$B$39)/OFFSET(Radar!$AC$3,COLUMN(),0))*DistanceShader!F9*LightShader!F9*(IF(OFFSET(Ghosts!$S$41,COLUMN(),0)<ScreenHeight!$E10, 1, (SQRT(OFFSET(Ghosts!$T$41,COLUMN(),0)-OFFSET(Ghosts!$R$41,COLUMN(),0)*ScreenHeight!$D10)-1))+IF(Ghosts!$B$35,IF(Param!$M$21,-1-POWER(0.3,Param!$M$21)/(IF(Param!$M$21<20,LightShader!F74,OFFSET(LightShader!F74,Param!$M$21-20,0))+POWER(0.3,Param!$M$21)),-2),0)) -> 1.4274025 | G9: =IF(ScreenHeight!$B10<OFFSET(Radar!$AC$3,COLUMN(),0), Param!$B$38/ScreenHeight!$B10, (Param!$B$37+1/(1-OFFSET(Radar!$AD$3,COLUMN(),0)*ScreenHeight!$C10)/Param!$B$39)/OFFSET(Radar!$AC$3,COLUMN(),0))*DistanceShader!G9*LightShader!G9*(IF(OFFSET(Ghosts!$S$41,COLUMN(),0)<ScreenHeight!$E10, 1, (SQRT(OFFSET(Ghosts!$T$41,COLUMN(),0)-OFFSET(Ghosts!$R$41,COLUMN(),0)*ScreenHeight!$D10)-1))+IF(Ghosts!$B$35,IF(Param!$M$21,-1-POWER(0.3,Param!$M$21)/(IF(Param!$M$21<20,LightShader!G74,OFFSET(LightShader!G74,Param!$M$21-20,0))+POWER(0.3,Param!$M$21)),-2),0)) -> 1.4679921 | H9: =IF(ScreenHeight!$B10<OFFSET(Radar!$AC$3,COLUMN(),0), Param!$B$38/ScreenHeight!$B10, (Param!$B$37+1/(1-OFFSET(Radar!$AD$3,COLUMN(),0)*ScreenHeight!$C10)/Param!$B$39)/OFFSET(Radar!$AC$3,COLUMN(),0))*DistanceShader!H9*LightShader!H9*(IF(OFFSET(Ghosts!$S$41,COLUMN(),0)<ScreenHeight!$E10, 1, (SQRT(OFFSET(Ghosts!$T$41,COLUMN(),0)-OFFSET(Ghosts!$R$41,COLUMN(),0)*ScreenHeight!$D10)-1))+IF(Ghosts!$B$35,IF(Param!$M$21,-1-POWER(0.3,Param!$M$21)/(IF(Param!$M$21<20,LightShader!H74,OFFSET(LightShader!H74,Param!$M$21-20,0))+POWER(0.3,Param!$M$21)),-2),0)) -> 1.5100601 | ... CW9: =IF(ScreenHeight!$B10<OFFSET(Radar!$AC$3,COLUMN(),0), Param!$B$38/ScreenHeight!$B10, (Param!$B$37+1/(1-OFFSET(Radar!$AD$3,COLUMN(),0)*ScreenHeight!$C10)/Param!$B$39)/OFFSET(Radar!$AC$3,COLUMN(),0))*DistanceShader!CW9*LightShader!CW9*(IF(OFFSET(Ghosts!$S$41,COLUMN(),0)<ScreenHeight!$E10, 1, (SQRT(OFFSET(Ghosts!$T$41,COLUMN(),0)-OFFSET(Ghosts!$R$41,COLUMN(),0)*ScreenHeight!$D10)-1))+IF(Ghosts!$B$35,IF(Param!$M$21,-1-POWER(0.3,Param!$M$21)/(IF(Param!$M$21<20,LightShader!CW74,OFFSET(LightShader!CW74,Param!$M$21-20,0))+POWER(0.3,Param!$M$21)),-2),0)) -> 1.2199638
A10: =IF(ScreenHeight!$B11<OFFSET(Radar!$AC$3,COLUMN(),0), Param!$B$38/ScreenHeight!$B11, (Param!$B$37+1/(1-OFFSET(Radar!$AD$3,COLUMN(),0)*ScreenHeight!$C11)/Param!$B$39)/OFFSET(Radar!$AC$3,COLUMN(),0))*DistanceShader!A10*LightShader!A10*(IF(OFFSET(Ghosts!$S$41,COLUMN(),0)<ScreenHeight!$E11, 1, (SQRT(OFFSET(Ghosts!$T$41,COLUMN(),0)-OFFSET(Ghosts!$R$41,COLUMN(),0)*ScreenHeight!$D11)-1))+IF(Ghosts!$B$35,IF(Param!$M$21,-1-POWER(0.3,Param!$M$21)/(IF(Param!$M$21<20,LightShader!A75,OFFSET(LightShader!A75,Param!$M$21-20,0))+POWER(0.3,Param!$M$21)),-2),0)) -> 1.2044131 | B10: =IF(ScreenHeight!$B11<OFFSET(Radar!$AC$3,COLUMN(),0), Param!$B$38/ScreenHeight!$B11, (Param!$B$37+1/(1-OFFSET(Radar!$AD$3,COLUMN(),0)*ScreenHeight!$C11)/Param!$B$39)/OFFSET(Radar!$AC$3,COLUMN(),0))*DistanceShader!B10*LightShader!B10*(IF(OFFSET(Ghosts!$S$41,COLUMN(),0)<ScreenHeight!$E11, 1, (SQRT(OFFSET(Ghosts!$T$41,COLUMN(),0)-OFFSET(Ghosts!$R$41,COLUMN(),0)*ScreenHeight!$D11)-1))+IF(Ghosts!$B$35,IF(Param!$M$21,-1-POWER(0.3,Param!$M$21)/(IF(Param!$M$21<20,LightShader!B75,OFFSET(LightShader!B75,Param!$M$21-20,0))+POWER(0.3,Param!$M$21)),-2),0)) -> 1.237713 | C10: =IF(ScreenHeight!$B11<OFFSET(Radar!$AC$3,COLUMN(),0), Param!$B$38/ScreenHeight!$B11, (Param!$B$37+1/(1-OFFSET(Radar!$AD$3,COLUMN(),0)*ScreenHeight!$C11)/Param!$B$39)/OFFSET(Radar!$AC$3,COLUMN(),0))*DistanceShader!C10*LightShader!C10*(IF(OFFSET(Ghosts!$S$41,COLUMN(),0)<ScreenHeight!$E11, 1, (SQRT(OFFSET(Ghosts!$T$41,COLUMN(),0)-OFFSET(Ghosts!$R$41,COLUMN(),0)*ScreenHeight!$D11)-1))+IF(Ghosts!$B$35,IF(Param!$M$21,-1-POWER(0.3,Param!$M$21)/(IF(Param!$M$21<20,LightShader!C75,OFFSET(LightShader!C75,Param!$M$21-20,0))+POWER(0.3,Param!$M$21)),-2),0)) -> 1.2722353 | D10: =IF(ScreenHeight!$B11<OFFSET(Radar!$AC$3,COLUMN(),0), Param!$B$38/ScreenHeight!$B11, (Param!$B$37+1/(1-OFFSET(Radar!$AD$3,COLUMN(),0)*ScreenHeight!$C11)/Param!$B$39)/OFFSET(Radar!$AC$3,COLUMN(),0))*DistanceShader!D10*LightShader!D10*(IF(OFFSET(Ghosts!$S$41,COLUMN(),0)<ScreenHeight!$E11, 1, (SQRT(OFFSET(Ghosts!$T$41,COLUMN(),0)-OFFSET(Ghosts!$R$41,COLUMN(),0)*ScreenHeight!$D11)-1))+IF(Ghosts!$B$35,IF(Param!$M$21,-1-POWER(0.3,Param!$M$21)/(IF(Param!$M$21<20,LightShader!D75,OFFSET(LightShader!D75,Param!$M$21-20,0))+POWER(0.3,Param!$M$21)),-2),0)) -> 1.3080307 | E10: =IF(ScreenHeight!$B11<OFFSET(Radar!$AC$3,COLUMN(),0), Param!$B$38/ScreenHeight!$B11, (Param!$B$37+1/(1-OFFSET(Radar!$AD$3,COLUMN(),0)*ScreenHeight!$C11)/Param!$B$39)/OFFSET(Radar!$AC$3,COLUMN(),0))*DistanceShader!E10*LightShader!E10*(IF(OFFSET(Ghosts!$S$41,COLUMN(),0)<ScreenHeight!$E11, 1, (SQRT(OFFSET(Ghosts!$T$41,COLUMN(),0)-OFFSET(Ghosts!$R$41,COLUMN(),0)*ScreenHeight!$D11)-1))+IF(Ghosts!$B$35,IF(Param!$M$21,-1-POWER(0.3,Param!$M$21)/(IF(Param!$M$21<20,LightShader!E75,OFFSET(LightShader!E75,Param!$M$21-20,0))+POWER(0.3,Param!$M$21)),-2),0)) -> 1.3451517 | F10: =IF(ScreenHeight!$B11<OFFSET(Radar!$AC$3,COLUMN(),0), Param!$B$38/ScreenHeight!$B11, (Param!$B$37+1/(1-OFFSET(Radar!$AD$3,COLUMN(),0)*ScreenHeight!$C11)/Param!$B$39)/OFFSET(Radar!$AC$3,COLUMN(),0))*DistanceShader!F10*LightShader!F10*(IF(OFFSET(Ghosts!$S$41,COLUMN(),0)<ScreenHeight!$E11, 1, (SQRT(OFFSET(Ghosts!$T$41,COLUMN(),0)-OFFSET(Ghosts!$R$41,COLUMN(),0)*ScreenHeight!$D11)-1))+IF(Ghosts!$B$35,IF(Param!$M$21,-1-POWER(0.3,Param!$M$21)/(IF(Param!$M$21<20,LightShader!F75,OFFSET(LightShader!F75,Param!$M$21-20,0))+POWER(0.3,Param!$M$21)),-2),0)) -> 1.3836526 | G10: =IF(ScreenHeight!$B11<OFFSET(Radar!$AC$3,COLUMN(),0), Param!$B$38/ScreenHeight!$B11, (Param!$B$37+1/(1-OFFSET(Radar!$AD$3,COLUMN(),0)*ScreenHeight!$C11)/Param!$B$39)/OFFSET(Radar!$AC$3,COLUMN(),0))*DistanceShader!G10*LightShader!G10*(IF(OFFSET(Ghosts!$S$41,COLUMN(),0)<ScreenHeight!$E11, 1, (SQRT(OFFSET(Ghosts!$T$41,COLUMN(),0)-OFFSET(Ghosts!$R$41,COLUMN(),0)*ScreenHeight!$D11)-1))+IF(Ghosts!$B$35,IF(Param!$M$21,-1-POWER(0.3,Param!$M$21)/(IF(Param!$M$21<20,LightShader!G75,OFFSET(LightShader!G75,Param!$M$21-20,0))+POWER(0.3,Param!$M$21)),-2),0)) -> 1.4235895 | H10: =IF(ScreenHeight!$B11<OFFSET(Radar!$AC$3,COLUMN(),0), Param!$B$38/ScreenHeight!$B11, (Param!$B$37+1/(1-OFFSET(Radar!$AD$3,COLUMN(),0)*ScreenHeight!$C11)/Param!$B$39)/OFFSET(Radar!$AC$3,COLUMN(),0))*DistanceShader!H10*LightShader!H10*(IF(OFFSET(Ghosts!$S$41,COLUMN(),0)<ScreenHeight!$E11, 1, (SQRT(OFFSET(Ghosts!$T$41,COLUMN(),0)-OFFSET(Ghosts!$R$41,COLUMN(),0)*ScreenHeight!$D11)-1))+IF(Ghosts!$B$35,IF(Param!$M$21,-1-POWER(0.3,Param!$M$21)/(IF(Param!$M$21<20,LightShader!H75,OFFSET(LightShader!H75,Param!$M$21-20,0))+POWER(0.3,Param!$M$21)),-2),0)) -> 1.4650206 | ... CW10: =IF(ScreenHeight!$B11<OFFSET(Radar!$AC$3,COLUMN(),0), Param!$B$38/ScreenHeight!$B11, (Param!$B$37+1/(1-OFFSET(Radar!$AD$3,COLUMN(),0)*ScreenHeight!$C11)/Param!$B$39)/OFFSET(Radar!$AC$3,COLUMN(),0))*DistanceShader!CW10*LightShader!CW10*(IF(OFFSET(Ghosts!$S$41,COLUMN(),0)<ScreenHeight!$E11, 1, (SQRT(OFFSET(Ghosts!$T$41,COLUMN(),0)-OFFSET(Ghosts!$R$41,COLUMN(),0)*ScreenHeight!$D11)-1))+IF(Ghosts!$B$35,IF(Param!$M$21,-1-POWER(0.3,Param!$M$21)/(IF(Param!$M$21<20,LightShader!CW75,OFFSET(LightShader!CW75,Param!$M$21-20,0))+POWER(0.3,Param!$M$21)),-2),0)) -> 1.1802062
A11: =IF(ScreenHeight!$B12<OFFSET(Radar!$AC$3,COLUMN(),0), Param!$B$38/ScreenHeight!$B12, (Param!$B$37+1/(1-OFFSET(Radar!$AD$3,COLUMN(),0)*ScreenHeight!$C12)/Param!$B$39)/OFFSET(Radar!$AC$3,COLUMN(),0))*DistanceShader!A11*LightShader!A11*(IF(OFFSET(Ghosts!$S$41,COLUMN(),0)<ScreenHeight!$E12, 1, (SQRT(OFFSET(Ghosts!$T$41,COLUMN(),0)-OFFSET(Ghosts!$R$41,COLUMN(),0)*ScreenHeight!$D12)-1))+IF(Ghosts!$B$35,IF(Param!$M$21,-1-POWER(0.3,Param!$M$21)/(IF(Param!$M$21<20,LightShader!A76,OFFSET(LightShader!A76,Param!$M$21-20,0))+POWER(0.3,Param!$M$21)),-2),0)) -> 1.1624721 | B11: =IF(ScreenHeight!$B12<OFFSET(Radar!$AC$3,COLUMN(),0), Param!$B$38/ScreenHeight!$B12, (Param!$B$37+1/(1-OFFSET(Radar!$AD$3,COLUMN(),0)*ScreenHeight!$C12)/Param!$B$39)/OFFSET(Radar!$AC$3,COLUMN(),0))*DistanceShader!B11*LightShader!B11*(IF(OFFSET(Ghosts!$S$41,COLUMN(),0)<ScreenHeight!$E12, 1, (SQRT(OFFSET(Ghosts!$T$41,COLUMN(),0)-OFFSET(Ghosts!$R$41,COLUMN(),0)*ScreenHeight!$D12)-1))+IF(Ghosts!$B$35,IF(Param!$M$21,-1-POWER(0.3,Param!$M$21)/(IF(Param!$M$21<20,LightShader!B76,OFFSET(LightShader!B76,Param!$M$21-20,0))+POWER(0.3,Param!$M$21)),-2),0)) -> 1.1950065 | C11: =IF(ScreenHeight!$B12<OFFSET(Radar!$AC$3,COLUMN(),0), Param!$B$38/ScreenHeight!$B12, (Param!$B$37+1/(1-OFFSET(Radar!$AD$3,COLUMN(),0)*ScreenHeight!$C12)/Param!$B$39)/OFFSET(Radar!$AC$3,COLUMN(),0))*DistanceShader!C11*LightShader!C11*(IF(OFFSET(Ghosts!$S$41,COLUMN(),0)<ScreenHeight!$E12, 1, (SQRT(OFFSET(Ghosts!$T$41,COLUMN(),0)-OFFSET(Ghosts!$R$41,COLUMN(),0)*ScreenHeight!$D12)-1))+IF(Ghosts!$B$35,IF(Param!$M$21,-1-POWER(0.3,Param!$M$21)/(IF(Param!$M$21<20,LightShader!C76,OFFSET(LightShader!C76,Param!$M$21-20,0))+POWER(0.3,Param!$M$21)),-2),0)) -> 1.2287602 | D11: =IF(ScreenHeight!$B12<OFFSET(Radar!$AC$3,COLUMN(),0), Param!$B$38/ScreenHeight!$B12, (Param!$B$37+1/(1-OFFSET(Radar!$AD$3,COLUMN(),0)*ScreenHeight!$C12)/Param!$B$39)/OFFSET(Radar!$AC$3,COLUMN(),0))*DistanceShader!D11*LightShader!D11*(IF(OFFSET(Ghosts!$S$41,COLUMN(),0)<ScreenHeight!$E12, 1, (SQRT(OFFSET(Ghosts!$T$41,COLUMN(),0)-OFFSET(Ghosts!$R$41,COLUMN(),0)*ScreenHeight!$D12)-1))+IF(Ghosts!$B$35,IF(Param!$M$21,-1-POWER(0.3,Param!$M$21)/(IF(Param!$M$21<20,LightShader!D76,OFFSET(LightShader!D76,Param!$M$21-20,0))+POWER(0.3,Param!$M$21)),-2),0)) -> 1.2637858 | E11: =IF(ScreenHeight!$B12<OFFSET(Radar!$AC$3,COLUMN(),0), Param!$B$38/ScreenHeight!$B12, (Param!$B$37+1/(1-OFFSET(Radar!$AD$3,COLUMN(),0)*ScreenHeight!$C12)/Param!$B$39)/OFFSET(Radar!$AC$3,COLUMN(),0))*DistanceShader!E11*LightShader!E11*(IF(OFFSET(Ghosts!$S$41,COLUMN(),0)<ScreenHeight!$E12, 1, (SQRT(OFFSET(Ghosts!$T$41,COLUMN(),0)-OFFSET(Ghosts!$R$41,COLUMN(),0)*ScreenHeight!$D12)-1))+IF(Ghosts!$B$35,IF(Param!$M$21,-1-POWER(0.3,Param!$M$21)/(IF(Param!$M$21<20,LightShader!E76,OFFSET(LightShader!E76,Param!$M$21-20,0))+POWER(0.3,Param!$M$21)),-2),0)) -> 1.3001379 | F11: =IF(ScreenHeight!$B12<OFFSET(Radar!$AC$3,COLUMN(),0), Param!$B$38/ScreenHeight!$B12, (Param!$B$37+1/(1-OFFSET(Radar!$AD$3,COLUMN(),0)*ScreenHeight!$C12)/Param!$B$39)/OFFSET(Radar!$AC$3,COLUMN(),0))*DistanceShader!F11*LightShader!F11*(IF(OFFSET(Ghosts!$S$41,COLUMN(),0)<ScreenHeight!$E12, 1, (SQRT(OFFSET(Ghosts!$T$41,COLUMN(),0)-OFFSET(Ghosts!$R$41,COLUMN(),0)*ScreenHeight!$D12)-1))+IF(Ghosts!$B$35,IF(Param!$M$21,-1-POWER(0.3,Param!$M$21)/(IF(Param!$M$21<20,LightShader!F76,OFFSET(LightShader!F76,Param!$M$21-20,0))+POWER(0.3,Param!$M$21)),-2),0)) -> 1.3378733 | G11: =IF(ScreenHeight!$B12<OFFSET(Radar!$AC$3,COLUMN(),0), Param!$B$38/ScreenHeight!$B12, (Param!$B$37+1/(1-OFFSET(Radar!$AD$3,COLUMN(),0)*ScreenHeight!$C12)/Param!$B$39)/OFFSET(Radar!$AC$3,COLUMN(),0))*DistanceShader!G11*LightShader!G11*(IF(OFFSET(Ghosts!$S$41,COLUMN(),0)<ScreenHeight!$E12, 1, (SQRT(OFFSET(Ghosts!$T$41,COLUMN(),0)-OFFSET(Ghosts!$R$41,COLUMN(),0)*ScreenHeight!$D12)-1))+IF(Ghosts!$B$35,IF(Param!$M$21,-1-POWER(0.3,Param!$M$21)/(IF(Param!$M$21<20,LightShader!G76,OFFSET(LightShader!G76,Param!$M$21-20,0))+POWER(0.3,Param!$M$21)),-2),0)) -> 1.3770513 | H11: =IF(ScreenHeight!$B12<OFFSET(Radar!$AC$3,COLUMN(),0), Param!$B$38/ScreenHeight!$B12, (Param!$B$37+1/(1-OFFSET(Radar!$AD$3,COLUMN(),0)*ScreenHeight!$C12)/Param!$B$39)/OFFSET(Radar!$AC$3,COLUMN(),0))*DistanceShader!H11*LightShader!H11*(IF(OFFSET(Ghosts!$S$41,COLUMN(),0)<ScreenHeight!$E12, 1, (SQRT(OFFSET(Ghosts!$T$41,COLUMN(),0)-OFFSET(Ghosts!$R$41,COLUMN(),0)*ScreenHeight!$D12)-1))+IF(Ghosts!$B$35,IF(Param!$M$21,-1-POWER(0.3,Param!$M$21)/(IF(Param!$M$21<20,LightShader!H76,OFFSET(LightShader!H76,Param!$M$21-20,0))+POWER(0.3,Param!$M$21)),-2),0)) -> 1.4177331 | ... CW11: =IF(ScreenHeight!$B12<OFFSET(Radar!$AC$3,COLUMN(),0), Param!$B$38/ScreenHeight!$B12, (Param!$B$37+1/(1-OFFSET(Radar!$AD$3,COLUMN(),0)*ScreenHeight!$C12)/Param!$B$39)/OFFSET(Radar!$AC$3,COLUMN(),0))*DistanceShader!CW11*LightShader!CW11*(IF(OFFSET(Ghosts!$S$41,COLUMN(),0)<ScreenHeight!$E12, 1, (SQRT(OFFSET(Ghosts!$T$41,COLUMN(),0)-OFFSET(Ghosts!$R$41,COLUMN(),0)*ScreenHeight!$D12)-1))+IF(Ghosts!$B$35,IF(Param!$M$21,-1-POWER(0.3,Param!$M$21)/(IF(Param!$M$21<20,LightShader!CW76,OFFSET(LightShader!CW76,Param!$M$21-20,0))+POWER(0.3,Param!$M$21)),-2),0)) -> 1.1389235
