Workbook
Name Angle: Param!$B$14
Name Backward: Displacements!$G$19:$G$24
Name Black: Param!$B$35
Name ClipSize: Param!$B$45
Name DecPosX: Param!$G$15
Name DecPosY: Param!$G$16
Name Fire: Param!$M$18
Name Forward: Displacements!$F$19:$F$24
Name LeftClip: Param!$M$20
Name LGreen: Param!$B$36
Name Life: Param!$M$17
Name MapAngle: Param!$B$10
Name MapAngle1: Param!$D$10
Name MapAngle2: Param!$E$10
Name MapCenterCol: Param!$B$9
Name MapCenterRow: Param!$B$8
Name MaxLife: Param!$B$46
Name MaxLum: Param!$B$36
Name NewPosition: Displacements!$U$19:$U$24
Name OffsetCol: Param!$G$9
Name OffsetRow: Param!$G$8
Name PosX: Param!$B$15
Name PosY: Param!$B$16
Name PwallX: Param!$B$2
Name PWallY: Param!$B$3
Name Red: Param!$B$34
Name Reload: Displacements!$M$19:$M$24
Name RightClip: Param!$M$19
Name ScreenHeight: Param!$B$43
Name ScreenWidth: Param!$B$42
Name Shoot: Displacements!$L$19:$L$24
Name StrafeLeft: Displacements!$H$19:$H$24
Name StrafeRight: Displacements!$I$19:$I$24
Name tick: Param!$B$13
Name TLeft: Displacements!$J$19:$J$24
Name TRight: Displacements!$K$19:$K$24

Sheet Readme
F1: Welcome !
A2: How to use - without vba
B4: The 3D engine is made without vba, so, you can actually use it without activating macro
B5: Go to "Screen" sheet, and enjoy the view !
B6: An excel sheet doesnt move all alone, so to make a simple action (move, fire, reload …), you have to :
C7: - copy the block of the chosen action from the Displacements tabs (the blues blocks)
C8: - past it in the orange block
C9: - go back to the screen enjoy the change
B10: If you want to teleport, or turn the camera, you can manually modify the values.
B11: You can also teleport in time ! Since you cannot control monsters, this would be the faster way to wait for a one of them to pass by.
B12: You can control your stats, to be able to kill yourself (put a 0 instead of 1 on the first value), or fire, etc. See in the param sheet to see what values are for.
B13: You can discover all of theses calculation sheets, trying to discover how it works
B14: Here, you discovered this nice 3d engine, without any vba
A16: How to use - without vba
B18: Macro are the only way [I found so far] to catch the keyboard events
B19: The vba code is quite basic :
C20: Sub Forward()
D21: Range("NewPosition").Value = Range("Forward").Value | K21: <-- this just copy/past the same way described before
C22: End Sub
B23: Same procedure for each of the 8 possible actions
B24: You can see by yourself in the developper menu
C25: Activate developper menu in Excel Option - first tab - 3rd button from the top
B27: You can activate macro !
C28: Quit and reload if the option is gone
C29: Download the version with macro if you get the one without
B31: And now, you can use keys to move, default binding are :
C32: CTRL-Z to move forward
C33: CTRL-S to move backward
C34: CTRL-A to turn left
C35: CTRL-E to turn right
C36: CTRL-Q to strafe left
C37: CTRL-D to strafe right
C38: CTRL-W to fire
C39: CTRL-R to reload
B40: You can change key binding in the "Macros" menu in developper tab, or simply install french keyboard (just kidding)
B42: Now, you can explore, fight ghost, get killed, enjoy your score, retry, revenge, search for an exit of this maze, learn how to read the map, travel to the edge of the map, study ghost behavior, get lost, restart …
B43: There is many parameters to change if you want, all of them are in column B of the tab "Param", you can change any of them.
C44: As a rule of thumb, if you replace a formula by a value, or you would break something.
C45: Caution : screen width and height and FoV are not suffisent to get entirely the expected result.
D46: Actually, a resolution change require more than 10 operations, some of them are quite tricky, sorry for that
B48: Then, you can find bugs and new ideas, you can try making it by yourself, and you can send it back to me !
B49: Contact : circonflexe_circonflexe-cbel@yahoo.fr

Sheet Screen
A1: =IF(ScreenHeight!$B2<OFFSET(Radar!$AC$3,COLUMN(),0), Param!$B$38/ScreenHeight!$B2, (Param!$B$37+1/(1-OFFSET(Radar!$AD$3,COLUMN(),0)*ScreenHeight!$C2)/Param!$B$39)/OFFSET(Radar!$AC$3,COLUMN(),0))*DistanceShader!A1*LightShader!A1*(IF(OFFSET(Ghosts!$S$41,COLUMN(),0)<ScreenHeight!$E2, 1, (SQRT(OFFSET(Ghosts!$T$41,COLUMN(),0)-OFFSET(Ghosts!$R$41,COLUMN(),0)*ScreenHeight!$D2)-1))+IF(Ghosts!$B$35,IF(Param!$M$21,-1-POWER(0.3,Param!$M$21)/(IF(Param!$M$21<20,LightShader!A66,OFFSET(LightShader!A66,Param!$M$21-20,0))+POWER(0.3,Param!$M$21)),-2),0)) -> 1.5108959 | B1: =IF(ScreenHeight!$B2<OFFSET(Radar!$AC$3,COLUMN(),0), Param!$B$38/ScreenHeight!$B2, (Param!$B$37+1/(1-OFFSET(Radar!$AD$3,COLUMN(),0)*ScreenHeight!$C2)/Param!$B$39)/OFFSET(Radar!$AC$3,COLUMN(),0))*DistanceShader!B1*LightShader!B1*(IF(OFFSET(Ghosts!$S$41,COLUMN(),0)<ScreenHeight!$E2, 1, (SQRT(OFFSET(Ghosts!$T$41,COLUMN(),0)-OFFSET(Ghosts!$R$41,COLUMN(),0)*ScreenHeight!$D2)-1))+IF(Ghosts!$B$35,IF(Param!$M$21,-1-POWER(0.3,Param!$M$21)/(IF(Param!$M$21<20,LightShader!B66,OFFSET(LightShader!B66,Param!$M$21-20,0))+POWER(0.3,Param!$M$21)),-2),0)) -> 1.547703 | C1: =IF(ScreenHeight!$B2<OFFSET(Radar!$AC$3,COLUMN(),0), Param!$B$38/ScreenHeight!$B2, (Param!$B$37+1/(1-OFFSET(Radar!$AD$3,COLUMN(),0)*ScreenHeight!$C2)/Param!$B$39)/OFFSET(Radar!$AC$3,COLUMN(),0))*DistanceShader!C1*LightShader!C1*(IF(OFFSET(Ghosts!$S$41,COLUMN(),0)<ScreenHeight!$E2, 1, (SQRT(OFFSET(Ghosts!$T$41,COLUMN(),0)-OFFSET(Ghosts!$R$41,COLUMN(),0)*ScreenHeight!$D2)-1))+IF(Ghosts!$B$35,IF(Param!$M$21,-1-POWER(0.3,Param!$M$21)/(IF(Param!$M$21<20,LightShader!C66,OFFSET(LightShader!C66,Param!$M$21-20,0))+POWER(0.3,Param!$M$21)),-2),0)) -> 1.5855917 | D1: =IF(ScreenHeight!$B2<OFFSET(Radar!$AC$3,COLUMN(),0), Param!$B$38/ScreenHeight!$B2, (Param!$B$37+1/(1-OFFSET(Radar!$AD$3,COLUMN(),0)*ScreenHeight!$C2)/Param!$B$39)/OFFSET(Radar!$AC$3,COLUMN(),0))*DistanceShader!D1*LightShader!D1*(IF(OFFSET(Ghosts!$S$41,COLUMN(),0)<ScreenHeight!$E2, 1, (SQRT(OFFSET(Ghosts!$T$41,COLUMN(),0)-OFFSET(Ghosts!$R$41,COLUMN(),0)*ScreenHeight!$D2)-1))+IF(Ghosts!$B$35,IF(Param!$M$21,-1-POWER(0.3,Param!$M$21)/(IF(Param!$M$21<20,LightShader!D66,OFFSET(LightShader!D66,Param!$M$21-20,0))+POWER(0.3,Param!$M$21)),-2),0)) -> 1.6245887 | E1: =IF(ScreenHeight!$B2<OFFSET(Radar!$AC$3,COLUMN(),0), Param!$B$38/ScreenHeight!$B2, (Param!$B$37+1/(1-OFFSET(Radar!$AD$3,COLUMN(),0)*ScreenHeight!$C2)/Param!$B$39)/OFFSET(Radar!$AC$3,COLUMN(),0))*DistanceShader!E1*LightShader!E1*(IF(OFFSET(Ghosts!$S$41,COLUMN(),0)<ScreenHeight!$E2, 1, (SQRT(OFFSET(Ghosts!$T$41,COLUMN(),0)-OFFSET(Ghosts!$R$41,COLUMN(),0)*ScreenHeight!$D2)-1))+IF(Ghosts!$B$35,IF(Param!$M$21,-1-POWER(0.3,Param!$M$21)/(IF(Param!$M$21<20,LightShader!E66,OFFSET(LightShader!E66,Param!$M$21-20,0))+POWER(0.3,Param!$M$21)),-2),0)) -> 1.6647198 | F1: =IF(ScreenHeight!$B2<OFFSET(Radar!$AC$3,COLUMN(),0), Param!$B$38/ScreenHeight!$B2, (Param!$B$37+1/(1-OFFSET(Radar!$AD$3,COLUMN(),0)*ScreenHeight!$C2)/Param!$B$39)/OFFSET(Radar!$AC$3,COLUMN(),0))*DistanceShader!F1*LightShader!F1*(IF(OFFSET(Ghosts!$S$41,COLUMN(),0)<ScreenHeight!$E2, 1, (SQRT(OFFSET(Ghosts!$T$41,COLUMN(),0)-OFFSET(Ghosts!$R$41,COLUMN(),0)*ScreenHeight!$D2)-1))+IF(Ghosts!$B$35,IF(Param!$M$21,-1-POWER(0.3,Param!$M$21)/(IF(Param!$M$21<20,LightShader!F66,OFFSET(LightShader!F66,Param!$M$21-20,0))+POWER(0.3,Param!$M$21)),-2),0)) -> 1.7060103 | G1: =IF(ScreenHeight!$B2<OFFSET(Radar!$AC$3,COLUMN(),0), Param!$B$38/ScreenHeight!$B2, (Param!$B$37+1/(1-OFFSET(Radar!$AD$3,COLUMN(),0)*ScreenHeight!$C2)/Param!$B$39)/OFFSET(Radar!$AC$3,COLUMN(),0))*DistanceShader!G1*LightShader!G1*(IF(OFFSET(Ghosts!$S$41,COLUMN(),0)<ScreenHeight!$E2, 1, (SQRT(OFFSET(Ghosts!$T$41,COLUMN(),0)-OFFSET(Ghosts!$R$41,COLUMN(),0)*ScreenHeight!$D2)-1))+IF(Ghosts!$B$35,IF(Param!$M$21,-1-POWER(0.3,Param!$M$21)/(IF(Param!$M$21<20,LightShader!G66,OFFSET(LightShader!G66,Param!$M$21-20,0))+POWER(0.3,Param!$M$21)),-2),0)) -> 1.7484841 | H1: =IF(ScreenHeight!$B2<OFFSET(Radar!$AC$3,COLUMN(),0), Param!$B$38/ScreenHeight!$B2, (Param!$B$37+1/(1-OFFSET(Radar!$AD$3,COLUMN(),0)*ScreenHeight!$C2)/Param!$B$39)/OFFSET(Radar!$AC$3,COLUMN(),0))*DistanceShader!H1*LightShader!H1*(IF(OFFSET(Ghosts!$S$41,COLUMN(),0)<ScreenHeight!$E2, 1, (SQRT(OFFSET(Ghosts!$T$41,COLUMN(),0)-OFFSET(Ghosts!$R$41,COLUMN(),0)*ScreenHeight!$D2)-1))+IF(Ghosts!$B$35,IF(Param!$M$21,-1-POWER(0.3,Param!$M$21)/(IF(Param!$M$21<20,LightShader!H66,OFFSET(LightShader!H66,Param!$M$21-20,0))+POWER(0.3,Param!$M$21)),-2),0)) -> 1.7921642 | ... CW1: =IF(ScreenHeight!$B2<OFFSET(Radar!$AC$3,COLUMN(),0), Param!$B$38/ScreenHeight!$B2, (Param!$B$37+1/(1-OFFSET(Radar!$AD$3,COLUMN(),0)*ScreenHeight!$C2)/Param!$B$39)/OFFSET(Radar!$AC$3,COLUMN(),0))*DistanceShader!CW1*LightShader!CW1*(IF(OFFSET(Ghosts!$S$41,COLUMN(),0)<ScreenHeight!$E2, 1, (SQRT(OFFSET(Ghosts!$T$41,COLUMN(),0)-OFFSET(Ghosts!$R$41,COLUMN(),0)*ScreenHeight!$D2)-1))+IF(Ghosts!$B$35,IF(Param!$M$21,-1-POWER(0.3,Param!$M$21)/(IF(Param!$M$21<20,LightShader!CW66,OFFSET(LightShader!CW66,Param!$M$21-20,0))+POWER(0.3,Param!$M$21)),-2),0)) -> 1.4830017
A2: =IF(ScreenHeight!$B3<OFFSET(Radar!$AC$3,COLUMN(),0), Param!$B$38/ScreenHeight!$B3, (Param!$B$37+1/(1-OFFSET(Radar!$AD$3,COLUMN(),0)*ScreenHeight!$C3)/Param!$B$39)/OFFSET(Radar!$AC$3,COLUMN(),0))*DistanceShader!A2*LightShader!A2*(IF(OFFSET(Ghosts!$S$41,COLUMN(),0)<ScreenHeight!$E3, 1, (SQRT(OFFSET(Ghosts!$T$41,COLUMN(),0)-OFFSET(Ghosts!$R$41,COLUMN(),0)*ScreenHeight!$D3)-1))+IF(Ghosts!$B$35,IF(Param!$M$21,-1-POWER(0.3,Param!$M$21)/(IF(Param!$M$21<20,LightShader!A67,OFFSET(LightShader!A67,Param!$M$21-20,0))+POWER(0.3,Param!$M$21)),-2),0)) -> 1.4830579 | B2: =IF(ScreenHeight!$B3<OFFSET(Radar!$AC$3,COLUMN(),0), Param!$B$38/ScreenHeight!$B3, (Param!$B$37+1/(1-OFFSET(Radar!$AD$3,COLUMN(),0)*ScreenHeight!$C3)/Param!$B$39)/OFFSET(Radar!$AC$3,COLUMN(),0))*DistanceShader!B2*LightShader!B2*(IF(OFFSET(Ghosts!$S$41,COLUMN(),0)<ScreenHeight!$E3, 1, (SQRT(OFFSET(Ghosts!$T$41,COLUMN(),0)-OFFSET(Ghosts!$R$41,COLUMN(),0)*ScreenHeight!$D3)-1))+IF(Ghosts!$B$35,IF(Param!$M$21,-1-POWER(0.3,Param!$M$21)/(IF(Param!$M$21<20,LightShader!B67,OFFSET(LightShader!B67,Param!$M$21-20,0))+POWER(0.3,Param!$M$21)),-2),0)) -> 1.5197453 | C2: =IF(ScreenHeight!$B3<OFFSET(Radar!$AC$3,COLUMN(),0), Param!$B$38/ScreenHeight!$B3, (Param!$B$37+1/(1-OFFSET(Radar!$AD$3,COLUMN(),0)*ScreenHeight!$C3)/Param!$B$39)/OFFSET(Radar!$AC$3,COLUMN(),0))*DistanceShader!C2*LightShader!C2*(IF(OFFSET(Ghosts!$S$41,COLUMN(),0)<ScreenHeight!$E3, 1, (SQRT(OFFSET(Ghosts!$T$41,COLUMN(),0)-OFFSET(Ghosts!$R$41,COLUMN(),0)*ScreenHeight!$D3)-1))+IF(Ghosts!$B$35,IF(Param!$M$21,-1-POWER(0.3,Param!$M$21)/(IF(Param!$M$21<20,LightShader!C67,OFFSET(LightShader!C67,Param!$M$21-20,0))+POWER(0.3,Param!$M$21)),-2),0)) -> 1.5575413 | D2: =IF(ScreenHeight!$B3<OFFSET(Radar!$AC$3,COLUMN(),0), Param!$B$38/ScreenHeight!$B3, (Param!$B$37+1/(1-OFFSET(Radar!$AD$3,COLUMN(),0)*ScreenHeight!$C3)/Param!$B$39)/OFFSET(Radar!$AC$3,COLUMN(),0))*DistanceShader!D2*LightShader!D2*(IF(OFFSET(Ghosts!$S$41,COLUMN(),0)<ScreenHeight!$E3, 1, (SQRT(OFFSET(Ghosts!$T$41,COLUMN(),0)-OFFSET(Ghosts!$R$41,COLUMN(),0)*ScreenHeight!$D3)-1))+IF(Ghosts!$B$35,IF(Param!$M$21,-1-POWER(0.3,Param!$M$21)/(IF(Param!$M$21<20,LightShader!D67,OFFSET(LightShader!D67,Param!$M$21-20,0))+POWER(0.3,Param!$M$21)),-2),0)) -> 1.5964752 | E2: =IF(ScreenHeight!$B3<OFFSET(Radar!$AC$3,COLUMN(),0), Param!$B$38/ScreenHeight!$B3, (Param!$B$37+1/(1-OFFSET(Radar!$AD$3,COLUMN(),0)*ScreenHeight!$C3)/Param!$B$39)/OFFSET(Radar!$AC$3,COLUMN(),0))*DistanceShader!E2*LightShader!E2*(IF(OFFSET(Ghosts!$S$41,COLUMN(),0)<ScreenHeight!$E3, 1, (SQRT(OFFSET(Ghosts!$T$41,COLUMN(),0)-OFFSET(Ghosts!$R$41,COLUMN(),0)*ScreenHeight!$D3)-1))+IF(Ghosts!$B$35,IF(Param!$M$21,-1-POWER(0.3,Param!$M$21)/(IF(Param!$M$21<20,LightShader!E67,OFFSET(LightShader!E67,Param!$M$21-20,0))+POWER(0.3,Param!$M$21)),-2),0)) -> 1.6365762 | F2: =IF(ScreenHeight!$B3<OFFSET(Radar!$AC$3,COLUMN(),0), Param!$B$38/ScreenHeight!$B3, (Param!$B$37+1/(1-OFFSET(Radar!$AD$3,COLUMN(),0)*ScreenHeight!$C3)/Param!$B$39)/OFFSET(Radar!$AC$3,COLUMN(),0))*DistanceShader!F2*LightShader!F2*(IF(OFFSET(Ghosts!$S$41,COLUMN(),0)<ScreenHeight!$E3, 1, (SQRT(OFFSET(Ghosts!$T$41,COLUMN(),0)-OFFSET(Ghosts!$R$41,COLUMN(),0)*ScreenHeight!$D3)-1))+IF(Ghosts!$B$35,IF(Param!$M$21,-1-POWER(0.3,Param!$M$21)/(IF(Param!$M$21<20,LightShader!F67,OFFSET(LightShader!F67,Param!$M$21-20,0))+POWER(0.3,Param!$M$21)),-2),0)) -> 1.6778727 | G2: =IF(ScreenHeight!$B3<OFFSET(Radar!$AC$3,COLUMN(),0), Param!$B$38/ScreenHeight!$B3, (Param!$B$37+1/(1-OFFSET(Radar!$AD$3,COLUMN(),0)*ScreenHeight!$C3)/Param!$B$39)/OFFSET(Radar!$AC$3,COLUMN(),0))*DistanceShader!G2*LightShader!G2*(IF(OFFSET(Ghosts!$S$41,COLUMN(),0)<ScreenHeight!$E3, 1, (SQRT(OFFSET(Ghosts!$T$41,COLUMN(),0)-OFFSET(Ghosts!$R$41,COLUMN(),0)*ScreenHeight!$D3)-1))+IF(Ghosts!$B$35,IF(Param!$M$21,-1-POWER(0.3,Param!$M$21)/(IF(Param!$M$21<20,LightShader!G67,OFFSET(LightShader!G67,Param!$M$21-20,0))+POWER(0.3,Param!$M$21)),-2),0)) -> 1.7203925 | H2: =IF(ScreenHeight!$B3<OFFSET(Radar!$AC$3,COLUMN(),0), Param!$B$38/ScreenHeight!$B3, (Param!$B$37+1/(1-OFFSET(Radar!$AD$3,COLUMN(),0)*ScreenHeight!$C3)/Param!$B$39)/OFFSET(Radar!$AC$3,COLUMN(),0))*DistanceShader!H2*LightShader!H2*(IF(OFFSET(Ghosts!$S$41,COLUMN(),0)<ScreenHeight!$E3, 1, (SQRT(OFFSET(Ghosts!$T$41,COLUMN(),0)-OFFSET(Ghosts!$R$41,COLUMN(),0)*ScreenHeight!$D3)-1))+IF(Ghosts!$B$35,IF(Param!$M$21,-1-POWER(0.3,Param!$M$21)/(IF(Param!$M$21<20,LightShader!H67,OFFSET(LightShader!H67,Param!$M$21-20,0))+POWER(0.3,Param!$M$21)),-2),0)) -> 1.764162 | ... CW2: =IF(ScreenHeight!$B3<OFFSET(Radar!$AC$3,COLUMN(),0), Param!$B$38/ScreenHeight!$B3, (Param!$B$37+1/(1-OFFSET(Radar!$AD$3,COLUMN(),0)*ScreenHeight!$C3)/Param!$B$39)/OFFSET(Radar!$AC$3,COLUMN(),0))*DistanceShader!CW2*LightShader!CW2*(IF(OFFSET(Ghosts!$S$41,COLUMN(),0)<ScreenHeight!$E3, 1, (SQRT(OFFSET(Ghosts!$T$41,COLUMN(),0)-OFFSET(Ghosts!$R$41,COLUMN(),0)*ScreenHeight!$D3)-1))+IF(Ghosts!$B$35,IF(Param!$M$21,-1-POWER(0.3,Param!$M$21)/(IF(Param!$M$21<20,LightShader!CW67,OFFSET(LightShader!CW67,Param!$M$21-20,0))+POWER(0.3,Param!$M$21)),-2),0)) -> 1.4553865
A3: =IF(ScreenHeight!$B4<OFFSET(Radar!$AC$3,COLUMN(),0), Param!$B$38/ScreenHeight!$B4, (Param!$B$37+1/(1-OFFSET(Radar!$AD$3,COLUMN(),0)*ScreenHeight!$C4)/Param!$B$39)/OFFSET(Radar!$AC$3,COLUMN(),0))*DistanceShader!A3*LightShader!A3*(IF(OFFSET(Ghosts!$S$41,COLUMN(),0)<ScreenHeight!$E4, 1, (SQRT(OFFSET(Ghosts!$T$41,COLUMN(),0)-OFFSET(Ghosts!$R$41,COLUMN(),0)*ScreenHeight!$D4)-1))+IF(Ghosts!$B$35,IF(Param!$M$21,-1-POWER(0.3,Param!$M$21)/(IF(Param!$M$21<20,LightShader!A68,OFFSET(LightShader!A68,Param!$M$21-20,0))+POWER(0.3,Param!$M$21)),-2),0)) -> 1.4537042 | B3: =IF(ScreenHeight!$B4<OFFSET(Radar!$AC$3,COLUMN(),0), Param!$B$38/ScreenHeight!$B4, (Param!$B$37+1/(1-OFFSET(Radar!$AD$3,COLUMN(),0)*ScreenHeight!$C4)/Param!$B$39)/OFFSET(Radar!$AC$3,COLUMN(),0))*DistanceShader!B3*LightShader!B3*(IF(OFFSET(Ghosts!$S$41,COLUMN(),0)<ScreenHeight!$E4, 1, (SQRT(OFFSET(Ghosts!$T$41,COLUMN(),0)-OFFSET(Ghosts!$R$41,COLUMN(),0)*ScreenHeight!$D4)-1))+IF(Ghosts!$B$35,IF(Param!$M$21,-1-POWER(0.3,Param!$M$21)/(IF(Param!$M$21<20,LightShader!B68,OFFSET(LightShader!B68,Param!$M$21-20,0))+POWER(0.3,Param!$M$21)),-2),0)) -> 1.4902112 | C3: =IF(ScreenHeight!$B4<OFFSET(Radar!$AC$3,COLUMN(),0), Param!$B$38/ScreenHeight!$B4, (Param!$B$37+1/(1-OFFSET(Radar!$AD$3,COLUMN(),0)*ScreenHeight!$C4)/Param!$B$39)/OFFSET(Radar!$AC$3,COLUMN(),0))*DistanceShader!C3*LightShader!C3*(IF(OFFSET(Ghosts!$S$41,COLUMN(),0)<ScreenHeight!$E4, 1, (SQRT(OFFSET(Ghosts!$T$41,COLUMN(),0)-OFFSET(Ghosts!$R$41,COLUMN(),0)*ScreenHeight!$D4)-1))+IF(Ghosts!$B$35,IF(Param!$M$21,-1-POWER(0.3,Param!$M$21)/(IF(Param!$M$21<20,LightShader!C68,OFFSET(LightShader!C68,Param!$M$21-20,0))+POWER(0.3,Param!$M$21)),-2),0)) -> 1.5278516 | D3: =IF(ScreenHeight!$B4<OFFSET(Radar!$AC$3,COLUMN(),0), Param!$B$38/ScreenHeight!$B4, (Param!$B$37+1/(1-OFFSET(Radar!$AD$3,COLUMN(),0)*ScreenHeight!$C4)/Param!$B$39)/OFFSET(Radar!$AC$3,COLUMN(),0))*DistanceShader!D3*LightShader!D3*(IF(OFFSET(Ghosts!$S$41,COLUMN(),0)<ScreenHeight!$E4, 1, (SQRT(OFFSET(Ghosts!$T$41,COLUMN(),0)-OFFSET(Ghosts!$R$41,COLUMN(),0)*ScreenHeight!$D4)-1))+IF(Ghosts!$B$35,IF(Param!$M$21,-1-POWER(0.3,Param!$M$21)/(IF(Param!$M$21<20,LightShader!D68,OFFSET(LightShader!D68,Param!$M$21-20,0))+POWER(0.3,Param!$M$21)),-2),0)) -> 1.5666577 | E3: =IF(ScreenHeight!$B4<OFFSET(Radar!$AC$3,COLUMN(),0), Param!$B$38/ScreenHeight!$B4, (Param!$B$37+1/(1-OFFSET(Radar!$AD$3,COLUMN(),0)*ScreenHeight!$C4)/Param!$B$39)/OFFSET(Radar!$AC$3,COLUMN(),0))*DistanceShader!E3*LightShader!E3*(IF(OFFSET(Ghosts!$S$41,COLUMN(),0)<ScreenHeight!$E4, 1, (SQRT(OFFSET(Ghosts!$T$41,COLUMN(),0)-OFFSET(Ghosts!$R$41,COLUMN(),0)*ScreenHeight!$D4)-1))+IF(Ghosts!$B$35,IF(Param!$M$21,-1-POWER(0.3,Param!$M$21)/(IF(Param!$M$21<20,LightShader!E68,OFFSET(LightShader!E68,Param!$M$21-20,0))+POWER(0.3,Param!$M$21)),-2),0)) -> 1.6066617 | F3: =IF(ScreenHeight!$B4<OFFSET(Radar!$AC$3,COLUMN(),0), Param!$B$38/ScreenHeight!$B4, (Param!$B$37+1/(1-OFFSET(Radar!$AD$3,COLUMN(),0)*ScreenHeight!$C4)/Param!$B$39)/OFFSET(Radar!$AC$3,COLUMN(),0))*DistanceShader!F3*LightShader!F3*(IF(OFFSET(Ghosts!$S$41,COLUMN(),0)<ScreenHeight!$E4, 1, (SQRT(OFFSET(Ghosts!$T$41,COLUMN(),0)-OFFSET(Ghosts!$R$41,COLUMN(),0)*ScreenHeight!$D4)-1))+IF(Ghosts!$B$35,IF(Param!$M$21,-1-POWER(0.3,Param!$M$21)/(IF(Param!$M$21<20,LightShader!F68,OFFSET(LightShader!F68,Param!$M$21-20,0))+POWER(0.3,Param!$M$21)),-2),0)) -> 1.6478955 | G3: =IF(ScreenHeight!$B4<OFFSET(Radar!$AC$3,COLUMN(),0), Param!$B$38/ScreenHeight!$B4, (Param!$B$37+1/(1-OFFSET(Radar!$AD$3,COLUMN(),0)*ScreenHeight!$C4)/Param!$B$39)/OFFSET(Radar!$AC$3,COLUMN(),0))*DistanceShader!G3*LightShader!G3*(IF(OFFSET(Ghosts!$S$41,COLUMN(),0)<ScreenHeight!$E4, 1, (SQRT(OFFSET(Ghosts!$T$41,COLUMN(),0)-OFFSET(Ghosts!$R$41,COLUMN(),0)*ScreenHeight!$D4)-1))+IF(Ghosts!$B$35,IF(Param!$M$21,-1-POWER(0.3,Param!$M$21)/(IF(Param!$M$21<20,LightShader!G68,OFFSET(LightShader!G68,Param!$M$21-20,0))+POWER(0.3,Param!$M$21)),-2),0)) -> 1.6903904 | H3: =IF(ScreenHeight!$B4<OFFSET(Radar!$AC$3,COLUMN(),0), Param!$B$38/ScreenHeight!$B4, (Param!$B$37+1/(1-OFFSET(Radar!$AD$3,COLUMN(),0)*ScreenHeight!$C4)/Param!$B$39)/OFFSET(Radar!$AC$3,COLUMN(),0))*DistanceShader!H3*LightShader!H3*(IF(OFFSET(Ghosts!$S$41,COLUMN(),0)<ScreenHeight!$E4, 1, (SQRT(OFFSET(Ghosts!$T$41,COLUMN(),0)-OFFSET(Ghosts!$R$41,COLUMN(),0)*ScreenHeight!$D4)-1))+IF(Ghosts!$B$35,IF(Param!$M$21,-1-POWER(0.3,Param!$M$21)/(IF(Param!$M$21<20,LightShader!H68,OFFSET(LightShader!H68,Param!$M$21-20,0))+POWER(0.3,Param!$M$21)),-2),0)) -> 1.734177 | ... CW3: =IF(ScreenHeight!$B4<OFFSET(Radar!$AC$3,COLUMN(),0), Param!$B$38/ScreenHeight!$B4, (Param!$B$37+1/(1-OFFSET(Radar!$AD$3,COLUMN(),0)*ScreenHeight!$C4)/Param!$B$39)/OFFSET(Radar!$AC$3,COLUMN(),0))*DistanceShader!CW3*LightShader!CW3*(IF(OFFSET(Ghosts!$S$41,COLUMN(),0)<ScreenHeight!$E4, 1, (SQRT(OFFSET(Ghosts!$T$41,COLUMN(),0)-OFFSET(Ghosts!$R$41,COLUMN(),0)*ScreenHeight!$D4)-1))+IF(Ghosts!$B$35,IF(Param!$M$21,-1-POWER(0.3,Param!$M$21)/(IF(Param!$M$21<20,LightShader!CW68,OFFSET(LightShader!CW68,Param!$M$21-20,0))+POWER(0.3,Param!$M$21)),-2),0)) -> 1.4262992
A4: =IF(ScreenHeight!$B5<OFFSET(Radar!$AC$3,COLUMN(),0), Param!$B$38/ScreenHeight!$B5, (Param!$B$37+1/(1-OFFSET(Radar!$AD$3,COLUMN(),0)*ScreenHeight!$C5)/Param!$B$39)/OFFSET(Radar!$AC$3,COLUMN(),0))*DistanceShader!A4*LightShader!A4*(IF(OFFSET(Ghosts!$S$41,COLUMN(),0)<ScreenHeight!$E5, 1, (SQRT(OFFSET(Ghosts!$T$41,COLUMN(),0)-OFFSET(Ghosts!$R$41,COLUMN(),0)*ScreenHeight!$D5)-1))+IF(Ghosts!$B$35,IF(Param!$M$21,-1-POWER(0.3,Param!$M$21)/(IF(Param!$M$21<20,LightShader!A69,OFFSET(LightShader!A69,Param!$M$21-20,0))+POWER(0.3,Param!$M$21)),-2),0)) -> 1.4228127 | B4: =IF(ScreenHeight!$B5<OFFSET(Radar!$AC$3,COLUMN(),0), Param!$B$38/ScreenHeight!$B5, (Param!$B$37+1/(1-OFFSET(Radar!$AD$3,COLUMN(),0)*ScreenHeight!$C5)/Param!$B$39)/OFFSET(Radar!$AC$3,COLUMN(),0))*DistanceShader!B4*LightShader!B4*(IF(OFFSET(Ghosts!$S$41,COLUMN(),0)<ScreenHeight!$E5, 1, (SQRT(OFFSET(Ghosts!$T$41,COLUMN(),0)-OFFSET(Ghosts!$R$41,COLUMN(),0)*ScreenHeight!$D5)-1))+IF(Ghosts!$B$35,IF(Param!$M$21,-1-POWER(0.3,Param!$M$21)/(IF(Param!$M$21<20,LightShader!B69,OFFSET(LightShader!B69,Param!$M$21-20,0))+POWER(0.3,Param!$M$21)),-2),0)) -> 1.4590755 | C4: =IF(ScreenHeight!$B5<OFFSET(Radar!$AC$3,COLUMN(),0), Param!$B$38/ScreenHeight!$B5, (Param!$B$37+1/(1-OFFSET(Radar!$AD$3,COLUMN(),0)*ScreenHeight!$C5)/Param!$B$39)/OFFSET(Radar!$AC$3,COLUMN(),0))*DistanceShader!C4*LightShader!C4*(IF(OFFSET(Ghosts!$S$41,COLUMN(),0)<ScreenHeight!$E5, 1, (SQRT(OFFSET(Ghosts!$T$41,COLUMN(),0)-OFFSET(Ghosts!$R$41,COLUMN(),0)*ScreenHeight!$D5)-1))+IF(Ghosts!$B$35,IF(Param!$M$21,-1-POWER(0.3,Param!$M$21)/(IF(Param!$M$21<20,LightShader!C69,OFFSET(LightShader!C69,Param!$M$21-20,0))+POWER(0.3,Param!$M$21)),-2),0)) -> 1.4964942 | D4: =IF(ScreenHeight!$B5<OFFSET(Radar!$AC$3,COLUMN(),0), Param!$B$38/ScreenHeight!$B5, (Param!$B$37+1/(1-OFFSET(Radar!$AD$3,COLUMN(),0)*ScreenHeight!$C5)/Param!$B$39)/OFFSET(Radar!$AC$3,COLUMN(),0))*DistanceShader!D4*LightShader!D4*(IF(OFFSET(Ghosts!$S$41,COLUMN(),0)<ScreenHeight!$E5, 1, (SQRT(OFFSET(Ghosts!$T$41,COLUMN(),0)-OFFSET(Ghosts!$R$41,COLUMN(),0)*ScreenHeight!$D5)-1))+IF(Ghosts!$B$35,IF(Param!$M$21,-1-POWER(0.3,Param!$M$21)/(IF(Param!$M$21<20,LightShader!D69,OFFSET(LightShader!D69,Param!$M$21-20,0))+POWER(0.3,Param!$M$21)),-2),0)) -> 1.5351039 | E4: =IF(ScreenHeight!$B5<OFFSET(Radar!$AC$3,COLUMN(),0), Param!$B$38/ScreenHeight!$B5, (Param!$B$37+1/(1-OFFSET(Radar!$AD$3,COLUMN(),0)*ScreenHeight!$C5)/Param!$B$39)/OFFSET(Radar!$AC$3,COLUMN(),0))*DistanceShader!E4*LightShader!E4*(IF(OFFSET(Ghosts!$S$41,COLUMN(),0)<ScreenHeight!$E5, 1, (SQRT(OFFSET(Ghosts!$T$41,COLUMN(),0)-OFFSET(Ghosts!$R$41,COLUMN(),0)*ScreenHeight!$D5)-1))+IF(Ghosts!$B$35,IF(Param!$M$21,-1-POWER(0.3,Param!$M$21)/(IF(Param!$M$21<20,LightShader!E69,OFFSET(LightShader!E69,Param!$M$21-20,0))+POWER(0.3,Param!$M$21)),-2),0)) -> 1.5749399 | F4: =IF(ScreenHeight!$B5<OFFSET(Radar!$AC$3,COLUMN(),0), Param!$B$38/ScreenHeight!$B5, (Param!$B$37+1/(1-OFFSET(Radar!$AD$3,COLUMN(),0)*ScreenHeight!$C5)/Param!$B$39)/OFFSET(Radar!$AC$3,COLUMN(),0))*DistanceShader!F4*LightShader!F4*(IF(OFFSET(Ghosts!$S$41,COLUMN(),0)<ScreenHeight!$E5, 1, (SQRT(OFFSET(Ghosts!$T$41,COLUMN(),0)-OFFSET(Ghosts!$R$41,COLUMN(),0)*ScreenHeight!$D5)-1))+IF(Ghosts!$B$35,IF(Param!$M$21,-1-POWER(0.3,Param!$M$21)/(IF(Param!$M$21<20,LightShader!F69,OFFSET(LightShader!F69,Param!$M$21-20,0))+POWER(0.3,Param!$M$21)),-2),0)) -> 1.6160376 | G4: =IF(ScreenHeight!$B5<OFFSET(Radar!$AC$3,COLUMN(),0), Param!$B$38/ScreenHeight!$B5, (Param!$B$37+1/(1-OFFSET(Radar!$AD$3,COLUMN(),0)*ScreenHeight!$C5)/Param!$B$39)/OFFSET(Radar!$AC$3,COLUMN(),0))*DistanceShader!G4*LightShader!G4*(IF(OFFSET(Ghosts!$S$41,COLUMN(),0)<ScreenHeight!$E5, 1, (SQRT(OFFSET(Ghosts!$T$41,COLUMN(),0)-OFFSET(Ghosts!$R$41,COLUMN(),0)*ScreenHeight!$D5)-1))+IF(Ghosts!$B$35,IF(Param!$M$21,-1-POWER(0.3,Param!$M$21)/(IF(Param!$M$21<20,LightShader!G69,OFFSET(LightShader!G69,Param!$M$21-20,0))+POWER(0.3,Param!$M$21)),-2),0)) -> 1.6584321 | H4: =IF(ScreenHeight!$B5<OFFSET(Radar!$AC$3,COLUMN(),0), Param!$B$38/ScreenHeight!$B5, (Param!$B$37+1/(1-OFFSET(Radar!$AD$3,COLUMN(),0)*ScreenHeight!$C5)/Param!$B$39)/OFFSET(Radar!$AC$3,COLUMN(),0))*DistanceShader!H4*LightShader!H4*(IF(OFFSET(Ghosts!$S$41,COLUMN(),0)<ScreenHeight!$E5, 1, (SQRT(OFFSET(Ghosts!$T$41,COLUMN(),0)-OFFSET(Ghosts!$R$41,COLUMN(),0)*ScreenHeight!$D5)-1))+IF(Ghosts!$B$35,IF(Param!$M$21,-1-POWER(0.3,Param!$M$21)/(IF(Param!$M$21<20,LightShader!H69,OFFSET(LightShader!H69,Param!$M$21-20,0))+POWER(0.3,Param!$M$21)),-2),0)) -> 1.7021577 | ... CW4: =IF(ScreenHeight!$B5<OFFSET(Radar!$AC$3,COLUMN(),0), Param!$B$38/ScreenHeight!$B5, (Param!$B$37+1/(1-OFFSET(Radar!$AD$3,COLUMN(),0)*ScreenHeight!$C5)/Param!$B$39)/OFFSET(Radar!$AC$3,COLUMN(),0))*DistanceShader!CW4*LightShader!CW4*(IF(OFFSET(Ghosts!$S$41,COLUMN(),0)<ScreenHeight!$E5, 1, (SQRT(OFFSET(Ghosts!$T$41,COLUMN(),0)-OFFSET(Ghosts!$R$41,COLUMN(),0)*ScreenHeight!$D5)-1))+IF(Ghosts!$B$35,IF(Param!$M$21,-1-POWER(0.3,Param!$M$21)/(IF(Param!$M$21<20,LightShader!CW69,OFFSET(LightShader!CW69,Param!$M$21-20,0))+POWER(0.3,Param!$M$21)),-2),0)) -> 1.3957194
A5: =IF(ScreenHeight!$B6<OFFSET(Radar!$AC$3,COLUMN(),0), Param!$B$38/ScreenHeight!$B6, (Param!$B$37+1/(1-OFFSET(Radar!$AD$3,COLUMN(),0)*ScreenHeight!$C6)/Param!$B$39)/OFFSET(Radar!$AC$3,COLUMN(),0))*DistanceShader!A5*LightShader!A5*(IF(OFFSET(Ghosts!$S$41,COLUMN(),0)<ScreenHeight!$E6, 1, (SQRT(OFFSET(Ghosts!$T$41,COLUMN(),0)-OFFSET(Ghosts!$R$41,COLUMN(),0)*ScreenHeight!$D6)-1))+IF(Ghosts!$B$35,IF(Param!$M$21,-1-POWER(0.3,Param!$M$21)/(IF(Param!$M$21<20,LightShader!A70,OFFSET(LightShader!A70,Param!$M$21-20,0))+POWER(0.3,Param!$M$21)),-2),0)) -> 1.3903649 | B5: =IF(ScreenHeight!$B6<OFFSET(Radar!$AC$3,COLUMN(),0), Param!$B$38/ScreenHeight!$B6, (Param!$B$37+1/(1-OFFSET(Radar!$AD$3,COLUMN(),0)*ScreenHeight!$C6)/Param!$B$39)/OFFSET(Radar!$AC$3,COLUMN(),0))*DistanceShader!B5*LightShader!B5*(IF(OFFSET(Ghosts!$S$41,COLUMN(),0)<ScreenHeight!$E6, 1, (SQRT(OFFSET(Ghosts!$T$41,COLUMN(),0)-OFFSET(Ghosts!$R$41,COLUMN(),0)*ScreenHeight!$D6)-1))+IF(Ghosts!$B$35,IF(Param!$M$21,-1-POWER(0.3,Param!$M$21)/(IF(Param!$M$21<20,LightShader!B70,OFFSET(LightShader!B70,Param!$M$21-20,0))+POWER(0.3,Param!$M$21)),-2),0)) -> 1.4263167 | C5: =IF(ScreenHeight!$B6<OFFSET(Radar!$AC$3,COLUMN(),0), Param!$B$38/ScreenHeight!$B6, (Param!$B$37+1/(1-OFFSET(Radar!$AD$3,COLUMN(),0)*ScreenHeight!$C6)/Param!$B$39)/OFFSET(Radar!$AC$3,COLUMN(),0))*DistanceShader!C5*LightShader!C5*(IF(OFFSET(Ghosts!$S$41,COLUMN(),0)<ScreenHeight!$E6, 1, (SQRT(OFFSET(Ghosts!$T$41,COLUMN(),0)-OFFSET(Ghosts!$R$41,COLUMN(),0)*ScreenHeight!$D6)-1))+IF(Ghosts!$B$35,IF(Param!$M$21,-1-POWER(0.3,Param!$M$21)/(IF(Param!$M$21<20,LightShader!C70,OFFSET(LightShader!C70,Param!$M$21-20,0))+POWER(0.3,Param!$M$21)),-2),0)) -> 1.4634441 | D5: =IF(ScreenHeight!$B6<OFFSET(Radar!$AC$3,COLUMN(),0), Param!$B$38/ScreenHeight!$B6, (Param!$B$37+1/(1-OFFSET(Radar!$AD$3,COLUMN(),0)*ScreenHeight!$C6)/Param!$B$39)/OFFSET(Radar!$AC$3,COLUMN(),0))*DistanceShader!D5*LightShader!D5*(IF(OFFSET(Ghosts!$S$41,COLUMN(),0)<ScreenHeight!$E6, 1, (SQRT(OFFSET(Ghosts!$T$41,COLUMN(),0)-OFFSET(Ghosts!$R$41,COLUMN(),0)*ScreenHeight!$D6)-1))+IF(Ghosts!$B$35,IF(Param!$M$21,-1-POWER(0.3,Param!$M$21)/(IF(Param!$M$21<20,LightShader!D70,OFFSET(LightShader!D70,Param!$M$21-20,0))+POWER(0.3,Param!$M$21)),-2),0)) -> 1.5017851 | E5: =IF(ScreenHeight!$B6<OFFSET(Radar!$AC$3,COLUMN(),0), Param!$B$38/ScreenHeight!$B6, (Param!$B$37+1/(1-OFFSET(Radar!$AD$3,COLUMN(),0)*ScreenHeight!$C6)/Param!$B$39)/OFFSET(Radar!$AC$3,COLUMN(),0))*DistanceShader!E5*LightShader!E5*(IF(OFFSET(Ghosts!$S$41,COLUMN(),0)<ScreenHeight!$E6, 1, (SQRT(OFFSET(Ghosts!$T$41,COLUMN(),0)-OFFSET(Ghosts!$R$41,COLUMN(),0)*ScreenHeight!$D6)-1))+IF(Ghosts!$B$35,IF(Param!$M$21,-1-POWER(0.3,Param!$M$21)/(IF(Param!$M$21<20,LightShader!E70,OFFSET(LightShader!E70,Param!$M$21-20,0))+POWER(0.3,Param!$M$21)),-2),0)) -> 1.5413782 | F5: =IF(ScreenHeight!$B6<OFFSET(Radar!$AC$3,COLUMN(),0), Param!$B$38/ScreenHeight!$B6, (Param!$B$37+1/(1-OFFSET(Radar!$AD$3,COLUMN(),0)*ScreenHeight!$C6)/Param!$B$39)/OFFSET(Radar!$AC$3,COLUMN(),0))*DistanceShader!F5*LightShader!F5*(IF(OFFSET(Ghosts!$S$41,COLUMN(),0)<ScreenHeight!$E6, 1, (SQRT(OFFSET(Ghosts!$T$41,COLUMN(),0)-OFFSET(Ghosts!$R$41,COLUMN(),0)*ScreenHeight!$D6)-1))+IF(Ghosts!$B$35,IF(Param!$M$21,-1-POWER(0.3,Param!$M$21)/(IF(Param!$M$21<20,LightShader!F70,OFFSET(LightShader!F70,Param!$M$21-20,0))+POWER(0.3,Param!$M$21)),-2),0)) -> 1.582262 | G5: =IF(ScreenHeight!$B6<OFFSET(Radar!$AC$3,COLUMN(),0), Param!$B$38/ScreenHeight!$B6, (Param!$B$37+1/(1-OFFSET(Radar!$AD$3,COLUMN(),0)*ScreenHeight!$C6)/Param!$B$39)/OFFSET(Radar!$AC$3,COLUMN(),0))*DistanceShader!G5*LightShader!G5*(IF(OFFSET(Ghosts!$S$41,COLUMN(),0)<ScreenHeight!$E6, 1, (SQRT(OFFSET(Ghosts!$T$41,COLUMN(),0)-OFFSET(Ghosts!$R$41,COLUMN(),0)*ScreenHeight!$D6)-1))+IF(Ghosts!$B$35,IF(Param!$M$21,-1-POWER(0.3,Param!$M$21)/(IF(Param!$M$21<20,LightShader!G70,OFFSET(LightShader!G70,Param!$M$21-20,0))+POWER(0.3,Param!$M$21)),-2),0)) -> 1.6244754 | H5: =IF(ScreenHeight!$B6<OFFSET(Radar!$AC$3,COLUMN(),0), Param!$B$38/ScreenHeight!$B6, (Param!$B$37+1/(1-OFFSET(Radar!$AD$3,COLUMN(),0)*ScreenHeight!$C6)/Param!$B$39)/OFFSET(Radar!$AC$3,COLUMN(),0))*DistanceShader!H5*LightShader!H5*(IF(OFFSET(Ghosts!$S$41,COLUMN(),0)<ScreenHeight!$E6, 1, (SQRT(OFFSET(Ghosts!$T$41,COLUMN(),0)-OFFSET(Ghosts!$R$41,COLUMN(),0)*ScreenHeight!$D6)-1))+IF(Ghosts!$B$35,IF(Param!$M$21,-1-POWER(0.3,Param!$M$21)/(IF(Param!$M$21<20,LightShader!H70,OFFSET(LightShader!H70,Param!$M$21-20,0))+POWER(0.3,Param!$M$21)),-2),0)) -> 1.6680569 | ... CW5: =IF(ScreenHeight!$B6<OFFSET(Radar!$AC$3,COLUMN(),0), Param!$B$38/ScreenHeight!$B6, (Param!$B$37+1/(1-OFFSET(Radar!$AD$3,COLUMN(),0)*ScreenHeight!$C6)/Param!$B$39)/OFFSET(Radar!$AC$3,COLUMN(),0))*DistanceShader!CW5*LightShader!CW5*(IF(OFFSET(Ghosts!$S$41,COLUMN(),0)<ScreenHeight!$E6, 1, (SQRT(OFFSET(Ghosts!$T$41,COLUMN(),0)-OFFSET(Ghosts!$R$41,COLUMN(),0)*ScreenHeight!$D6)-1))+IF(Ghosts!$B$35,IF(Param!$M$21,-1-POWER(0.3,Param!$M$21)/(IF(Param!$M$21<20,LightShader!CW70,OFFSET(LightShader!CW70,Param!$M$21-20,0))+POWER(0.3,Param!$M$21)),-2),0)) -> 1.3636297
A6: =IF(ScreenHeight!$B7<OFFSET(Radar!$AC$3,COLUMN(),0), Param!$B$38/ScreenHeight!$B7, (Param!$B$37+1/(1-OFFSET(Radar!$AD$3,COLUMN(),0)*ScreenHeight!$C7)/Param!$B$39)/OFFSET(Radar!$AC$3,COLUMN(),0))*DistanceShader!A6*LightShader!A6*(IF(OFFSET(Ghosts!$S$41,COLUMN(),0)<ScreenHeight!$E7, 1, (SQRT(OFFSET(Ghosts!$T$41,COLUMN(),0)-OFFSET(Ghosts!$R$41,COLUMN(),0)*ScreenHeight!$D7)-1))+IF(Ghosts!$B$35,IF(Param!$M$21,-1-POWER(0.3,Param!$M$21)/(IF(Param!$M$21<20,LightShader!A71,OFFSET(LightShader!A71,Param!$M$21-20,0))+POWER(0.3,Param!$M$21)),-2),0)) -> 1.3563459 | B6: =IF(ScreenHeight!$B7<OFFSET(Radar!$AC$3,COLUMN(),0), Param!$B$38/ScreenHeight!$B7, (Param!$B$37+1/(1-OFFSET(Radar!$AD$3,COLUMN(),0)*ScreenHeight!$C7)/Param!$B$39)/OFFSET(Radar!$AC$3,COLUMN(),0))*DistanceShader!B6*LightShader!B6*(IF(OFFSET(Ghosts!$S$41,COLUMN(),0)<ScreenHeight!$E7, 1, (SQRT(OFFSET(Ghosts!$T$41,COLUMN(),0)-OFFSET(Ghosts!$R$41,COLUMN(),0)*ScreenHeight!$D7)-1))+IF(Ghosts!$B$35,IF(Param!$M$21,-1-POWER(0.3,Param!$M$21)/(IF(Param!$M$21<20,LightShader!B71,OFFSET(LightShader!B71,Param!$M$21-20,0))+POWER(0.3,Param!$M$21)),-2),0)) -> 1.391917 | C6: =IF(ScreenHeight!$B7<OFFSET(Radar!$AC$3,COLUMN(),0), Param!$B$38/ScreenHeight!$B7, (Param!$B$37+1/(1-OFFSET(Radar!$AD$3,COLUMN(),0)*ScreenHeight!$C7)/Param!$B$39)/OFFSET(Radar!$AC$3,COLUMN(),0))*DistanceShader!C6*LightShader!C6*(IF(OFFSET(Ghosts!$S$41,COLUMN(),0)<ScreenHeight!$E7, 1, (SQRT(OFFSET(Ghosts!$T$41,COLUMN(),0)-OFFSET(Ghosts!$R$41,COLUMN(),0)*ScreenHeight!$D7)-1))+IF(Ghosts!$B$35,IF(Param!$M$21,-1-POWER(0.3,Param!$M$21)/(IF(Param!$M$21<20,LightShader!C71,OFFSET(LightShader!C71,Param!$M$21-20,0))+POWER(0.3,Param!$M$21)),-2),0)) -> 1.4286804 | D6: =IF(ScreenHeight!$B7<OFFSET(Radar!$AC$3,COLUMN(),0), Param!$B$38/ScreenHeight!$B7, (Param!$B$37+1/(1-OFFSET(Radar!$AD$3,COLUMN(),0)*ScreenHeight!$C7)/Param!$B$39)/OFFSET(Radar!$AC$3,COLUMN(),0))*DistanceShader!D6*LightShader!D6*(IF(OFFSET(Ghosts!$S$41,COLUMN(),0)<ScreenHeight!$E7, 1, (SQRT(OFFSET(Ghosts!$T$41,COLUMN(),0)-OFFSET(Ghosts!$R$41,COLUMN(),0)*ScreenHeight!$D7)-1))+IF(Ghosts!$B$35,IF(Param!$M$21,-1-POWER(0.3,Param!$M$21)/(IF(Param!$M$21<20,LightShader!D71,OFFSET(LightShader!D71,Param!$M$21-20,0))+POWER(0.3,Param!$M$21)),-2),0)) -> 1.4666769 | E6: =IF(ScreenHeight!$B7<OFFSET(Radar!$AC$3,COLUMN(),0), Param!$B$38/ScreenHeight!$B7, (Param!$B$37+1/(1-OFFSET(Radar!$AD$3,COLUMN(),0)*ScreenHeight!$C7)/Param!$B$39)/OFFSET(Radar!$AC$3,COLUMN(),0))*DistanceShader!E6*LightShader!E6*(IF(OFFSET(Ghosts!$S$41,COLUMN(),0)<ScreenHeight!$E7, 1, (SQRT(OFFSET(Ghosts!$T$41,COLUMN(),0)-OFFSET(Ghosts!$R$41,COLUMN(),0)*ScreenHeight!$D7)-1))+IF(Ghosts!$B$35,IF(Param!$M$21,-1-POWER(0.3,Param!$M$21)/(IF(Param!$M$21<20,LightShader!E71,OFFSET(LightShader!E71,Param!$M$21-20,0))+POWER(0.3,Param!$M$21)),-2),0)) -> 1.505948 | F6: =IF(ScreenHeight!$B7<OFFSET(Radar!$AC$3,COLUMN(),0), Param!$B$38/ScreenHeight!$B7, (Param!$B$37+1/(1-OFFSET(Radar!$AD$3,COLUMN(),0)*ScreenHeight!$C7)/Param!$B$39)/OFFSET(Radar!$AC$3,COLUMN(),0))*DistanceShader!F6*LightShader!F6*(IF(OFFSET(Ghosts!$S$41,COLUMN(),0)<ScreenHeight!$E7, 1, (SQRT(OFFSET(Ghosts!$T$41,COLUMN(),0)-OFFSET(Ghosts!$R$41,COLUMN(),0)*ScreenHeight!$D7)-1))+IF(Ghosts!$B$35,IF(Param!$M$21,-1-POWER(0.3,Param!$M$21)/(IF(Param!$M$21<20,LightShader!F71,OFFSET(LightShader!F71,Param!$M$21-20,0))+POWER(0.3,Param!$M$21)),-2),0)) -> 1.5465358 | G6: =IF(ScreenHeight!$B7<OFFSET(Radar!$AC$3,COLUMN(),0), Param!$B$38/ScreenHeight!$B7, (Param!$B$37+1/(1-OFFSET(Radar!$AD$3,COLUMN(),0)*ScreenHeight!$C7)/Param!$B$39)/OFFSET(Radar!$AC$3,COLUMN(),0))*DistanceShader!G6*LightShader!G6*(IF(OFFSET(Ghosts!$S$41,COLUMN(),0)<ScreenHeight!$E7, 1, (SQRT(OFFSET(Ghosts!$T$41,COLUMN(),0)-OFFSET(Ghosts!$R$41,COLUMN(),0)*ScreenHeight!$D7)-1))+IF(Ghosts!$B$35,IF(Param!$M$21,-1-POWER(0.3,Param!$M$21)/(IF(Param!$M$21<20,LightShader!G71,OFFSET(LightShader!G71,Param!$M$21-20,0))+POWER(0.3,Param!$M$21)),-2),0)) -> 1.5884828 | H6: =IF(ScreenHeight!$B7<OFFSET(Radar!$AC$3,COLUMN(),0), Param!$B$38/ScreenHeight!$B7, (Param!$B$37+1/(1-OFFSET(Radar!$AD$3,COLUMN(),0)*ScreenHeight!$C7)/Param!$B$39)/OFFSET(Radar!$AC$3,COLUMN(),0))*DistanceShader!H6*LightShader!H6*(IF(OFFSET(Ghosts!$S$41,COLUMN(),0)<ScreenHeight!$E7, 1, (SQRT(OFFSET(Ghosts!$T$41,COLUMN(),0)-OFFSET(Ghosts!$R$41,COLUMN(),0)*ScreenHeight!$D7)-1))+IF(Ghosts!$B$35,IF(Param!$M$21,-1-POWER(0.3,Param!$M$21)/(IF(Param!$M$21<20,LightShader!H71,OFFSET(LightShader!H71,Param!$M$21-20,0))+POWER(0.3,Param!$M$21)),-2),0)) -> 1.6318316 | ... CW6: =IF(ScreenHeight!$B7<OFFSET(Radar!$AC$3,COLUMN(),0), Param!$B$38/ScreenHeight!$B7, (Param!$B$37+1/(1-OFFSET(Radar!$AD$3,COLUMN(),0)*ScreenHeight!$C7)/Param!$B$39)/OFFSET(Radar!$AC$3,COLUMN(),0))*DistanceShader!CW6*LightShader!CW6*(IF(OFFSET(Ghosts!$S$41,COLUMN(),0)<ScreenHeight!$E7, 1, (SQRT(OFFSET(Ghosts!$T$41,COLUMN(),0)-OFFSET(Ghosts!$R$41,COLUMN(),0)*ScreenHeight!$D7)-1))+IF(Ghosts!$B$35,IF(Param!$M$21,-1-POWER(0.3,Param!$M$21)/(IF(Param!$M$21<20,LightShader!CW71,OFFSET(LightShader!CW71,Param!$M$21-20,0))+POWER(0.3,Param!$M$21)),-2),0)) -> 1.3300168
A7: =IF(ScreenHeight!$B8<OFFSET(Radar!$AC$3,COLUMN(),0), Param!$B$38/ScreenHeight!$B8, (Param!$B$37+1/(1-OFFSET(Radar!$AD$3,COLUMN(),0)*ScreenHeight!$C8)/Param!$B$39)/OFFSET(Radar!$AC$3,COLUMN(),0))*DistanceShader!A7*LightShader!A7*(IF(OFFSET(Ghosts!$S$41,COLUMN(),0)<ScreenHeight!$E8, 1, (SQRT(OFFSET(Ghosts!$T$41,COLUMN(),0)-OFFSET(Ghosts!$R$41,COLUMN(),0)*ScreenHeight!$D8)-1))+IF(Ghosts!$B$35,IF(Param!$M$21,-1-POWER(0.3,Param!$M$21)/(IF(Param!$M$21<20,LightShader!A72,OFFSET(LightShader!A72,Param!$M$21-20,0))+POWER(0.3,Param!$M$21)),-2),0)) -> 1.320745 | B7: =IF(ScreenHeight!$B8<OFFSET(Radar!$AC$3,COLUMN(),0), Param!$B$38/ScreenHeight!$B8, (Param!$B$37+1/(1-OFFSET(Radar!$AD$3,COLUMN(),0)*ScreenHeight!$C8)/Param!$B$39)/OFFSET(Radar!$AC$3,COLUMN(),0))*DistanceShader!B7*LightShader!B7*(IF(OFFSET(Ghosts!$S$41,COLUMN(),0)<ScreenHeight!$E8, 1, (SQRT(OFFSET(Ghosts!$T$41,COLUMN(),0)-OFFSET(Ghosts!$R$41,COLUMN(),0)*ScreenHeight!$D8)-1))+IF(Ghosts!$B$35,IF(Param!$M$21,-1-POWER(0.3,Param!$M$21)/(IF(Param!$M$21<20,LightShader!B72,OFFSET(LightShader!B72,Param!$M$21-20,0))+POWER(0.3,Param!$M$21)),-2),0)) -> 1.3558629 | C7: =IF(ScreenHeight!$B8<OFFSET(Radar!$AC$3,COLUMN(),0), Param!$B$38/ScreenHeight!$B8, (Param!$B$37+1/(1-OFFSET(Radar!$AD$3,COLUMN(),0)*ScreenHeight!$C8)/Param!$B$39)/OFFSET(Radar!$AC$3,COLUMN(),0))*DistanceShader!C7*LightShader!C7*(IF(OFFSET(Ghosts!$S$41,COLUMN(),0)<ScreenHeight!$E8, 1, (SQRT(OFFSET(Ghosts!$T$41,COLUMN(),0)-OFFSET(Ghosts!$R$41,COLUMN(),0)*ScreenHeight!$D8)-1))+IF(Ghosts!$B$35,IF(Param!$M$21,-1-POWER(0.3,Param!$M$21)/(IF(Param!$M$21<20,LightShader!C72,OFFSET(LightShader!C72,Param!$M$21-20,0))+POWER(0.3,Param!$M$21)),-2),0)) -> 1.3921865 | D7: =IF(ScreenHeight!$B8<OFFSET(Radar!$AC$3,COLUMN(),0), Param!$B$38/ScreenHeight!$B8, (Param!$B$37+1/(1-OFFSET(Radar!$AD$3,COLUMN(),0)*ScreenHeight!$C8)/Param!$B$39)/OFFSET(Radar!$AC$3,COLUMN(),0))*DistanceShader!D7*LightShader!D7*(IF(OFFSET(Ghosts!$S$41,COLUMN(),0)<ScreenHeight!$E8, 1, (SQRT(OFFSET(Ghosts!$T$41,COLUMN(),0)-OFFSET(Ghosts!$R$41,COLUMN(),0)*ScreenHeight!$D8)-1))+IF(Ghosts!$B$35,IF(Param!$M$21,-1-POWER(0.3,Param!$M$21)/(IF(Param!$M$21<20,LightShader!D72,OFFSET(LightShader!D72,Param!$M$21-20,0))+POWER(0.3,Param!$M$21)),-2),0)) -> 1.4297593 | E7: =IF(ScreenHeight!$B8<OFFSET(Radar!$AC$3,COLUMN(),0), Param!$B$38/ScreenHeight!$B8, (Param!$B$37+1/(1-OFFSET(Radar!$AD$3,COLUMN(),0)*ScreenHeight!$C8)/Param!$B$39)/OFFSET(Radar!$AC$3,COLUMN(),0))*DistanceShader!E7*LightShader!E7*(IF(OFFSET(Ghosts!$S$41,COLUMN(),0)<ScreenHeight!$E8, 1, (SQRT(OFFSET(Ghosts!$T$41,COLUMN(),0)-OFFSET(Ghosts!$R$41,COLUMN(),0)*ScreenHeight!$D8)-1))+IF(Ghosts!$B$35,IF(Param!$M$21,-1-POWER(0.3,Param!$M$21)/(IF(Param!$M$21<20,LightShader!E72,OFFSET(LightShader!E72,Param!$M$21-20,0))+POWER(0.3,Param!$M$21)),-2),0)) -> 1.4686257 | F7: =IF(ScreenHeight!$B8<OFFSET(Radar!$AC$3,COLUMN(),0), Param!$B$38/ScreenHeight!$B8, (Param!$B$37+1/(1-OFFSET(Radar!$AD$3,COLUMN(),0)*ScreenHeight!$C8)/Param!$B$39)/OFFSET(Radar!$AC$3,COLUMN(),0))*DistanceShader!F7*LightShader!F7*(IF(OFFSET(Ghosts!$S$41,COLUMN(),0)<ScreenHeight!$E8, 1, (SQRT(OFFSET(Ghosts!$T$41,COLUMN(),0)-OFFSET(Ghosts!$R$41,COLUMN(),0)*ScreenHeight!$D8)-1))+IF(Ghosts!$B$35,IF(Param!$M$21,-1-POWER(0.3,Param!$M$21)/(IF(Param!$M$21<20,LightShader!F72,OFFSET(LightShader!F72,Param!$M$21-20,0))+POWER(0.3,Param!$M$21)),-2),0)) -> 1.5088311 | G7: =IF(ScreenHeight!$B8<OFFSET(Radar!$AC$3,COLUMN(),0), Param!$B$38/ScreenHeight!$B8, (Param!$B$37+1/(1-OFFSET(Radar!$AD$3,COLUMN(),0)*ScreenHeight!$C8)/Param!$B$39)/OFFSET(Radar!$AC$3,COLUMN(),0))*DistanceShader!G7*LightShader!G7*(IF(OFFSET(Ghosts!$S$41,COLUMN(),0)<ScreenHeight!$E8, 1, (SQRT(OFFSET(Ghosts!$T$41,COLUMN(),0)-OFFSET(Ghosts!$R$41,COLUMN(),0)*ScreenHeight!$D8)-1))+IF(Ghosts!$B$35,IF(Param!$M$21,-1-POWER(0.3,Param!$M$21)/(IF(Param!$M$21<20,LightShader!G72,OFFSET(LightShader!G72,Param!$M$21-20,0))+POWER(0.3,Param!$M$21)),-2),0)) -> 1.5504216 | H7: =IF(ScreenHeight!$B8<OFFSET(Radar!$AC$3,COLUMN(),0), Param!$B$38/ScreenHeight!$B8, (Param!$B$37+1/(1-OFFSET(Radar!$AD$3,COLUMN(),0)*ScreenHeight!$C8)/Param!$B$39)/OFFSET(Radar!$AC$3,COLUMN(),0))*DistanceShader!H7*LightShader!H7*(IF(OFFSET(Ghosts!$S$41,COLUMN(),0)<ScreenHeight!$E8, 1, (SQRT(OFFSET(Ghosts!$T$41,COLUMN(),0)-OFFSET(Ghosts!$R$41,COLUMN(),0)*ScreenHeight!$D8)-1))+IF(Ghosts!$B$35,IF(Param!$M$21,-1-POWER(0.3,Param!$M$21)/(IF(Param!$M$21<20,LightShader!H72,OFFSET(LightShader!H72,Param!$M$21-20,0))+POWER(0.3,Param!$M$21)),-2),0)) -> 1.5934439 | ... CW7: =IF(ScreenHeight!$B8<OFFSET(Radar!$AC$3,COLUMN(),0), Param!$B$38/ScreenHeight!$B8, (Param!$B$37+1/(1-OFFSET(Radar!$AD$3,COLUMN(),0)*ScreenHeight!$C8)/Param!$B$39)/OFFSET(Radar!$AC$3,COLUMN(),0))*DistanceShader!CW7*LightShader!CW7*(IF(OFFSET(Ghosts!$S$41,COLUMN(),0)<ScreenHeight!$E8, 1, (SQRT(OFFSET(Ghosts!$T$41,COLUMN(),0)-OFFSET(Ghosts!$R$41,COLUMN(),0)*ScreenHeight!$D8)-1))+IF(Ghosts!$B$35,IF(Param!$M$21,-1-POWER(0.3,Param!$M$21)/(IF(Param!$M$21<20,LightShader!CW72,OFFSET(LightShader!CW72,Param!$M$21-20,0))+POWER(0.3,Param!$M$21)),-2),0)) -> 1.2948709
A8: =IF(ScreenHeight!$B9<OFFSET(Radar!$AC$3,COLUMN(),0), Param!$B$38/ScreenHeight!$B9, (Param!$B$37+1/(1-OFFSET(Radar!$AD$3,COLUMN(),0)*ScreenHeight!$C9)/Param!$B$39)/OFFSET(Radar!$AC$3,COLUMN(),0))*DistanceShader!A8*LightShader!A8*(IF(OFFSET(Ghosts!$S$41,COLUMN(),0)<ScreenHeight!$E9, 1, (SQRT(OFFSET(Ghosts!$T$41,COLUMN(),0)-OFFSET(Ghosts!$R$41,COLUMN(),0)*ScreenHeight!$D9)-1))+IF(Ghosts!$B$35,IF(Param!$M$21,-1-POWER(0.3,Param!$M$21)/(IF(Param!$M$21<20,LightShader!A73,OFFSET(LightShader!A73,Param!$M$21-20,0))+POWER(0.3,Param!$M$21)),-2),0)) -> 1.283556 | B8: =IF(ScreenHeight!$B9<OFFSET(Radar!$AC$3,COLUMN(),0), Param!$B$38/ScreenHeight!$B9, (Param!$B$37+1/(1-OFFSET(Radar!$AD$3,COLUMN(),0)*ScreenHeight!$C9)/Param!$B$39)/OFFSET(Radar!$AC$3,COLUMN(),0))*DistanceShader!B8*LightShader!B8*(IF(OFFSET(Ghosts!$S$41,COLUMN(),0)<ScreenHeight!$E9, 1, (SQRT(OFFSET(Ghosts!$T$41,COLUMN(),0)-OFFSET(Ghosts!$R$41,COLUMN(),0)*ScreenHeight!$D9)-1))+IF(Ghosts!$B$35,IF(Param!$M$21,-1-POWER(0.3,Param!$M$21)/(IF(Param!$M$21<20,LightShader!B73,OFFSET(LightShader!B73,Param!$M$21-20,0))+POWER(0.3,Param!$M$21)),-2),0)) -> 1.3181458 | C8: =IF(ScreenHeight!$B9<OFFSET(Radar!$AC$3,COLUMN(),0), Param!$B$38/ScreenHeight!$B9, (Param!$B$37+1/(1-OFFSET(Radar!$AD$3,COLUMN(),0)*ScreenHeight!$C9)/Param!$B$39)/OFFSET(Radar!$AC$3,COLUMN(),0))*DistanceShader!C8*LightShader!C8*(IF(OFFSET(Ghosts!$S$41,COLUMN(),0)<ScreenHeight!$E9, 1, (SQRT(OFFSET(Ghosts!$T$41,COLUMN(),0)-OFFSET(Ghosts!$R$41,COLUMN(),0)*ScreenHeight!$D9)-1))+IF(Ghosts!$B$35,IF(Param!$M$21,-1-POWER(0.3,Param!$M$21)/(IF(Param!$M$21<20,LightShader!C73,OFFSET(LightShader!C73,Param!$M$21-20,0))+POWER(0.3,Param!$M$21)),-2),0)) -> 1.353951 | D8: =IF(ScreenHeight!$B9<OFFSET(Radar!$AC$3,COLUMN(),0), Param!$B$38/ScreenHeight!$B9, (Param!$B$37+1/(1-OFFSET(Radar!$AD$3,COLUMN(),0)*ScreenHeight!$C9)/Param!$B$39)/OFFSET(Radar!$AC$3,COLUMN(),0))*DistanceShader!D8*LightShader!D8*(IF(OFFSET(Ghosts!$S$41,COLUMN(),0)<ScreenHeight!$E9, 1, (SQRT(OFFSET(Ghosts!$T$41,COLUMN(),0)-OFFSET(Ghosts!$R$41,COLUMN(),0)*ScreenHeight!$D9)-1))+IF(Ghosts!$B$35,IF(Param!$M$21,-1-POWER(0.3,Param!$M$21)/(IF(Param!$M$21<20,LightShader!D73,OFFSET(LightShader!D73,Param!$M$21-20,0))+POWER(0.3,Param!$M$21)),-2),0)) -> 1.3910175 | E8: =IF(ScreenHeight!$B9<OFFSET(Radar!$AC$3,COLUMN(),0), Param!$B$38/ScreenHeight!$B9, (Param!$B$37+1/(1-OFFSET(Radar!$AD$3,COLUMN(),0)*ScreenHeight!$C9)/Param!$B$39)/OFFSET(Radar!$AC$3,COLUMN(),0))*DistanceShader!E8*LightShader!E8*(IF(OFFSET(Ghosts!$S$41,COLUMN(),0)<ScreenHeight!$E9, 1, (SQRT(OFFSET(Ghosts!$T$41,COLUMN(),0)-OFFSET(Ghosts!$R$41,COLUMN(),0)*ScreenHeight!$D9)-1))+IF(Ghosts!$B$35,IF(Param!$M$21,-1-POWER(0.3,Param!$M$21)/(IF(Param!$M$21<20,LightShader!E73,OFFSET(LightShader!E73,Param!$M$21-20,0))+POWER(0.3,Param!$M$21)),-2),0)) -> 1.4293928 | F8: =IF(ScreenHeight!$B9<OFFSET(Radar!$AC$3,COLUMN(),0), Param!$B$38/ScreenHeight!$B9, (Param!$B$37+1/(1-OFFSET(Radar!$AD$3,COLUMN(),0)*ScreenHeight!$C9)/Param!$B$39)/OFFSET(Radar!$AC$3,COLUMN(),0))*DistanceShader!F8*LightShader!F8*(IF(OFFSET(Ghosts!$S$41,COLUMN(),0)<ScreenHeight!$E9, 1, (SQRT(OFFSET(Ghosts!$T$41,COLUMN(),0)-OFFSET(Ghosts!$R$41,COLUMN(),0)*ScreenHeight!$D9)-1))+IF(Ghosts!$B$35,IF(Param!$M$21,-1-POWER(0.3,Param!$M$21)/(IF(Param!$M$21<20,LightShader!F73,OFFSET(LightShader!F73,Param!$M$21-20,0))+POWER(0.3,Param!$M$21)),-2),0)) -> 1.4691254 | G8: =IF(ScreenHeight!$B9<OFFSET(Radar!$AC$3,COLUMN(),0), Param!$B$38/ScreenHeight!$B9, (Param!$B$37+1/(1-OFFSET(Radar!$AD$3,COLUMN(),0)*ScreenHeight!$C9)/Param!$B$39)/OFFSET(Radar!$AC$3,COLUMN(),0))*DistanceShader!G8*LightShader!G8*(IF(OFFSET(Ghosts!$S$41,COLUMN(),0)<ScreenHeight!$E9, 1, (SQRT(OFFSET(Ghosts!$T$41,COLUMN(),0)-OFFSET(Ghosts!$R$41,COLUMN(),0)*ScreenHeight!$D9)-1))+IF(Ghosts!$B$35,IF(Param!$M$21,-1-POWER(0.3,Param!$M$21)/(IF(Param!$M$21<20,LightShader!G73,OFFSET(LightShader!G73,Param!$M$21-20,0))+POWER(0.3,Param!$M$21)),-2),0)) -> 1.5102649 | H8: =IF(ScreenHeight!$B9<OFFSET(Radar!$AC$3,COLUMN(),0), Param!$B$38/ScreenHeight!$B9, (Param!$B$37+1/(1-OFFSET(Radar!$AD$3,COLUMN(),0)*ScreenHeight!$C9)/Param!$B$39)/OFFSET(Radar!$AC$3,COLUMN(),0))*DistanceShader!H8*LightShader!H8*(IF(OFFSET(Ghosts!$S$41,COLUMN(),0)<ScreenHeight!$E9, 1, (SQRT(OFFSET(Ghosts!$T$41,COLUMN(),0)-OFFSET(Ghosts!$R$41,COLUMN(),0)*ScreenHeight!$D9)-1))+IF(Ghosts!$B$35,IF(Param!$M$21,-1-POWER(0.3,Param!$M$21)/(IF(Param!$M$21<20,LightShader!H73,OFFSET(LightShader!H73,Param!$M$21-20,0))+POWER(0.3,Param!$M$21)),-2),0)) -> 1.5528619 | ... CW8: =IF(ScreenHeight!$B9<OFFSET(Radar!$AC$3,COLUMN(),0), Param!$B$38/ScreenHeight!$B9, (Param!$B$37+1/(1-OFFSET(Radar!$AD$3,COLUMN(),0)*ScreenHeight!$C9)/Param!$B$39)/OFFSET(Radar!$AC$3,COLUMN(),0))*DistanceShader!CW8*LightShader!CW8*(IF(OFFSET(Ghosts!$S$41,COLUMN(),0)<ScreenHeight!$E9, 1, (SQRT(OFFSET(Ghosts!$T$41,COLUMN(),0)-OFFSET(Ghosts!$R$41,COLUMN(),0)*ScreenHeight!$D9)-1))+IF(Ghosts!$B$35,IF(Param!$M$21,-1-POWER(0.3,Param!$M$21)/(IF(Param!$M$21<20,LightShader!CW73,OFFSET(LightShader!CW73,Param!$M$21-20,0))+POWER(0.3,Param!$M$21)),-2),0)) -> 1.2581868
A9: =IF(ScreenHeight!$B10<OFFSET(Radar!$AC$3,COLUMN(),0), Param!$B$38/ScreenHeight!$B10, (Param!$B$37+1/(1-OFFSET(Radar!$AD$3,COLUMN(),0)*ScreenHeight!$C10)/Param!$B$39)/OFFSET(Radar!$AC$3,COLUMN(),0))*DistanceShader!A9*LightShader!A9*(IF(OFFSET(Ghosts!$S$41,COLUMN(),0)<ScreenHeight!$E10, 1, (SQRT(OFFSET(Ghosts!$T$41,COLUMN(),0)-OFFSET(Ghosts!$R$41,COLUMN(),0)*ScreenHeight!$D10)-1))+IF(Ghosts!$B$35,IF(Param!$M$21,-1-POWER(0.3,Param!$M$21)/(IF(Param!$M$21<20,LightShader!A74,OFFSET(LightShader!A74,Param!$M$21-20,0))+POWER(0.3,Param!$M$21)),-2),0)) -> 1.2447774 | B9: =IF(ScreenHeight!$B10<OFFSET(Radar!$AC$3,COLUMN(),0), Param!$B$38/ScreenHeight!$B10, (Param!$B$37+1/(1-OFFSET(Radar!$AD$3,COLUMN(),0)*ScreenHeight!$C10)/Param!$B$39)/OFFSET(Radar!$AC$3,COLUMN(),0))*DistanceShader!B9*LightShader!B9*(IF(OFFSET(Ghosts!$S$41,COLUMN(),0)<ScreenHeight!$E10, 1, (SQRT(OFFSET(Ghosts!$T$41,COLUMN(),0)-OFFSET(Ghosts!$R$41,COLUMN(),0)*ScreenHeight!$D10)-1))+IF(Ghosts!$B$35,IF(Param!$M$21,-1-POWER(0.3,Param!$M$21)/(IF(Param!$M$21<20,LightShader!B74,OFFSET(LightShader!B74,Param!$M$21-20,0))+POWER(0.3,Param!$M$21)),-2),0)) -> 1.2787619 | C9: =IF(ScreenHeight!$B10<OFFSET(Radar!$AC$3,COLUMN(),0), Param!$B$38/ScreenHeight!$B10, (Param!$B$37+1/(1-OFFSET(Radar!$AD$3,COLUMN(),0)*ScreenHeight!$C10)/Param!$B$39)/OFFSET(Radar!$AC$3,COLUMN(),0))*DistanceShader!C9*LightShader!C9*(IF(OFFSET(Ghosts!$S$41,COLUMN(),0)<ScreenHeight!$E10, 1, (SQRT(OFFSET(Ghosts!$T$41,COLUMN(),0)-OFFSET(Ghosts!$R$41,COLUMN(),0)*ScreenHeight!$D10)-1))+IF(Ghosts!$B$35,IF(Param!$M$21,-1-POWER(0.3,Param!$M$21)/(IF(Param!$M$21<20,LightShader!C74,OFFSET(LightShader!C74,Param!$M$21-20,0))+POWER(0.3,Param!$M$21)),-2),0)) -> 1.3139674 | D9: =IF(ScreenHeight!$B10<OFFSET(Radar!$AC$3,COLUMN(),0), Param!$B$38/ScreenHeight!$B10, (Param!$B$37+1/(1-OFFSET(Radar!$AD$3,COLUMN(),0)*ScreenHeight!$C10)/Param!$B$39)/OFFSET(Radar!$AC$3,COLUMN(),0))*DistanceShader!D9*LightShader!D9*(IF(OFFSET(Ghosts!$S$41,COLUMN(),0)<ScreenHeight!$E10, 1, (SQRT(OFFSET(Ghosts!$T$41,COLUMN(),0)-OFFSET(Ghosts!$R$41,COLUMN(),0)*ScreenHeight!$D10)-1))+IF(Ghosts!$B$35,IF(Param!$M$21,-1-POWER(0.3,Param!$M$21)/(IF(Param!$M$21<20,LightShader!D74,OFFSET(LightShader!D74,Param!$M$21-20,0))+POWER(0.3,Param!$M$21)),-2),0)) -> 1.3504424 | E9: =IF(ScreenHeight!$B10<OFFSET(Radar!$AC$3,COLUMN(),0), Param!$B$38/ScreenHeight!$B10, (Param!$B$37+1/(1-OFFSET(Radar!$AD$3,COLUMN(),0)*ScreenHeight!$C10)/Param!$B$39)/OFFSET(Radar!$AC$3,COLUMN(),0))*DistanceShader!E9*LightShader!E9*(IF(OFFSET(Ghosts!$S$41,COLUMN(),0)<ScreenHeight!$E10, 1, (SQRT(OFFSET(Ghosts!$T$41,COLUMN(),0)-OFFSET(Ghosts!$R$41,COLUMN(),0)*ScreenHeight!$D10)-1))+IF(Ghosts!$B$35,IF(Param!$M$21,-1-POWER(0.3,Param!$M$21)/(IF(Param!$M$21<20,LightShader!E74,OFFSET(LightShader!E74,Param!$M$21-20,0))+POWER(0.3,Param!$M$21)),-2),0)) -> 1.3882369 | F9: =IF(ScreenHeight!$B10<OFFSET(Radar!$AC$3,COLUMN(),0), Param!$B$38/ScreenHeight!$B10, (Param!$B$37+1/(1-OFFSET(Radar!$AD$3,COLUMN(),0)*ScreenHeight!$C10)/Param!$B$39)/OFFSET(Radar!$AC$3,COLUMN(),0))*DistanceShader!F9*LightShader!F9*(IF(OFFSET(Ghosts!$S$41,COLUMN(),0)<ScreenHeight!$E10, 1, (SQRT(OFFSET(Ghosts!$T$41,COLUMN(),0)-OFFSET(Ghosts!$R$41,COLUMN(),0)*ScreenHeight!$D10)-1))+IF(Ghosts!$B$35,IF(Param!$M$21,-1-POWER(0.3,Param!$M$21)/(IF(Param!$M$21<20,LightShader!F74,OFFSET(LightShader!F74,Param!$M$21-20,0))+POWER(0.3,Param!$M$21)),-2),0)) -> 1.4274025 | G9: =IF(ScreenHeight!$B10<OFFSET(Radar!$AC$3,COLUMN(),0), Param!$B$38/ScreenHeight!$B10, (Param!$B$37+1/(1-OFFSET(Radar!$AD$3,COLUMN(),0)*ScreenHeight!$C10)/Param!$B$39)/OFFSET(Radar!$AC$3,COLUMN(),0))*DistanceShader!G9*LightShader!G9*(IF(OFFSET(Ghosts!$S$41,COLUMN(),0)<ScreenHeight!$E10, 1, (SQRT(OFFSET(Ghosts!$T$41,COLUMN(),0)-OFFSET(Ghosts!$R$41,COLUMN(),0)*ScreenHeight!$D10)-1))+IF(Ghosts!$B$35,IF(Param!$M$21,-1-POWER(0.3,Param!$M$21)/(IF(Param!$M$21<20,LightShader!G74,OFFSET(LightShader!G74,Param!$M$21-20,0))+POWER(0.3,Param!$M$21)),-2),0)) -> 1.4679921 | H9: =IF(ScreenHeight!$B10<OFFSET(Radar!$AC$3,COLUMN(),0), Param!$B$38/ScreenHeight!$B10, (Param!$B$37+1/(1-OFFSET(Radar!$AD$3,COLUMN(),0)*ScreenHeight!$C10)/Param!$B$39)/OFFSET(Radar!$AC$3,COLUMN(),0))*DistanceShader!H9*LightShader!H9*(IF(OFFSET(Ghosts!$S$41,COLUMN(),0)<ScreenHeight!$E10, 1, (SQRT(OFFSET(Ghosts!$T$41,COLUMN(),0)-OFFSET(Ghosts!$R$41,COLUMN(),0)*ScreenHeight!$D10)-1))+IF(Ghosts!$B$35,IF(Param!$M$21,-1-POWER(0.3,Param!$M$21)/(IF(Param!$M$21<20,LightShader!H74,OFFSET(LightShader!H74,Param!$M$21-20,0))+POWER(0.3,Param!$M$21)),-2),0)) -> 1.5100601 | ... CW9: =IF(ScreenHeight!$B10<OFFSET(Radar!$AC$3,COLUMN(),0), Param!$B$38/ScreenHeight!$B10, (Param!$B$37+1/(1-OFFSET(Radar!$AD$3,COLUMN(),0)*ScreenHeight!$C10)/Param!$B$39)/OFFSET(Radar!$AC$3,COLUMN(),0))*DistanceShader!CW9*LightShader!CW9*(IF(OFFSET(Ghosts!$S$41,COLUMN(),0)<ScreenHeight!$E10, 1, (SQRT(OFFSET(Ghosts!$T$41,COLUMN(),0)-OFFSET(Ghosts!$R$41,COLUMN(),0)*ScreenHeight!$D10)-1))+IF(Ghosts!$B$35,IF(Param!$M$21,-1-POWER(0.3,Param!$M$21)/(IF(Param!$M$21<20,LightShader!CW74,OFFSET(LightShader!CW74,Param!$M$21-20,0))+POWER(0.3,Param!$M$21)),-2),0)) -> 1.2199638
A10: =IF(ScreenHeight!$B11<OFFSET(Radar!$AC$3,COLUMN(),0), Param!$B$38/ScreenHeight!$B11, (Param!$B$37+1/(1-OFFSET(Radar!$AD$3,COLUMN(),0)*ScreenHeight!$C11)/Param!$B$39)/OFFSET(Radar!$AC$3,COLUMN(),0))*DistanceShader!A10*LightShader!A10*(IF(OFFSET(Ghosts!$S$41,COLUMN(),0)<ScreenHeight!$E11, 1, (SQRT(OFFSET(Ghosts!$T$41,COLUMN(),0)-OFFSET(Ghosts!$R$41,COLUMN(),0)*ScreenHeight!$D11)-1))+IF(Ghosts!$B$35,IF(Param!$M$21,-1-POWER(0.3,Param!$M$21)/(IF(Param!$M$21<20,LightShader!A75,OFFSET(LightShader!A75,Param!$M$21-20,0))+POWER(0.3,Param!$M$21)),-2),0)) -> 1.2044131 | B10: =IF(ScreenHeight!$B11<OFFSET(Radar!$AC$3,COLUMN(),0), Param!$B$38/ScreenHeight!$B11, (Param!$B$37+1/(1-OFFSET(Radar!$AD$3,COLUMN(),0)*ScreenHeight!$C11)/Param!$B$39)/OFFSET(Radar!$AC$3,COLUMN(),0))*DistanceShader!B10*LightShader!B10*(IF(OFFSET(Ghosts!$S$41,COLUMN(),0)<ScreenHeight!$E11, 1, (SQRT(OFFSET(Ghosts!$T$41,COLUMN(),0)-OFFSET(Ghosts!$R$41,COLUMN(),0)*ScreenHeight!$D11)-1))+IF(Ghosts!$B$35,IF(Param!$M$21,-1-POWER(0.3,Param!$M$21)/(IF(Param!$M$21<20,LightShader!B75,OFFSET(LightShader!B75,Param!$M$21-20,0))+POWER(0.3,Param!$M$21)),-2),0)) -> 1.237713 | C10: =IF(ScreenHeight!$B11<OFFSET(Radar!$AC$3,COLUMN(),0), Param!$B$38/ScreenHeight!$B11, (Param!$B$37+1/(1-OFFSET(Radar!$AD$3,COLUMN(),0)*ScreenHeight!$C11)/Param!$B$39)/OFFSET(Radar!$AC$3,COLUMN(),0))*DistanceShader!C10*LightShader!C10*(IF(OFFSET(Ghosts!$S$41,COLUMN(),0)<ScreenHeight!$E11, 1, (SQRT(OFFSET(Ghosts!$T$41,COLUMN(),0)-OFFSET(Ghosts!$R$41,COLUMN(),0)*ScreenHeight!$D11)-1))+IF(Ghosts!$B$35,IF(Param!$M$21,-1-POWER(0.3,Param!$M$21)/(IF(Param!$M$21<20,LightShader!C75,OFFSET(LightShader!C75,Param!$M$21-20,0))+POWER(0.3,Param!$M$21)),-2),0)) -> 1.2722353 | D10: =IF(ScreenHeight!$B11<OFFSET(Radar!$AC$3,COLUMN(),0), Param!$B$38/ScreenHeight!$B11, (Param!$B$37+1/(1-OFFSET(Radar!$AD$3,COLUMN(),0)*ScreenHeight!$C11)/Param!$B$39)/OFFSET(Radar!$AC$3,COLUMN(),0))*DistanceShader!D10*LightShader!D10*(IF(OFFSET(Ghosts!$S$41,COLUMN(),0)<ScreenHeight!$E11, 1, (SQRT(OFFSET(Ghosts!$T$41,COLUMN(),0)-OFFSET(Ghosts!$R$41,COLUMN(),0)*ScreenHeight!$D11)-1))+IF(Ghosts!$B$35,IF(Param!$M$21,-1-POWER(0.3,Param!$M$21)/(IF(Param!$M$21<20,LightShader!D75,OFFSET(LightShader!D75,Param!$M$21-20,0))+POWER(0.3,Param!$M$21)),-2),0)) -> 1.3080307 | E10: =IF(ScreenHeight!$B11<OFFSET(Radar!$AC$3,COLUMN(),0), Param!$B$38/ScreenHeight!$B11, (Param!$B$37+1/(1-OFFSET(Radar!$AD$3,COLUMN(),0)*ScreenHeight!$C11)/Param!$B$39)/OFFSET(Radar!$AC$3,COLUMN(),0))*DistanceShader!E10*LightShader!E10*(IF(OFFSET(Ghosts!$S$41,COLUMN(),0)<ScreenHeight!$E11, 1, (SQRT(OFFSET(Ghosts!$T$41,COLUMN(),0)-OFFSET(Ghosts!$R$41,COLUMN(),0)*ScreenHeight!$D11)-1))+IF(Ghosts!$B$35,IF(Param!$M$21,-1-POWER(0.3,Param!$M$21)/(IF(Param!$M$21<20,LightShader!E75,OFFSET(LightShader!E75,Param!$M$21-20,0))+POWER(0.3,Param!$M$21)),-2),0)) -> 1.3451517 | F10: =IF(ScreenHeight!$B11<OFFSET(Radar!$AC$3,COLUMN(),0), Param!$B$38/ScreenHeight!$B11, (Param!$B$37+1/(1-OFFSET(Radar!$AD$3,COLUMN(),0)*ScreenHeight!$C11)/Param!$B$39)/OFFSET(Radar!$AC$3,COLUMN(),0))*DistanceShader!F10*LightShader!F10*(IF(OFFSET(Ghosts!$S$41,COLUMN(),0)<ScreenHeight!$E11, 1, (SQRT(OFFSET(Ghosts!$T$41,COLUMN(),0)-OFFSET(Ghosts!$R$41,COLUMN(),0)*ScreenHeight!$D11)-1))+IF(Ghosts!$B$35,IF(Param!$M$21,-1-POWER(0.3,Param!$M$21)/(IF(Param!$M$21<20,LightShader!F75,OFFSET(LightShader!F75,Param!$M$21-20,0))+POWER(0.3,Param!$M$21)),-2),0)) -> 1.3836526 | G10: =IF(ScreenHeight!$B11<OFFSET(Radar!$AC$3,COLUMN(),0), Param!$B$38/ScreenHeight!$B11, (Param!$B$37+1/(1-OFFSET(Radar!$AD$3,COLUMN(),0)*ScreenHeight!$C11)/Param!$B$39)/OFFSET(Radar!$AC$3,COLUMN(),0))*DistanceShader!G10*LightShader!G10*(IF(OFFSET(Ghosts!$S$41,COLUMN(),0)<ScreenHeight!$E11, 1, (SQRT(OFFSET(Ghosts!$T$41,COLUMN(),0)-OFFSET(Ghosts!$R$41,COLUMN(),0)*ScreenHeight!$D11)-1))+IF(Ghosts!$B$35,IF(Param!$M$21,-1-POWER(0.3,Param!$M$21)/(IF(Param!$M$21<20,LightShader!G75,OFFSET(LightShader!G75,Param!$M$21-20,0))+POWER(0.3,Param!$M$21)),-2),0)) -> 1.4235895 | H10: =IF(ScreenHeight!$B11<OFFSET(Radar!$AC$3,COLUMN(),0), Param!$B$38/ScreenHeight!$B11, (Param!$B$37+1/(1-OFFSET(Radar!$AD$3,COLUMN(),0)*ScreenHeight!$C11)/Param!$B$39)/OFFSET(Radar!$AC$3,COLUMN(),0))*DistanceShader!H10*LightShader!H10*(IF(OFFSET(Ghosts!$S$41,COLUMN(),0)<ScreenHeight!$E11, 1, (SQRT(OFFSET(Ghosts!$T$41,COLUMN(),0)-OFFSET(Ghosts!$R$41,COLUMN(),0)*ScreenHeight!$D11)-1))+IF(Ghosts!$B$35,IF(Param!$M$21,-1-POWER(0.3,Param!$M$21)/(IF(Param!$M$21<20,LightShader!H75,OFFSET(LightShader!H75,Param!$M$21-20,0))+POWER(0.3,Param!$M$21)),-2),0)) -> 1.4650206 | ... CW10: =IF(ScreenHeight!$B11<OFFSET(Radar!$AC$3,COLUMN(),0), Param!$B$38/ScreenHeight!$B11, (Param!$B$37+1/(1-OFFSET(Radar!$AD$3,COLUMN(),0)*ScreenHeight!$C11)/Param!$B$39)/OFFSET(Radar!$AC$3,COLUMN(),0))*DistanceShader!CW10*LightShader!CW10*(IF(OFFSET(Ghosts!$S$41,COLUMN(),0)<ScreenHeight!$E11, 1, (SQRT(OFFSET(Ghosts!$T$41,COLUMN(),0)-OFFSET(Ghosts!$R$41,COLUMN(),0)*ScreenHeight!$D11)-1))+IF(Ghosts!$B$35,IF(Param!$M$21,-1-POWER(0.3,Param!$M$21)/(IF(Param!$M$21<20,LightShader!CW75,OFFSET(LightShader!CW75,Param!$M$21-20,0))+POWER(0.3,Param!$M$21)),-2),0)) -> 1.1802062
A11: =IF(ScreenHeight!$B12<OFFSET(Radar!$AC$3,COLUMN(),0), Param!$B$38/ScreenHeight!$B12, (Param!$B$37+1/(1-OFFSET(Radar!$AD$3,COLUMN(),0)*ScreenHeight!$C12)/Param!$B$39)/OFFSET(Radar!$AC$3,COLUMN(),0))*DistanceShader!A11*LightShader!A11*(IF(OFFSET(Ghosts!$S$41,COLUMN(),0)<ScreenHeight!$E12, 1, (SQRT(OFFSET(Ghosts!$T$41,COLUMN(),0)-OFFSET(Ghosts!$R$41,COLUMN(),0)*ScreenHeight!$D12)-1))+IF(Ghosts!$B$35,IF(Param!$M$21,-1-POWER(0.3,Param!$M$21)/(IF(Param!$M$21<20,LightShader!A76,OFFSET(LightShader!A76,Param!$M$21-20,0))+POWER(0.3,Param!$M$21)),-2),0)) -> 1.1624721 | B11: =IF(ScreenHeight!$B12<OFFSET(Radar!$AC$3,COLUMN(),0), Param!$B$38/ScreenHeight!$B12, (Param!$B$37+1/(1-OFFSET(Radar!$AD$3,COLUMN(),0)*ScreenHeight!$C12)/Param!$B$39)/OFFSET(Radar!$AC$3,COLUMN(),0))*DistanceShader!B11*LightShader!B11*(IF(OFFSET(Ghosts!$S$41,COLUMN(),0)<ScreenHeight!$E12, 1, (SQRT(OFFSET(Ghosts!$T$41,COLUMN(),0)-OFFSET(Ghosts!$R$41,COLUMN(),0)*ScreenHeight!$D12)-1))+IF(Ghosts!$B$35,IF(Param!$M$21,-1-POWER(0.3,Param!$M$21)/(IF(Param!$M$21<20,LightShader!B76,OFFSET(LightShader!B76,Param!$M$21-20,0))+POWER(0.3,Param!$M$21)),-2),0)) -> 1.1950065 | C11: =IF(ScreenHeight!$B12<OFFSET(Radar!$AC$3,COLUMN(),0), Param!$B$38/ScreenHeight!$B12, (Param!$B$37+1/(1-OFFSET(Radar!$AD$3,COLUMN(),0)*ScreenHeight!$C12)/Param!$B$39)/OFFSET(Radar!$AC$3,COLUMN(),0))*DistanceShader!C11*LightShader!C11*(IF(OFFSET(Ghosts!$S$41,COLUMN(),0)<ScreenHeight!$E12, 1, (SQRT(OFFSET(Ghosts!$T$41,COLUMN(),0)-OFFSET(Ghosts!$R$41,COLUMN(),0)*ScreenHeight!$D12)-1))+IF(Ghosts!$B$35,IF(Param!$M$21,-1-POWER(0.3,Param!$M$21)/(IF(Param!$M$21<20,LightShader!C76,OFFSET(LightShader!C76,Param!$M$21-20,0))+POWER(0.3,Param!$M$21)),-2),0)) -> 1.2287602 | D11: =IF(ScreenHeight!$B12<OFFSET(Radar!$AC$3,COLUMN(),0), Param!$B$38/ScreenHeight!$B12, (Param!$B$37+1/(1-OFFSET(Radar!$AD$3,COLUMN(),0)*ScreenHeight!$C12)/Param!$B$39)/OFFSET(Radar!$AC$3,COLUMN(),0))*DistanceShader!D11*LightShader!D11*(IF(OFFSET(Ghosts!$S$41,COLUMN(),0)<ScreenHeight!$E12, 1, (SQRT(OFFSET(Ghosts!$T$41,COLUMN(),0)-OFFSET(Ghosts!$R$41,COLUMN(),0)*ScreenHeight!$D12)-1))+IF(Ghosts!$B$35,IF(Param!$M$21,-1-POWER(0.3,Param!$M$21)/(IF(Param!$M$21<20,LightShader!D76,OFFSET(LightShader!D76,Param!$M$21-20,0))+POWER(0.3,Param!$M$21)),-2),0)) -> 1.2637858 | E11: =IF(ScreenHeight!$B12<OFFSET(Radar!$AC$3,COLUMN(),0), Param!$B$38/ScreenHeight!$B12, (Param!$B$37+1/(1-OFFSET(Radar!$AD$3,COLUMN(),0)*ScreenHeight!$C12)/Param!$B$39)/OFFSET(Radar!$AC$3,COLUMN(),0))*DistanceShader!E11*LightShader!E11*(IF(OFFSET(Ghosts!$S$41,COLUMN(),0)<ScreenHeight!$E12, 1, (SQRT(OFFSET(Ghosts!$T$41,COLUMN(),0)-OFFSET(Ghosts!$R$41,COLUMN(),0)*ScreenHeight!$D12)-1))+IF(Ghosts!$B$35,IF(Param!$M$21,-1-POWER(0.3,Param!$M$21)/(IF(Param!$M$21<20,LightShader!E76,OFFSET(LightShader!E76,Param!$M$21-20,0))+POWER(0.3,Param!$M$21)),-2),0)) -> 1.3001379 | F11: =IF(ScreenHeight!$B12<OFFSET(Radar!$AC$3,COLUMN(),0), Param!$B$38/ScreenHeight!$B12, (Param!$B$37+1/(1-OFFSET(Radar!$AD$3,COLUMN(),0)*ScreenHeight!$C12)/Param!$B$39)/OFFSET(Radar!$AC$3,COLUMN(),0))*DistanceShader!F11*LightShader!F11*(IF(OFFSET(Ghosts!$S$41,COLUMN(),0)<ScreenHeight!$E12, 1, (SQRT(OFFSET(Ghosts!$T$41,COLUMN(),0)-OFFSET(Ghosts!$R$41,COLUMN(),0)*ScreenHeight!$D12)-1))+IF(Ghosts!$B$35,IF(Param!$M$21,-1-POWER(0.3,Param!$M$21)/(IF(Param!$M$21<20,LightShader!F76,OFFSET(LightShader!F76,Param!$M$21-20,0))+POWER(0.3,Param!$M$21)),-2),0)) -> 1.3378733 | G11: =IF(ScreenHeight!$B12<OFFSET(Radar!$AC$3,COLUMN(),0), Param!$B$38/ScreenHeight!$B12, (Param!$B$37+1/(1-OFFSET(Radar!$AD$3,COLUMN(),0)*ScreenHeight!$C12)/Param!$B$39)/OFFSET(Radar!$AC$3,COLUMN(),0))*DistanceShader!G11*LightShader!G11*(IF(OFFSET(Ghosts!$S$41,COLUMN(),0)<ScreenHeight!$E12, 1, (SQRT(OFFSET(Ghosts!$T$41,COLUMN(),0)-OFFSET(Ghosts!$R$41,COLUMN(),0)*ScreenHeight!$D12)-1))+IF(Ghosts!$B$35,IF(Param!$M$21,-1-POWER(0.3,Param!$M$21)/(IF(Param!$M$21<20,LightShader!G76,OFFSET(LightShader!G76,Param!$M$21-20,0))+POWER(0.3,Param!$M$21)),-2),0)) -> 1.3770513 | H11: =IF(ScreenHeight!$B12<OFFSET(Radar!$AC$3,COLUMN(),0), Param!$B$38/ScreenHeight!$B12, (Param!$B$37+1/(1-OFFSET(Radar!$AD$3,COLUMN(),0)*ScreenHeight!$C12)/Param!$B$39)/OFFSET(Radar!$AC$3,COLUMN(),0))*DistanceShader!H11*LightShader!H11*(IF(OFFSET(Ghosts!$S$41,COLUMN(),0)<ScreenHeight!$E12, 1, (SQRT(OFFSET(Ghosts!$T$41,COLUMN(),0)-OFFSET(Ghosts!$R$41,COLUMN(),0)*ScreenHeight!$D12)-1))+IF(Ghosts!$B$35,IF(Param!$M$21,-1-POWER(0.3,Param!$M$21)/(IF(Param!$M$21<20,LightShader!H76,OFFSET(LightShader!H76,Param!$M$21-20,0))+POWER(0.3,Param!$M$21)),-2),0)) -> 1.4177331 | ... CW11: =IF(ScreenHeight!$B12<OFFSET(Radar!$AC$3,COLUMN(),0), Param!$B$38/ScreenHeight!$B12, (Param!$B$37+1/(1-OFFSET(Radar!$AD$3,COLUMN(),0)*ScreenHeight!$C12)/Param!$B$39)/OFFSET(Radar!$AC$3,COLUMN(),0))*DistanceShader!CW11*LightShader!CW11*(IF(OFFSET(Ghosts!$S$41,COLUMN(),0)<ScreenHeight!$E12, 1, (SQRT(OFFSET(Ghosts!$T$41,COLUMN(),0)-OFFSET(Ghosts!$R$41,COLUMN(),0)*ScreenHeight!$D12)-1))+IF(Ghosts!$B$35,IF(Param!$M$21,-1-POWER(0.3,Param!$M$21)/(IF(Param!$M$21<20,LightShader!CW76,OFFSET(LightShader!CW76,Param!$M$21-20,0))+POWER(0.3,Param!$M$21)),-2),0)) -> 1.1389235
A12: =IF(ScreenHeight!$B13<OFFSET(Radar!$AC$3,COLUMN(),0), Param!$B$38/ScreenHeight!$B13, (Param!$B$37+1/(1-OFFSET(Radar!$AD$3,COLUMN(),0)*ScreenHeight!$C13)/Param!$B$39)/OFFSET(Radar!$AC$3,COLUMN(),0))*DistanceShader!A12*LightShader!A12*(IF(OFFSET(Ghosts!$S$41,COLUMN(),0)<ScreenHeight!$E13, 1, (SQRT(OFFSET(Ghosts!$T$41,COLUMN(),0)-OFFSET(Ghosts!$R$41,COLUMN(),0)*ScreenHeight!$D13)-1))+IF(Ghosts!$B$35,IF(Param!$M$21,-1-POWER(0.3,Param!$M$21)/(IF(Param!$M$21<20,LightShader!A77,OFFSET(LightShader!A77,Param!$M$21-20,0))+POWER(0.3,Param!$M$21)),-2),0)) -> 1.1189694 | B12: =IF(ScreenHeight!$B13<OFFSET(Radar!$AC$3,COLUMN(),0), Param!$B$38/ScreenHeight!$B13, (Param!$B$37+1/(1-OFFSET(Radar!$AD$3,COLUMN(),0)*ScreenHeight!$C13)/Param!$B$39)/OFFSET(Radar!$AC$3,COLUMN(),0))*DistanceShader!B12*LightShader!B12*(IF(OFFSET(Ghosts!$S$41,COLUMN(),0)<ScreenHeight!$E13, 1, (SQRT(OFFSET(Ghosts!$T$41,COLUMN(),0)-OFFSET(Ghosts!$R$41,COLUMN(),0)*ScreenHeight!$D13)-1))+IF(Ghosts!$B$35,IF(Param!$M$21,-1-POWER(0.3,Param!$M$21)/(IF(Param!$M$21<20,LightShader!B77,OFFSET(LightShader!B77,Param!$M$21-20,0))+POWER(0.3,Param!$M$21)),-2),0)) -> 1.1506562 | C12: =IF(ScreenHeight!$B13<OFFSET(Radar!$AC$3,COLUMN(),0), Param!$B$38/ScreenHeight!$B13, (Param!$B$37+1/(1-OFFSET(Radar!$AD$3,COLUMN(),0)*ScreenHeight!$C13)/Param!$B$39)/OFFSET(Radar!$AC$3,COLUMN(),0))*DistanceShader!C12*LightShader!C12*(IF(OFFSET(Ghosts!$S$41,COLUMN(),0)<ScreenHeight!$E13, 1, (SQRT(OFFSET(Ghosts!$T$41,COLUMN(),0)-OFFSET(Ghosts!$R$41,COLUMN(),0)*ScreenHeight!$D13)-1))+IF(Ghosts!$B$35,IF(Param!$M$21,-1-POWER(0.3,Param!$M$21)/(IF(Param!$M$21<20,LightShader!C77,OFFSET(LightShader!C77,Param!$M$21-20,0))+POWER(0.3,Param!$M$21)),-2),0)) -> 1.1835543 | D12: =IF(ScreenHeight!$B13<OFFSET(Radar!$AC$3,COLUMN(),0), Param!$B$38/ScreenHeight!$B13, (Param!$B$37+1/(1-OFFSET(Radar!$AD$3,COLUMN(),0)*ScreenHeight!$C13)/Param!$B$39)/OFFSET(Radar!$AC$3,COLUMN(),0))*DistanceShader!D12*LightShader!D12*(IF(OFFSET(Ghosts!$S$41,COLUMN(),0)<ScreenHeight!$E13, 1, (SQRT(OFFSET(Ghosts!$T$41,COLUMN(),0)-OFFSET(Ghosts!$R$41,COLUMN(),0)*ScreenHeight!$D13)-1))+IF(Ghosts!$B$35,IF(Param!$M$21,-1-POWER(0.3,Param!$M$21)/(IF(Param!$M$21<20,LightShader!D77,OFFSET(LightShader!D77,Param!$M$21-20,0))+POWER(0.3,Param!$M$21)),-2),0)) -> 1.2177178 | E12: =IF(ScreenHeight!$B13<OFFSET(Radar!$AC$3,COLUMN(),0), Param!$B$38/ScreenHeight!$B13, (Param!$B$37+1/(1-OFFSET(Radar!$AD$3,COLUMN(),0)*ScreenHeight!$C13)/Param!$B$39)/OFFSET(Radar!$AC$3,COLUMN(),0))*DistanceShader!E12*LightShader!E12*(IF(OFFSET(Ghosts!$S$41,COLUMN(),0)<ScreenHeight!$E13, 1, (SQRT(OFFSET(Ghosts!$T$41,COLUMN(),0)-OFFSET(Ghosts!$R$41,COLUMN(),0)*ScreenHeight!$D13)-1))+IF(Ghosts!$B$35,IF(Param!$M$21,-1-POWER(0.3,Param!$M$21)/(IF(Param!$M$21<20,LightShader!E77,OFFSET(LightShader!E77,Param!$M$21-20,0))+POWER(0.3,Param!$M$21)),-2),0)) -> 1.2532034 | F12: =IF(ScreenHeight!$B13<OFFSET(Radar!$AC$3,COLUMN(),0), Param!$B$38/ScreenHeight!$B13, (Param!$B$37+1/(1-OFFSET(Radar!$AD$3,COLUMN(),0)*ScreenHeight!$C13)/Param!$B$39)/OFFSET(Radar!$AC$3,COLUMN(),0))*DistanceShader!F12*LightShader!F12*(IF(OFFSET(Ghosts!$S$41,COLUMN(),0)<ScreenHeight!$E13, 1, (SQRT(OFFSET(Ghosts!$T$41,COLUMN(),0)-OFFSET(Ghosts!$R$41,COLUMN(),0)*ScreenHeight!$D13)-1))+IF(Ghosts!$B$35,IF(Param!$M$21,-1-POWER(0.3,Param!$M$21)/(IF(Param!$M$21<20,LightShader!F77,OFFSET(LightShader!F77,Param!$M$21-20,0))+POWER(0.3,Param!$M$21)),-2),0)) -> 1.2900701 | G12: =IF(ScreenHeight!$B13<OFFSET(Radar!$AC$3,COLUMN(),0), Param!$B$38/ScreenHeight!$B13, (Param!$B$37+1/(1-OFFSET(Radar!$AD$3,COLUMN(),0)*ScreenHeight!$C13)/Param!$B$39)/OFFSET(Radar!$AC$3,COLUMN(),0))*DistanceShader!G12*LightShader!G12*(IF(OFFSET(Ghosts!$S$41,COLUMN(),0)<ScreenHeight!$E13, 1, (SQRT(OFFSET(Ghosts!$T$41,COLUMN(),0)-OFFSET(Ghosts!$R$41,COLUMN(),0)*ScreenHeight!$D13)-1))+IF(Ghosts!$B$35,IF(Param!$M$21,-1-POWER(0.3,Param!$M$21)/(IF(Param!$M$21<20,LightShader!G77,OFFSET(LightShader!G77,Param!$M$21-20,0))+POWER(0.3,Param!$M$21)),-2),0)) -> 1.3283797 | H12: =IF(ScreenHeight!$B13<OFFSET(Radar!$AC$3,COLUMN(),0), Param!$B$38/ScreenHeight!$B13, (Param!$B$37+1/(1-OFFSET(Radar!$AD$3,COLUMN(),0)*ScreenHeight!$C13)/Param!$B$39)/OFFSET(Radar!$AC$3,COLUMN(),0))*DistanceShader!H12*LightShader!H12*(IF(OFFSET(Ghosts!$S$41,COLUMN(),0)<ScreenHeight!$E13, 1, (SQRT(OFFSET(Ghosts!$T$41,COLUMN(),0)-OFFSET(Ghosts!$R$41,COLUMN(),0)*ScreenHeight!$D13)-1))+IF(Ghosts!$B$35,IF(Param!$M$21,-1-POWER(0.3,Param!$M$21)/(IF(Param!$M$21<20,LightShader!H77,OFFSET(LightShader!H77,Param!$M$21-20,0))+POWER(0.3,Param!$M$21)),-2),0)) -> 1.3681965 | ... CW12: =IF(ScreenHeight!$B13<OFFSET(Radar!$AC$3,COLUMN(),0), Param!$B$38/ScreenHeight!$B13, (Param!$B$37+1/(1-OFFSET(Radar!$AD$3,COLUMN(),0)*ScreenHeight!$C13)/Param!$B$39)/OFFSET(Radar!$AC$3,COLUMN(),0))*DistanceShader!CW12*LightShader!CW12*(IF(OFFSET(Ghosts!$S$41,COLUMN(),0)<ScreenHeight!$E13, 1, (SQRT(OFFSET(Ghosts!$T$41,COLUMN(),0)-OFFSET(Ghosts!$R$41,COLUMN(),0)*ScreenHeight!$D13)-1))+IF(Ghosts!$B$35,IF(Param!$M$21,-1-POWER(0.3,Param!$M$21)/(IF(Param!$M$21<20,LightShader!CW77,OFFSET(LightShader!CW77,Param!$M$21-20,0))+POWER(0.3,Param!$M$21)),-2),0)) -> 1.0961309
... A61: =IF(ScreenHeight!$B62<OFFSET(Radar!$AC$3,COLUMN(),0), Param!$B$38/ScreenHeight!$B62, (Param!$B$37+1/(1-OFFSET(Radar!$AD$3,COLUMN(),0)*ScreenHeight!$C62)/Param!$B$39)/OFFSET(Radar!$AC$3,COLUMN(),0))*DistanceShader!A61*LightShader!A61*(IF(OFFSET(Ghosts!$S$41,COLUMN(),0)<ScreenHeight!$E62, 1, (SQRT(OFFSET(Ghosts!$T$41,COLUMN(),0)-OFFSET(Ghosts!$R$41,COLUMN(),0)*ScreenHeight!$D62)-1))+IF(Ghosts!$B$35,IF(Param!$M$21,-1-POWER(0.3,Param!$M$21)/(IF(Param!$M$21<20,LightShader!A126,OFFSET(LightShader!A126,Param!$M$21-20,0))+POWER(0.3,Param!$M$21)),-2),0)) -> 1.86345 | B61: =IF(ScreenHeight!$B62<OFFSET(Radar!$AC$3,COLUMN(),0), Param!$B$38/ScreenHeight!$B62, (Param!$B$37+1/(1-OFFSET(Radar!$AD$3,COLUMN(),0)*ScreenHeight!$C62)/Param!$B$39)/OFFSET(Radar!$AC$3,COLUMN(),0))*DistanceShader!B61*LightShader!B61*(IF(OFFSET(Ghosts!$S$41,COLUMN(),0)<ScreenHeight!$E62, 1, (SQRT(OFFSET(Ghosts!$T$41,COLUMN(),0)-OFFSET(Ghosts!$R$41,COLUMN(),0)*ScreenHeight!$D62)-1))+IF(Ghosts!$B$35,IF(Param!$M$21,-1-POWER(0.3,Param!$M$21)/(IF(Param!$M$21<20,LightShader!B126,OFFSET(LightShader!B126,Param!$M$21-20,0))+POWER(0.3,Param!$M$21)),-2),0)) -> 1.908447 | C61: =IF(ScreenHeight!$B62<OFFSET(Radar!$AC$3,COLUMN(),0), Param!$B$38/ScreenHeight!$B62, (Param!$B$37+1/(1-OFFSET(Radar!$AD$3,COLUMN(),0)*ScreenHeight!$C62)/Param!$B$39)/OFFSET(Radar!$AC$3,COLUMN(),0))*DistanceShader!C61*LightShader!C61*(IF(OFFSET(Ghosts!$S$41,COLUMN(),0)<ScreenHeight!$E62, 1, (SQRT(OFFSET(Ghosts!$T$41,COLUMN(),0)-OFFSET(Ghosts!$R$41,COLUMN(),0)*ScreenHeight!$D62)-1))+IF(Ghosts!$B$35,IF(Param!$M$21,-1-POWER(0.3,Param!$M$21)/(IF(Param!$M$21<20,LightShader!C126,OFFSET(LightShader!C126,Param!$M$21-20,0))+POWER(0.3,Param!$M$21)),-2),0)) -> 1.954752 | D61: =IF(ScreenHeight!$B62<OFFSET(Radar!$AC$3,COLUMN(),0), Param!$B$38/ScreenHeight!$B62, (Param!$B$37+1/(1-OFFSET(Radar!$AD$3,COLUMN(),0)*ScreenHeight!$C62)/Param!$B$39)/OFFSET(Radar!$AC$3,COLUMN(),0))*DistanceShader!D61*LightShader!D61*(IF(OFFSET(Ghosts!$S$41,COLUMN(),0)<ScreenHeight!$E62, 1, (SQRT(OFFSET(Ghosts!$T$41,COLUMN(),0)-OFFSET(Ghosts!$R$41,COLUMN(),0)*ScreenHeight!$D62)-1))+IF(Ghosts!$B$35,IF(Param!$M$21,-1-POWER(0.3,Param!$M$21)/(IF(Param!$M$21<20,LightShader!D126,OFFSET(LightShader!D126,Param!$M$21-20,0))+POWER(0.3,Param!$M$21)),-2),0)) -> 2.0023966 | E61: =IF(ScreenHeight!$B62<OFFSET(Radar!$AC$3,COLUMN(),0), Param!$B$38/ScreenHeight!$B62, (Param!$B$37+1/(1-OFFSET(Radar!$AD$3,COLUMN(),0)*ScreenHeight!$C62)/Param!$B$39)/OFFSET(Radar!$AC$3,COLUMN(),0))*DistanceShader!E61*LightShader!E61*(IF(OFFSET(Ghosts!$S$41,COLUMN(),0)<ScreenHeight!$E62, 1, (SQRT(OFFSET(Ghosts!$T$41,COLUMN(),0)-OFFSET(Ghosts!$R$41,COLUMN(),0)*ScreenHeight!$D62)-1))+IF(Ghosts!$B$35,IF(Param!$M$21,-1-POWER(0.3,Param!$M$21)/(IF(Param!$M$21<20,LightShader!E126,OFFSET(LightShader!E126,Param!$M$21-20,0))+POWER(0.3,Param!$M$21)),-2),0)) -> 2.0514117 | F61: =IF(ScreenHeight!$B62<OFFSET(Radar!$AC$3,COLUMN(),0), Param!$B$38/ScreenHeight!$B62, (Param!$B$37+1/(1-OFFSET(Radar!$AD$3,COLUMN(),0)*ScreenHeight!$C62)/Param!$B$39)/OFFSET(Radar!$AC$3,COLUMN(),0))*DistanceShader!F61*LightShader!F61*(IF(OFFSET(Ghosts!$S$41,COLUMN(),0)<ScreenHeight!$E62, 1, (SQRT(OFFSET(Ghosts!$T$41,COLUMN(),0)-OFFSET(Ghosts!$R$41,COLUMN(),0)*ScreenHeight!$D62)-1))+IF(Ghosts!$B$35,IF(Param!$M$21,-1-POWER(0.3,Param!$M$21)/(IF(Param!$M$21<20,LightShader!F126,OFFSET(LightShader!F126,Param!$M$21-20,0))+POWER(0.3,Param!$M$21)),-2),0)) -> 2.1018269 | G61: =IF(ScreenHeight!$B62<OFFSET(Radar!$AC$3,COLUMN(),0), Param!$B$38/ScreenHeight!$B62, (Param!$B$37+1/(1-OFFSET(Radar!$AD$3,COLUMN(),0)*ScreenHeight!$C62)/Param!$B$39)/OFFSET(Radar!$AC$3,COLUMN(),0))*DistanceShader!G61*LightShader!G61*(IF(OFFSET(Ghosts!$S$41,COLUMN(),0)<ScreenHeight!$E62, 1, (SQRT(OFFSET(Ghosts!$T$41,COLUMN(),0)-OFFSET(Ghosts!$R$41,COLUMN(),0)*ScreenHeight!$D62)-1))+IF(Ghosts!$B$35,IF(Param!$M$21,-1-POWER(0.3,Param!$M$21)/(IF(Param!$M$21<20,LightShader!G126,OFFSET(LightShader!G126,Param!$M$21-20,0))+POWER(0.3,Param!$M$21)),-2),0)) -> 2.1536709 | H61: =IF(ScreenHeight!$B62<OFFSET(Radar!$AC$3,COLUMN(),0), Param!$B$38/ScreenHeight!$B62, (Param!$B$37+1/(1-OFFSET(Radar!$AD$3,COLUMN(),0)*ScreenHeight!$C62)/Param!$B$39)/OFFSET(Radar!$AC$3,COLUMN(),0))*DistanceShader!H61*LightShader!H61*(IF(OFFSET(Ghosts!$S$41,COLUMN(),0)<ScreenHeight!$E62, 1, (SQRT(OFFSET(Ghosts!$T$41,COLUMN(),0)-OFFSET(Ghosts!$R$41,COLUMN(),0)*ScreenHeight!$D62)-1))+IF(Ghosts!$B$35,IF(Param!$M$21,-1-POWER(0.3,Param!$M$21)/(IF(Param!$M$21<20,LightShader!H126,OFFSET(LightShader!H126,Param!$M$21-20,0))+POWER(0.3,Param!$M$21)),-2),0)) -> 2.2069704 | ... CW61: =IF(ScreenHeight!$B62<OFFSET(Radar!$AC$3,COLUMN(),0), Param!$B$38/ScreenHeight!$B62, (Param!$B$37+1/(1-OFFSET(Radar!$AD$3,COLUMN(),0)*ScreenHeight!$C62)/Param!$B$39)/OFFSET(Radar!$AC$3,COLUMN(),0))*DistanceShader!CW61*LightShader!CW61*(IF(OFFSET(Ghosts!$S$41,COLUMN(),0)<ScreenHeight!$E62, 1, (SQRT(OFFSET(Ghosts!$T$41,COLUMN(),0)-OFFSET(Ghosts!$R$41,COLUMN(),0)*ScreenHeight!$D62)-1))+IF(Ghosts!$B$35,IF(Param!$M$21,-1-POWER(0.3,Param!$M$21)/(IF(Param!$M$21<20,LightShader!CW126,OFFSET(LightShader!CW126,Param!$M$21-20,0))+POWER(0.3,Param!$M$21)),-2),0)) -> 1.8297927
AY62: =TEXT(Param!$M$17,"0%")&" - "&TEXT(Param!$M$22,"0")&" pts" -> 100% - 0 pts
BM179: s

Sheet ScreenHeight
A1: Pixel | B1: Roof/floor dist | C1: Reflexion factor | D1: sinus² | E1: h/dist ratio
A2: =Param!$C$43 -> 31 | B2: =IF(A2>0,Param!$C$31/A2,IF(A2<0,Param!$C$32/A2,10000)) -> 0.96774194 | C2: =MIN(Param!$B$29/SQRT(Param!$B$29*Param!$B$29+A2*A2*4),0.9999) -> 0.92416688 | D2: =POWER(A2*2/Param!$B$29,2)/(1+POWER(A2/Param!$B$29,2)) -> 0.16384638 | E2: =ABS(A2)*2/Param!$B$29 -> 0.41333333
A3: =A2-1 -> 30 | B3: =IF(A3>0,Param!$C$31/A3,IF(A3<0,Param!$C$32/A3,10000)) -> 1 | C3: =MIN(Param!$B$29/SQRT(Param!$B$29*Param!$B$29+A3*A3*4),0.9999) -> 0.92847669 | D3: =POWER(A3*2/Param!$B$29,2)/(1+POWER(A3/Param!$B$29,2)) -> 0.15384615 | E3: =ABS(A3)*2/Param!$B$29 -> 0.4
A4: =A3-1 -> 29 | B4: =IF(A4>0,Param!$C$31/A4,IF(A4<0,Param!$C$32/A4,10000)) -> 1.0344828 | C4: =MIN(Param!$B$29/SQRT(Param!$B$29*Param!$B$29+A4*A4*4),0.9999) -> 0.93270309 | D4: =POWER(A4*2/Param!$B$29,2)/(1+POWER(A4/Param!$B$29,2)) -> 0.14412407 | E4: =ABS(A4)*2/Param!$B$29 -> 0.38666667
A5: =A4-1 -> 28 | B5: =IF(A5>0,Param!$C$31/A5,IF(A5<0,Param!$C$32/A5,10000)) -> 1.0714286 | C5: =MIN(Param!$B$29/SQRT(Param!$B$29*Param!$B$29+A5*A5*4),0.9999) -> 0.93684151 | D5: =POWER(A5*2/Param!$B$29,2)/(1+POWER(A5/Param!$B$29,2)) -> 0.13468476 | E5: =ABS(A5)*2/Param!$B$29 -> 0.37333333
A6: =A5-1 -> 27 | B6: =IF(A6>0,Param!$C$31/A6,IF(A6<0,Param!$C$32/A6,10000)) -> 1.1111111 | C6: =MIN(Param!$B$29/SQRT(Param!$B$29*Param!$B$29+A6*A6*4),0.9999) -> 0.94088741 | D6: =POWER(A6*2/Param!$B$29,2)/(1+POWER(A6/Param!$B$29,2)) -> 0.12553274 | E6: =ABS(A6)*2/Param!$B$29 -> 0.36
A7: =A6-1 -> 26 | B7: =IF(A7>0,Param!$C$31/A7,IF(A7<0,Param!$C$32/A7,10000)) -> 1.1538462 | C7: =MIN(Param!$B$29/SQRT(Param!$B$29*Param!$B$29+A7*A7*4),0.9999) -> 0.9448362 | D7: =POWER(A7*2/Param!$B$29,2)/(1+POWER(A7/Param!$B$29,2)) -> 0.11667242 | E7: =ABS(A7)*2/Param!$B$29 -> 0.34666667
A8: =A7-1 -> 25 | B8: =IF(A8>0,Param!$C$31/A8,IF(A8<0,Param!$C$32/A8,10000)) -> 1.2 | C8: =MIN(Param!$B$29/SQRT(Param!$B$29*Param!$B$29+A8*A8*4),0.9999) -> 0.9486833 | D8: =POWER(A8*2/Param!$B$29,2)/(1+POWER(A8/Param!$B$29,2)) -> 0.10810811 | E8: =ABS(A8)*2/Param!$B$29 -> 0.33333333
A9: =A8-1 -> 24 | B9: =IF(A9>0,Param!$C$31/A9,IF(A9<0,Param!$C$32/A9,10000)) -> 1.25 | C9: =MIN(Param!$B$29/SQRT(Param!$B$29*Param!$B$29+A9*A9*4),0.9999) -> 0.95242415 | D9: =POWER(A9*2/Param!$B$29,2)/(1+POWER(A9/Param!$B$29,2)) -> 0.099843994 | E9: =ABS(A9)*2/Param!$B$29 -> 0.32
A10: =A9-1 -> 23 | B10: =IF(A10>0,Param!$C$31/A10,IF(A10<0,Param!$C$32/A10,10000)) -> 1.3043478 | C10: =MIN(Param!$B$29/SQRT(Param!$B$29*Param!$B$29+A10*A10*4),0.9999) -> 0.95605421 | D10: =POWER(A10*2/Param!$B$29,2)/(1+POWER(A10/Param!$B$29,2)) -> 0.091884146 | E10: =ABS(A10)*2/Param!$B$29 -> 0.30666667
A11: =A10-1 -> 22 | B11: =IF(A11>0,Param!$C$31/A11,IF(A11<0,Param!$C$32/A11,10000)) -> 1.3636364 | C11: =MIN(Param!$B$29/SQRT(Param!$B$29*Param!$B$29+A11*A11*4),0.9999) -> 0.95956898 | D11: =POWER(A11*2/Param!$B$29,2)/(1+POWER(A11/Param!$B$29,2)) -> 0.08423251 | E11: =ABS(A11)*2/Param!$B$29 -> 0.29333333
A12: =A11-1 -> 21 | B12: =IF(A12>0,Param!$C$31/A12,IF(A12<0,Param!$C$32/A12,10000)) -> 1.4285714 | C12: =MIN(Param!$B$29/SQRT(Param!$B$29*Param!$B$29+A12*A12*4),0.9999) -> 0.96296402 | D12: =POWER(A12*2/Param!$B$29,2)/(1+POWER(A12/Param!$B$29,2)) -> 0.076892899 | E12: =ABS(A12)*2/Param!$B$29 -> 0.28
A13: =A12-1 -> 20 | B13: =IF(A13>0,Param!$C$31/A13,IF(A13<0,Param!$C$32/A13,10000)) -> 1.5 | C13: =MIN(Param!$B$29/SQRT(Param!$B$29*Param!$B$29+A13*A13*4),0.9999) -> 0.96623494 | D13: =POWER(A13*2/Param!$B$29,2)/(1+POWER(A13/Param!$B$29,2)) -> 0.069868996 | E13: =ABS(A13)*2/Param!$B$29 -> 0.26666667
A14: =A13-1 -> 19 | B14: =IF(A14>0,Param!$C$31/A14,IF(A14<0,Param!$C$32/A14,10000)) -> 1.5789474 | C14: =MIN(Param!$B$29/SQRT(Param!$B$29*Param!$B$29+A14*A14*4),0.9999) -> 0.96937744 | D14: =POWER(A14*2/Param!$B$29,2)/(1+POWER(A14/Param!$B$29,2)) -> 0.063164341 | E14: =ABS(A14)*2/Param!$B$29 -> 0.25333333
... A62: =A61-1 -> -29 | B62: =IF(A62>0,Param!$C$31/A62,IF(A62<0,Param!$C$32/A62,10000)) -> 0.77586207 | C62: =MIN(Param!$B$29/SQRT(Param!$B$29*Param!$B$29+A62*A62*4),0.9999) -> 0.93270309 | D62: =POWER(A62*2/Param!$B$29,2)/(1+POWER(A62/Param!$B$29,2)) -> 0.14412407 | E62: =ABS(A62)*2/Param!$B$29 -> 0.38666667

Sheet Radar
J2: =0.5 -> 0.5 | K2: =0.5 -> 0.5 | L2: =J2+1 -> 1.5 | M2: =K2+1 -> 1.5 | N2: =L2+1 -> 2.5 | O2: =M2+1 -> 2.5 | P2: =N2+1 -> 3.5 | Q2: =O2+1 -> 3.5 | R2: =P2+1 -> 4.5 | S2: =Q2+1 -> 4.5 | ... AA2: =Y2+1 -> 8.5
A3: Pixel | B3: Angle(Rad) | C3: Angle(°) | D3: X>0 | E3: Y>0 | F3: Base Distance WallX | G3: Base Distance WallY | H3: DeltaY WallX | I3: DeltaX WallY | J3: WallX1 | K3: WallY1 | L3: WallX2 | M3: WallY2 | N3: WallX3 | O3: WallY3 | P3: WallX4 | Q3: WallY4 | R3: WallX5 | S3: WallY5 | T3: WallX6 | U3: WallY6 | V3: WallX7 | W3: WallY7 | X3: WallX8 | Y3: WallY8 | Z3: WallX9 | AA3: WallY9 | AB3: Final | AC3: Final Straight Lines | AD3: Reflexion indice | AE3: min(wall;monster)
A4: =Param!$C$42-1 -> 50 | B4: =MOD(ATAN(A4/Param!$B$29*2)+Param!$D$14,2*PI()) -> 2.5951312 | C4: =B4*180/PI() -> 148.69007 | D4: =(($B4*2<=PI())+($B4*2>=PI()*3))*2-1 -> -1 | E4: =($B4<=PI())*2-1 -> 1 | F4: =1/MAX(ABS(COS($B4)),0.0001) -> 1.1704548 | G4: =1/MAX(ABS(SIN($B4)),0.0001) -> 1.9243084 | H4: =F4/G4*D4*E4 -> -0.60824699 | I4: =1/H4 -> -1.644069 | J4: =IF(TRUNC(MOD((COS(J$2*$D4-0.5+Param!$H$8)+SIN(ROUND($H4*(J$2*$D4-Param!$G$15)+Param!$G$16,0)+Param!$H$9))*1000,1),2)>PwallX, $F4*(J$2-Param!$G$15*$D4), "NoWall") -> NoWall | K4: =IF(TRUNC(MOD((COS(ROUND($I4*(K$2*$E4-Param!$G$16)+Param!$G$15,0)+Param!$H$8)+SIN(K$2*$E4-0.5+Param!$H$9))*100000,1),2)>PWallY, $G4*(K$2-Param!$G$16*$E4), "NoWall") -> NoWall | L4: =IF(J4="NoWall", IF(TRUNC(MOD((COS(L$2*$D4-0.5+Param!$H$8)+SIN(ROUND($H4*(L$2*$D4-Param!$G$15)+Param!$G$16,0)+Param!$H$9))*1000,1),2)>PwallX, $F4*(L$2-Param!$G$15*$D4), "NoWall"), J4) -> 2.1950108 | M4: =IF(K4="NoWall", IF(TRUNC(MOD((COS(ROUND($I4*(M$2*$E4-Param!$G$16)+Param!$G$15,0)+Param!$H$8)+SIN(M$2*$E4-0.5+Param!$H$9))*100000,1),2)>PWallY, $G4*(M$2-Param!$G$16*$E4), "NoWall"), K4) -> NoWall | N4: =IF(L4="NoWall", IF(TRUNC(MOD((COS(N$2*$D4-0.5+Param!$H$8)+SIN(ROUND($H4*(N$2*$D4-Param!$G$15)+Param!$G$16,0)+Param!$H$9))*1000,1),2)>PwallX, $F4*(N$2-Param!$G$15*$D4), "NoWall"), L4) -> 2.1950108 | O4: =IF(M4="NoWall", IF(TRUNC(MOD((COS(ROUND($I4*(O$2*$E4-Param!$G$16)+Param!$G$15,0)+Param!$H$8)+SIN(O$2*$E4-0.5+Param!$H$9))*100000,1),2)>PWallY, $G4*(O$2-Param!$G$16*$E4), "NoWall"), M4) -> 4.5443637 | P4: =IF(N4="NoWall", IF(TRUNC(MOD((COS(P$2*$D4-0.5+Param!$H$8)+SIN(ROUND($H4*(P$2*$D4-Param!$G$15)+Param!$G$16,0)+Param!$H$9))*1000,1),2)>PwallX, $F4*(P$2-Param!$G$15*$D4), "NoWall"), N4) -> 2.1950108 | Q4: =IF(O4="NoWall", IF(TRUNC(MOD((COS(ROUND($I4*(Q$2*$E4-Param!$G$16)+Param!$G$15,0)+Param!$H$8)+SIN(Q$2*$E4-0.5+Param!$H$9))*100000,1),2)>PWallY, $G4*(Q$2-Param!$G$16*$E4), "NoWall"), O4) -> 4.5443637 | R4: =IF(P4="NoWall", IF(TRUNC(MOD((COS(R$2*$D4-0.5+Param!$H$8)+SIN(ROUND($H4*(R$2*$D4-Param!$G$15)+Param!$G$16,0)+Param!$H$9))*1000,1),2)>PwallX, $F4*(R$2-Param!$G$15*$D4), "NoWall"), P4) -> 2.1950108 | S4: =IF(Q4="NoWall", IF(TRUNC(MOD((COS(ROUND($I4*(S$2*$E4-Param!$G$16)+Param!$G$15,0)+Param!$H$8)+SIN(S$2*$E4-0.5+Param!$H$9))*100000,1),2)>PWallY, $G4*(S$2-Param!$G$16*$E4), "NoWall"), Q4) -> 4.5443637 | T4: =IF(R4="NoWall", IF(TRUNC(MOD((COS(T$2*$D4-0.5+Param!$H$8)+SIN(ROUND($H4*(T$2*$D4-Param!$G$15)+Param!$G$16,0)+Param!$H$9))*1000,1),2)>PwallX, $F4*(T$2-Param!$G$15*$D4), "NoWall"), R4) -> 2.1950108 | U4: =IF(S4="NoWall", IF(TRUNC(MOD((COS(ROUND($I4*(U$2*$E4-Param!$G$16)+Param!$G$15,0)+Param!$H$8)+SIN(U$2*$E4-0.5+Param!$H$9))*100000,1),2)>PWallY, $G4*(U$2-Param!$G$16*$E4), "NoWall"), S4) -> 4.5443637 | V4: =IF(T4="NoWall", IF(TRUNC(MOD((COS(V$2*$D4-0.5+Param!$H$8)+SIN(ROUND($H4*(V$2*$D4-Param!$G$15)+Param!$G$16,0)+Param!$H$9))*1000,1),2)>PwallX, $F4*(V$2-Param!$G$15*$D4), "NoWall"), T4) -> 2.1950108 | W4: =IF(U4="NoWall", IF(TRUNC(MOD((COS(ROUND($I4*(W$2*$E4-Param!$G$16)+Param!$G$15,0)+Param!$H$8)+SIN(W$2*$E4-0.5+Param!$H$9))*100000,1),2)>PWallY, $G4*(W$2-Param!$G$16*$E4), "NoWall"), U4) -> 4.5443637 | X4: =IF(V4="NoWall", IF(TRUNC(MOD((COS(X$2*$D4-0.5+Param!$H$8)+SIN(ROUND($H4*(X$2*$D4-Param!$G$15)+Param!$G$16,0)+Param!$H$9))*1000,1),2)>PwallX, $F4*(X$2-Param!$G$15*$D4), "NoWall"), V4) -> 2.1950108 | Y4: =IF(W4="NoWall", IF(TRUNC(MOD((COS(ROUND($I4*(Y$2*$E4-Param!$G$16)+Param!$G$15,0)+Param!$H$8)+SIN(Y$2*$E4-0.5+Param!$H$9))*100000,1),2)>PWallY, $G4*(Y$2-Param!$G$16*$E4), "NoWall"), W4) -> 4.5443637 | Z4: =IF(X4="NoWall", IF(TRUNC(MOD((COS(Z$2*$D4-0.5+Param!$H$8)+SIN(ROUND($H4*(Z$2*$D4-Param!$G$15)+Param!$G$16,0)+Param!$H$9))*1000,1),2)>PwallX, $F4*(Z$2-Param!$G$15*$D4), "NoWall"), X4) -> 2.1950108 | AA4: =IF(Y4="NoWall", IF(TRUNC(MOD((COS(ROUND($I4*(AA$2*$E4-Param!$G$16)+Param!$G$15,0)+Param!$H$8)+SIN(AA$2*$E4-0.5+Param!$H$9))*100000,1),2)>PWallY, $G4*(AA$2-Param!$G$16*$E4), "NoWall"), Y4) -> 4.5443637 | AB4: =MIN(IF(Z4="NoWall",10000,Z4),IF(AA4="NoWall",10000,AA4)) -> 2.1950108 | AC4: =AB4*COS(B4-Param!$D$14) -> 1.8263594 | AD4: =IF(Z4=AB4,MIN(ABS(COS($B4)),0.9999),IF(AA4=AB4,MIN(ABS(SIN($B4)),0.9999),0)) -> 0.85436876 | AE4: =MIN(AC4,Ghosts!P42) -> 1.8263594
A5: =A4-1 -> 49 | B5: =MOD(ATAN(A5/Param!$B$29*2)+Param!$D$14,2*PI()) -> 2.5858436 | C5: =B5*180/PI() -> 148.15792 | D5: =(($B5*2<=PI())+($B5*2>=PI()*3))*2-1 -> -1 | E5: =($B5<=PI())*2-1 -> 1 | F5: =1/MAX(ABS(COS(B5)),0.0001) -> 1.1771554 | G5: =1/MAX(ABS(SIN($B5)),0.0001) -> 1.8954479 | H5: =F5/G5*D5*E5 -> -0.62104341 | I5: =1/H5 -> -1.6101934 | J5: =IF(TRUNC(MOD((COS(J$2*$D5-0.5+Param!$H$8)+SIN(ROUND($H5*(J$2*$D5-Param!$G$15)+Param!$G$16,0)+Param!$H$9))*1000,1),2)>PwallX, $F5*(J$2-Param!$G$15*$D5), "NoWall") -> NoWall | K5: =IF(TRUNC(MOD((COS(ROUND($I5*(K$2*$E5-Param!$G$16)+Param!$G$15,0)+Param!$H$8)+SIN(K$2*$E5-0.5+Param!$H$9))*100000,1),2)>PWallY, $G5*(K$2-Param!$G$16*$E5), "NoWall") -> NoWall | L5: =IF(J5="NoWall", IF(TRUNC(MOD((COS(L$2*$D5-0.5+Param!$H$8)+SIN(ROUND($H5*(L$2*$D5-Param!$G$15)+Param!$G$16,0)+Param!$H$9))*1000,1),2)>PwallX, $F5*(L$2-Param!$G$15*$D5), "NoWall"), J5) -> 2.2075768 | M5: =IF(K5="NoWall", IF(TRUNC(MOD((COS(ROUND($I5*(M$2*$E5-Param!$G$16)+Param!$G$15,0)+Param!$H$8)+SIN(M$2*$E5-0.5+Param!$H$9))*100000,1),2)>PWallY, $G5*(M$2-Param!$G$16*$E5), "NoWall"), K5) -> NoWall | N5: =IF(L5="NoWall", IF(TRUNC(MOD((COS(N$2*$D5-0.5+Param!$H$8)+SIN(ROUND($H5*(N$2*$D5-Param!$G$15)+Param!$G$16,0)+Param!$H$9))*1000,1),2)>PwallX, $F5*(N$2-Param!$G$15*$D5), "NoWall"), L5) -> 2.2075768 | O5: =IF(M5="NoWall", IF(TRUNC(MOD((COS(ROUND($I5*(O$2*$E5-Param!$G$16)+Param!$G$15,0)+Param!$H$8)+SIN(O$2*$E5-0.5+Param!$H$9))*100000,1),2)>PWallY, $G5*(O$2-Param!$G$16*$E5), "NoWall"), M5) -> NoWall | P5: =IF(N5="NoWall", IF(TRUNC(MOD((COS(P$2*$D5-0.5+Param!$H$8)+SIN(ROUND($H5*(P$2*$D5-Param!$G$15)+Param!$G$16,0)+Param!$H$9))*1000,1),2)>PwallX, $F5*(P$2-Param!$G$15*$D5), "NoWall"), N5) -> 2.2075768 | Q5: =IF(O5="NoWall", IF(TRUNC(MOD((COS(ROUND($I5*(Q$2*$E5-Param!$G$16)+Param!$G$15,0)+Param!$H$8)+SIN(Q$2*$E5-0.5+Param!$H$9))*100000,1),2)>PWallY, $G5*(Q$2-Param!$G$16*$E5), "NoWall"), O5) -> 6.371656 | R5: =IF(P5="NoWall", IF(TRUNC(MOD((COS(R$2*$D5-0.5+Param!$H$8)+SIN(ROUND($H5*(R$2*$D5-Param!$G$15)+Param!$G$16,0)+Param!$H$9))*1000,1),2)>PwallX, $F5*(R$2-Param!$G$15*$D5), "NoWall"), P5) -> 2.2075768 | S5: =IF(Q5="NoWall", IF(TRUNC(MOD((COS(ROUND($I5*(S$2*$E5-Param!$G$16)+Param!$G$15,0)+Param!$H$8)+SIN(S$2*$E5-0.5+Param!$H$9))*100000,1),2)>PWallY, $G5*(S$2-Param!$G$16*$E5), "NoWall"), Q5) -> 6.371656 | T5: =IF(R5="NoWall", IF(TRUNC(MOD((COS(T$2*$D5-0.5+Param!$H$8)+SIN(ROUND($H5*(T$2*$D5-Param!$G$15)+Param!$G$16,0)+Param!$H$9))*1000,1),2)>PwallX, $F5*(T$2-Param!$G$15*$D5), "NoWall"), R5) -> 2.2075768 | U5: =IF(S5="NoWall", IF(TRUNC(MOD((COS(ROUND($I5*(U$2*$E5-Param!$G$16)+Param!$G$15,0)+Param!$H$8)+SIN(U$2*$E5-0.5+Param!$H$9))*100000,1),2)>PWallY, $G5*(U$2-Param!$G$16*$E5), "NoWall"), S5) -> 6.371656 | V5: =IF(T5="NoWall", IF(TRUNC(MOD((COS(V$2*$D5-0.5+Param!$H$8)+SIN(ROUND($H5*(V$2*$D5-Param!$G$15)+Param!$G$16,0)+Param!$H$9))*1000,1),2)>PwallX, $F5*(V$2-Param!$G$15*$D5), "NoWall"), T5) -> 2.2075768 | W5: =IF(U5="NoWall", IF(TRUNC(MOD((COS(ROUND($I5*(W$2*$E5-Param!$G$16)+Param!$G$15,0)+Param!$H$8)+SIN(W$2*$E5-0.5+Param!$H$9))*100000,1),2)>PWallY, $G5*(W$2-Param!$G$16*$E5), "NoWall"), U5) -> 6.371656 | X5: =IF(V5="NoWall", IF(TRUNC(MOD((COS(X$2*$D5-0.5+Param!$H$8)+SIN(ROUND($H5*(X$2*$D5-Param!$G$15)+Param!$G$16,0)+Param!$H$9))*1000,1),2)>PwallX, $F5*(X$2-Param!$G$15*$D5), "NoWall"), V5) -> 2.2075768 | Y5: =IF(W5="NoWall", IF(TRUNC(MOD((COS(ROUND($I5*(Y$2*$E5-Param!$G$16)+Param!$G$15,0)+Param!$H$8)+SIN(Y$2*$E5-0.5+Param!$H$9))*100000,1),2)>PWallY, $G5*(Y$2-Param!$G$16*$E5), "NoWall"), W5) -> 6.371656 | Z5: =IF(X5="NoWall", IF(TRUNC(MOD((COS(Z$2*$D5-0.5+Param!$H$8)+SIN(ROUND($H5*(Z$2*$D5-Param!$G$15)+Param!$G$16,0)+Param!$H$9))*1000,1),2)>PwallX, $F5*(Z$2-Param!$G$15*$D5), "NoWall"), X5) -> 2.2075768 | AA5: =IF(Y5="NoWall", IF(TRUNC(MOD((COS(ROUND($I5*(AA$2*$E5-Param!$G$16)+Param!$G$15,0)+Param!$H$8)+SIN(AA$2*$E5-0.5+Param!$H$9))*100000,1),2)>PWallY, $G5*(AA$2-Param!$G$16*$E5), "NoWall"), Y5) -> 6.371656 | AB5: =MIN(IF(Z5="NoWall",10000,Z5),IF(AA5="NoWall",10000,AA5)) -> 2.2075768 | AC5: =AB5*COS(B5-Param!$D$14) -> 1.8481087 | AD5: =IF(Z5=AB5,MIN(ABS(COS($B5)),0.9999),IF(AA5=AB5,MIN(ABS(SIN($B5)),0.9999),0)) -> 0.84950549 | AE5: =MIN(AC5,Ghosts!P43) -> 1.8481087
A6: =A5-1 -> 48 | B6: =MOD(ATAN(A6/Param!$B$29*2)+Param!$D$14,2*PI()) -> 2.5764418 | C6: =B6*180/PI() -> 147.61924 | D6: =(($B6*2<=PI())+($B6*2>=PI()*3))*2-1 -> -1 | E6: =($B6<=PI())*2-1 -> 1 | F6: =1/MAX(ABS(COS(B6)),0.0001) -> 1.1841216 | G6: =1/MAX(ABS(SIN($B6)),0.0001) -> 1.867263 | H6: =F6/G6*D6*E6 -> -0.63414828 | I6: =1/H6 -> -1.5769183 | J6: =IF(TRUNC(MOD((COS(J$2*$D6-0.5+Param!$H$8)+SIN(ROUND($H6*(J$2*$D6-Param!$G$15)+Param!$G$16,0)+Param!$H$9))*1000,1),2)>PwallX, $F6*(J$2-Param!$G$15*$D6), "NoWall") -> NoWall | K6: =IF(TRUNC(MOD((COS(ROUND($I6*(K$2*$E6-Param!$G$16)+Param!$G$15,0)+Param!$H$8)+SIN(K$2*$E6-0.5+Param!$H$9))*100000,1),2)>PWallY, $G6*(K$2-Param!$G$16*$E6), "NoWall") -> NoWall | L6: =IF(J6="NoWall", IF(TRUNC(MOD((COS(L$2*$D6-0.5+Param!$H$8)+SIN(ROUND($H6*(L$2*$D6-Param!$G$15)+Param!$G$16,0)+Param!$H$9))*1000,1),2)>PwallX, $F6*(L$2-Param!$G$15*$D6), "NoWall"), J6) -> 2.2206409 | M6: =IF(K6="NoWall", IF(TRUNC(MOD((COS(ROUND($I6*(M$2*$E6-Param!$G$16)+Param!$G$15,0)+Param!$H$8)+SIN(M$2*$E6-0.5+Param!$H$9))*100000,1),2)>PWallY, $G6*(M$2-Param!$G$16*$E6), "NoWall"), K6) -> NoWall | N6: =IF(L6="NoWall", IF(TRUNC(MOD((COS(N$2*$D6-0.5+Param!$H$8)+SIN(ROUND($H6*(N$2*$D6-Param!$G$15)+Param!$G$16,0)+Param!$H$9))*1000,1),2)>PwallX, $F6*(N$2-Param!$G$15*$D6), "NoWall"), L6) -> 2.2206409 | O6: =IF(M6="NoWall", IF(TRUNC(MOD((COS(ROUND($I6*(O$2*$E6-Param!$G$16)+Param!$G$15,0)+Param!$H$8)+SIN(O$2*$E6-0.5+Param!$H$9))*100000,1),2)>PWallY, $G6*(O$2-Param!$G$16*$E6), "NoWall"), M6) -> NoWall | P6: =IF(N6="NoWall", IF(TRUNC(MOD((COS(P$2*$D6-0.5+Param!$H$8)+SIN(ROUND($H6*(P$2*$D6-Param!$G$15)+Param!$G$16,0)+Param!$H$9))*1000,1),2)>PwallX, $F6*(P$2-Param!$G$15*$D6), "NoWall"), N6) -> 2.2206409 | Q6: =IF(O6="NoWall", IF(TRUNC(MOD((COS(ROUND($I6*(Q$2*$E6-Param!$G$16)+Param!$G$15,0)+Param!$H$8)+SIN(Q$2*$E6-0.5+Param!$H$9))*100000,1),2)>PWallY, $G6*(Q$2-Param!$G$16*$E6), "NoWall"), O6) -> 6.2769109 | R6: =IF(P6="NoWall", IF(TRUNC(MOD((COS(R$2*$D6-0.5+Param!$H$8)+SIN(ROUND($H6*(R$2*$D6-Param!$G$15)+Param!$G$16,0)+Param!$H$9))*1000,1),2)>PwallX, $F6*(R$2-Param!$G$15*$D6), "NoWall"), P6) -> 2.2206409 | S6: =IF(Q6="NoWall", IF(TRUNC(MOD((COS(ROUND($I6*(S$2*$E6-Param!$G$16)+Param!$G$15,0)+Param!$H$8)+SIN(S$2*$E6-0.5+Param!$H$9))*100000,1),2)>PWallY, $G6*(S$2-Param!$G$16*$E6), "NoWall"), Q6) -> 6.2769109 | T6: =IF(R6="NoWall", IF(TRUNC(MOD((COS(T$2*$D6-0.5+Param!$H$8)+SIN(ROUND($H6*(T$2*$D6-Param!$G$15)+Param!$G$16,0)+Param!$H$9))*1000,1),2)>PwallX, $F6*(T$2-Param!$G$15*$D6), "NoWall"), R6) -> 2.2206409 | U6: =IF(S6="NoWall", IF(TRUNC(MOD((COS(ROUND($I6*(U$2*$E6-Param!$G$16)+Param!$G$15,0)+Param!$H$8)+SIN(U$2*$E6-0.5+Param!$H$9))*100000,1),2)>PWallY, $G6*(U$2-Param!$G$16*$E6), "NoWall"), S6) -> 6.2769109 | V6: =IF(T6="NoWall", IF(TRUNC(MOD((COS(V$2*$D6-0.5+Param!$H$8)+SIN(ROUND($H6*(V$2*$D6-Param!$G$15)+Param!$G$16,0)+Param!$H$9))*1000,1),2)>PwallX, $F6*(V$2-Param!$G$15*$D6), "NoWall"), T6) -> 2.2206409 | W6: =IF(U6="NoWall", IF(TRUNC(MOD((COS(ROUND($I6*(W$2*$E6-Param!$G$16)+Param!$G$15,0)+Param!$H$8)+SIN(W$2*$E6-0.5+Param!$H$9))*100000,1),2)>PWallY, $G6*(W$2-Param!$G$16*$E6), "NoWall"), U6) -> 6.2769109 | X6: =IF(V6="NoWall", IF(TRUNC(MOD((COS(X$2*$D6-0.5+Param!$H$8)+SIN(ROUND($H6*(X$2*$D6-Param!$G$15)+Param!$G$16,0)+Param!$H$9))*1000,1),2)>PwallX, $F6*(X$2-Param!$G$15*$D6), "NoWall"), V6) -> 2.2206409 | Y6: =IF(W6="NoWall", IF(TRUNC(MOD((COS(ROUND($I6*(Y$2*$E6-Param!$G$16)+Param!$G$15,0)+Param!$H$8)+SIN(Y$2*$E6-0.5+Param!$H$9))*100000,1),2)>PWallY, $G6*(Y$2-Param!$G$16*$E6), "NoWall"), W6) -> 6.2769109 | Z6: =IF(X6="NoWall", IF(TRUNC(MOD((COS(Z$2*$D6-0.5+Param!$H$8)+SIN(ROUND($H6*(Z$2*$D6-Param!$G$15)+Param!$G$16,0)+Param!$H$9))*1000,1),2)>PwallX, $F6*(Z$2-Param!$G$15*$D6), "NoWall"), X6) -> 2.2206409 | AA6: =IF(Y6="NoWall", IF(TRUNC(MOD((COS(ROUND($I6*(AA$2*$E6-Param!$G$16)+Param!$G$15,0)+Param!$H$8)+SIN(AA$2*$E6-0.5+Param!$H$9))*100000,1),2)>PWallY, $G6*(AA$2-Param!$G$16*$E6), "NoWall"), Y6) -> 6.2769109 | AB6: =MIN(IF(Z6="NoWall",10000,Z6),IF(AA6="NoWall",10000,AA6)) -> 2.2206409 | AC6: =AB6*COS(B6-Param!$D$14) -> 1.8703823 | AD6: =IF(Z6=AB6,MIN(ABS(COS($B6)),0.9999),IF(AA6=AB6,MIN(ABS(SIN($B6)),0.9999),0)) -> 0.84450784 | AE6: =MIN(AC6,Ghosts!P44) -> 1.8703823
A7: =A6-1 -> 47 | B7: =MOD(ATAN(A7/Param!$B$29*2)+Param!$D$14,2*PI()) -> 2.5669256 | C7: =B7*180/PI() -> 147.074 | D7: =(($B7*2<=PI())+($B7*2>=PI()*3))*2-1 -> -1 | E7: =($B7<=PI())*2-1 -> 1 | F7: =1/MAX(ABS(COS(B7)),0.0001) -> 1.191365 | G7: =1/MAX(ABS(SIN($B7)),0.0001) -> 1.8397389 | H7: =F7/G7*D7*E7 -> -0.64757288 | I7: =1/H7 -> -1.5442277 | J7: =IF(TRUNC(MOD((COS(J$2*$D7-0.5+Param!$H$8)+SIN(ROUND($H7*(J$2*$D7-Param!$G$15)+Param!$G$16,0)+Param!$H$9))*1000,1),2)>PwallX, $F7*(J$2-Param!$G$15*$D7), "NoWall") -> NoWall | K7: =IF(TRUNC(MOD((COS(ROUND($I7*(K$2*$E7-Param!$G$16)+Param!$G$15,0)+Param!$H$8)+SIN(K$2*$E7-0.5+Param!$H$9))*100000,1),2)>PWallY, $G7*(K$2-Param!$G$16*$E7), "NoWall") -> NoWall | L7: =IF(J7="NoWall", IF(TRUNC(MOD((COS(L$2*$D7-0.5+Param!$H$8)+SIN(ROUND($H7*(L$2*$D7-Param!$G$15)+Param!$G$16,0)+Param!$H$9))*1000,1),2)>PwallX, $F7*(L$2-Param!$G$15*$D7), "NoWall"), J7) -> 2.2342248 | M7: =IF(K7="NoWall", IF(TRUNC(MOD((COS(ROUND($I7*(M$2*$E7-Param!$G$16)+Param!$G$15,0)+Param!$H$8)+SIN(M$2*$E7-0.5+Param!$H$9))*100000,1),2)>PWallY, $G7*(M$2-Param!$G$16*$E7), "NoWall"), K7) -> NoWall | N7: =IF(L7="NoWall", IF(TRUNC(MOD((COS(N$2*$D7-0.5+Param!$H$8)+SIN(ROUND($H7*(N$2*$D7-Param!$G$15)+Param!$G$16,0)+Param!$H$9))*1000,1),2)>PwallX, $F7*(N$2-Param!$G$15*$D7), "NoWall"), L7) -> 2.2342248 | O7: =IF(M7="NoWall", IF(TRUNC(MOD((COS(ROUND($I7*(O$2*$E7-Param!$G$16)+Param!$G$15,0)+Param!$H$8)+SIN(O$2*$E7-0.5+Param!$H$9))*100000,1),2)>PWallY, $G7*(O$2-Param!$G$16*$E7), "NoWall"), M7) -> NoWall | P7: =IF(N7="NoWall", IF(TRUNC(MOD((COS(P$2*$D7-0.5+Param!$H$8)+SIN(ROUND($H7*(P$2*$D7-Param!$G$15)+Param!$G$16,0)+Param!$H$9))*1000,1),2)>PwallX, $F7*(P$2-Param!$G$15*$D7), "NoWall"), N7) -> 2.2342248 | Q7: =IF(O7="NoWall", IF(TRUNC(MOD((COS(ROUND($I7*(Q$2*$E7-Param!$G$16)+Param!$G$15,0)+Param!$H$8)+SIN(Q$2*$E7-0.5+Param!$H$9))*100000,1),2)>PWallY, $G7*(Q$2-Param!$G$16*$E7), "NoWall"), O7) -> 6.184387 | R7: =IF(P7="NoWall", IF(TRUNC(MOD((COS(R$2*$D7-0.5+Param!$H$8)+SIN(ROUND($H7*(R$2*$D7-Param!$G$15)+Param!$G$16,0)+Param!$H$9))*1000,1),2)>PwallX, $F7*(R$2-Param!$G$15*$D7), "NoWall"), P7) -> 2.2342248 | S7: =IF(Q7="NoWall", IF(TRUNC(MOD((COS(ROUND($I7*(S$2*$E7-Param!$G$16)+Param!$G$15,0)+Param!$H$8)+SIN(S$2*$E7-0.5+Param!$H$9))*100000,1),2)>PWallY, $G7*(S$2-Param!$G$16*$E7), "NoWall"), Q7) -> 6.184387 | T7: =IF(R7="NoWall", IF(TRUNC(MOD((COS(T$2*$D7-0.5+Param!$H$8)+SIN(ROUND($H7*(T$2*$D7-Param!$G$15)+Param!$G$16,0)+Param!$H$9))*1000,1),2)>PwallX, $F7*(T$2-Param!$G$15*$D7), "NoWall"), R7) -> 2.2342248 | U7: =IF(S7="NoWall", IF(TRUNC(MOD((COS(ROUND($I7*(U$2*$E7-Param!$G$16)+Param!$G$15,0)+Param!$H$8)+SIN(U$2*$E7-0.5+Param!$H$9))*100000,1),2)>PWallY, $G7*(U$2-Param!$G$16*$E7), "NoWall"), S7) -> 6.184387 | V7: =IF(T7="NoWall", IF(TRUNC(MOD((COS(V$2*$D7-0.5+Param!$H$8)+SIN(ROUND($H7*(V$2*$D7-Param!$G$15)+Param!$G$16,0)+Param!$H$9))*1000,1),2)>PwallX, $F7*(V$2-Param!$G$15*$D7), "NoWall"), T7) -> 2.2342248 | W7: =IF(U7="NoWall", IF(TRUNC(MOD((COS(ROUND($I7*(W$2*$E7-Param!$G$16)+Param!$G$15,0)+Param!$H$8)+SIN(W$2*$E7-0.5+Param!$H$9))*100000,1),2)>PWallY, $G7*(W$2-Param!$G$16*$E7), "NoWall"), U7) -> 6.184387 | X7: =IF(V7="NoWall", IF(TRUNC(MOD((COS(X$2*$D7-0.5+Param!$H$8)+SIN(ROUND($H7*(X$2*$D7-Param!$G$15)+Param!$G$16,0)+Param!$H$9))*1000,1),2)>PwallX, $F7*(X$2-Param!$G$15*$D7), "NoWall"), V7) -> 2.2342248 | Y7: =IF(W7="NoWall", IF(TRUNC(MOD((COS(ROUND($I7*(Y$2*$E7-Param!$G$16)+Param!$G$15,0)+Param!$H$8)+SIN(Y$2*$E7-0.5+Param!$H$9))*100000,1),2)>PWallY, $G7*(Y$2-Param!$G$16*$E7), "NoWall"), W7) -> 6.184387 | Z7: =IF(X7="NoWall", IF(TRUNC(MOD((COS(Z$2*$D7-0.5+Param!$H$8)+SIN(ROUND($H7*(Z$2*$D7-Param!$G$15)+Param!$G$16,0)+Param!$H$9))*1000,1),2)>PwallX, $F7*(Z$2-Param!$G$15*$D7), "NoWall"), X7) -> 2.2342248 | AA7: =IF(Y7="NoWall", IF(TRUNC(MOD((COS(ROUND($I7*(AA$2*$E7-Param!$G$16)+Param!$G$15,0)+Param!$H$8)+SIN(AA$2*$E7-0.5+Param!$H$9))*100000,1),2)>PWallY, $G7*(AA$2-Param!$G$16*$E7), "NoWall"), Y7) -> 6.184387 | AB7: =MIN(IF(Z7="NoWall",10000,Z7),IF(AA7="NoWall",10000,AA7)) -> 2.2342248 | AC7: =AB7*COS(B7-Param!$D$14) -> 1.8931993 | AD7: =IF(Z7=AB7,MIN(ABS(COS($B7)),0.9999),IF(AA7=AB7,MIN(ABS(SIN($B7)),0.9999),0)) -> 0.8393733 | AE7: =MIN(AC7,Ghosts!P45) -> 1.8931993
A8: =A7-1 -> 46 | B8: =MOD(ATAN(A8/Param!$B$29*2)+Param!$D$14,2*PI()) -> 2.5572944 | C8: =B8*180/PI() -> 146.52218 | D8: =(($B8*2<=PI())+($B8*2>=PI()*3))*2-1 -> -1 | E8: =($B8<=PI())*2-1 -> 1 | F8: =1/MAX(ABS(COS(B8)),0.0001) -> 1.1988979 | G8: =1/MAX(ABS(SIN($B8)),0.0001) -> 1.8128613 | H8: =F8/G8*D8*E8 -> -0.66132907 | I8: =1/H8 -> -1.5121065 | J8: =IF(TRUNC(MOD((COS(J$2*$D8-0.5+Param!$H$8)+SIN(ROUND($H8*(J$2*$D8-Param!$G$15)+Param!$G$16,0)+Param!$H$9))*1000,1),2)>PwallX, $F8*(J$2-Param!$G$15*$D8), "NoWall") -> NoWall | K8: =IF(TRUNC(MOD((COS(ROUND($I8*(K$2*$E8-Param!$G$16)+Param!$G$15,0)+Param!$H$8)+SIN(K$2*$E8-0.5+Param!$H$9))*100000,1),2)>PWallY, $G8*(K$2-Param!$G$16*$E8), "NoWall") -> NoWall | L8: =IF(J8="NoWall", IF(TRUNC(MOD((COS(L$2*$D8-0.5+Param!$H$8)+SIN(ROUND($H8*(L$2*$D8-Param!$G$15)+Param!$G$16,0)+Param!$H$9))*1000,1),2)>PwallX, $F8*(L$2-Param!$G$15*$D8), "NoWall"), J8) -> 2.2483515 | M8: =IF(K8="NoWall", IF(TRUNC(MOD((COS(ROUND($I8*(M$2*$E8-Param!$G$16)+Param!$G$15,0)+Param!$H$8)+SIN(M$2*$E8-0.5+Param!$H$9))*100000,1),2)>PWallY, $G8*(M$2-Param!$G$16*$E8), "NoWall"), K8) -> NoWall | N8: =IF(L8="NoWall", IF(TRUNC(MOD((COS(N$2*$D8-0.5+Param!$H$8)+SIN(ROUND($H8*(N$2*$D8-Param!$G$15)+Param!$G$16,0)+Param!$H$9))*1000,1),2)>PwallX, $F8*(N$2-Param!$G$15*$D8), "NoWall"), L8) -> 2.2483515 | O8: =IF(M8="NoWall", IF(TRUNC(MOD((COS(ROUND($I8*(O$2*$E8-Param!$G$16)+Param!$G$15,0)+Param!$H$8)+SIN(O$2*$E8-0.5+Param!$H$9))*100000,1),2)>PWallY, $G8*(O$2-Param!$G$16*$E8), "NoWall"), M8) -> NoWall | P8: =IF(N8="NoWall", IF(TRUNC(MOD((COS(P$2*$D8-0.5+Param!$H$8)+SIN(ROUND($H8*(P$2*$D8-Param!$G$15)+Param!$G$16,0)+Param!$H$9))*1000,1),2)>PwallX, $F8*(P$2-Param!$G$15*$D8), "NoWall"), N8) -> 2.2483515 | Q8: =IF(O8="NoWall", IF(TRUNC(MOD((COS(ROUND($I8*(Q$2*$E8-Param!$G$16)+Param!$G$15,0)+Param!$H$8)+SIN(Q$2*$E8-0.5+Param!$H$9))*100000,1),2)>PWallY, $G8*(Q$2-Param!$G$16*$E8), "NoWall"), O8) -> 6.0940365 | R8: =IF(P8="NoWall", IF(TRUNC(MOD((COS(R$2*$D8-0.5+Param!$H$8)+SIN(ROUND($H8*(R$2*$D8-Param!$G$15)+Param!$G$16,0)+Param!$H$9))*1000,1),2)>PwallX, $F8*(R$2-Param!$G$15*$D8), "NoWall"), P8) -> 2.2483515 | S8: =IF(Q8="NoWall", IF(TRUNC(MOD((COS(ROUND($I8*(S$2*$E8-Param!$G$16)+Param!$G$15,0)+Param!$H$8)+SIN(S$2*$E8-0.5+Param!$H$9))*100000,1),2)>PWallY, $G8*(S$2-Param!$G$16*$E8), "NoWall"), Q8) -> 6.0940365 | T8: =IF(R8="NoWall", IF(TRUNC(MOD((COS(T$2*$D8-0.5+Param!$H$8)+SIN(ROUND($H8*(T$2*$D8-Param!$G$15)+Param!$G$16,0)+Param!$H$9))*1000,1),2)>PwallX, $F8*(T$2-Param!$G$15*$D8), "NoWall"), R8) -> 2.2483515 | U8: =IF(S8="NoWall", IF(TRUNC(MOD((COS(ROUND($I8*(U$2*$E8-Param!$G$16)+Param!$G$15,0)+Param!$H$8)+SIN(U$2*$E8-0.5+Param!$H$9))*100000,1),2)>PWallY, $G8*(U$2-Param!$G$16*$E8), "NoWall"), S8) -> 6.0940365 | V8: =IF(T8="NoWall", IF(TRUNC(MOD((COS(V$2*$D8-0.5+Param!$H$8)+SIN(ROUND($H8*(V$2*$D8-Param!$G$15)+Param!$G$16,0)+Param!$H$9))*1000,1),2)>PwallX, $F8*(V$2-Param!$G$15*$D8), "NoWall"), T8) -> 2.2483515 | W8: =IF(U8="NoWall", IF(TRUNC(MOD((COS(ROUND($I8*(W$2*$E8-Param!$G$16)+Param!$G$15,0)+Param!$H$8)+SIN(W$2*$E8-0.5+Param!$H$9))*100000,1),2)>PWallY, $G8*(W$2-Param!$G$16*$E8), "NoWall"), U8) -> 6.0940365 | X8: =IF(V8="NoWall", IF(TRUNC(MOD((COS(X$2*$D8-0.5+Param!$H$8)+SIN(ROUND($H8*(X$2*$D8-Param!$G$15)+Param!$G$16,0)+Param!$H$9))*1000,1),2)>PwallX, $F8*(X$2-Param!$G$15*$D8), "NoWall"), V8) -> 2.2483515 | Y8: =IF(W8="NoWall", IF(TRUNC(MOD((COS(ROUND($I8*(Y$2*$E8-Param!$G$16)+Param!$G$15,0)+Param!$H$8)+SIN(Y$2*$E8-0.5+Param!$H$9))*100000,1),2)>PWallY, $G8*(Y$2-Param!$G$16*$E8), "NoWall"), W8) -> 6.0940365 | Z8: =IF(X8="NoWall", IF(TRUNC(MOD((COS(Z$2*$D8-0.5+Param!$H$8)+SIN(ROUND($H8*(Z$2*$D8-Param!$G$15)+Param!$G$16,0)+Param!$H$9))*1000,1),2)>PwallX, $F8*(Z$2-Param!$G$15*$D8), "NoWall"), X8) -> 2.2483515 | AA8: =IF(Y8="NoWall", IF(TRUNC(MOD((COS(ROUND($I8*(AA$2*$E8-Param!$G$16)+Param!$G$15,0)+Param!$H$8)+SIN(AA$2*$E8-0.5+Param!$H$9))*100000,1),2)>PWallY, $G8*(AA$2-Param!$G$16*$E8), "NoWall"), Y8) -> 6.0940365 | AB8: =MIN(IF(Z8="NoWall",10000,Z8),IF(AA8="NoWall",10000,AA8)) -> 2.2483515 | AC8: =AB8*COS(B8-Param!$D$14) -> 1.9165799 | AD8: =IF(Z8=AB8,MIN(ABS(COS($B8)),0.9999),IF(AA8=AB8,MIN(ABS(SIN($B8)),0.9999),0)) -> 0.8340994 | AE8: =MIN(AC8,Ghosts!P46) -> 1.9165799
A9: =A8-1 -> 45 | B9: =MOD(ATAN(A9/Param!$B$29*2)+Param!$D$14,2*PI()) -> 2.5475481 | C9: =B9*180/PI() -> 145.96376 | D9: =(($B9*2<=PI())+($B9*2>=PI()*3))*2-1 -> -1 | E9: =($B9<=PI())*2-1 -> 1 | F9: =1/MAX(ABS(COS(B9)),0.0001) -> 1.2067331 | G9: =1/MAX(ABS(SIN($B9)),0.0001) -> 1.7866165 | H9: =F9/G9*D9*E9 -> -0.67542927 | I9: =1/H9 -> -1.4805399 | J9: =IF(TRUNC(MOD((COS(J$2*$D9-0.5+Param!$H$8)+SIN(ROUND($H9*(J$2*$D9-Param!$G$15)+Param!$G$16,0)+Param!$H$9))*1000,1),2)>PwallX, $F9*(J$2-Param!$G$15*$D9), "NoWall") -> NoWall | K9: =IF(TRUNC(MOD((COS(ROUND($I9*(K$2*$E9-Param!$G$16)+Param!$G$15,0)+Param!$H$8)+SIN(K$2*$E9-0.5+Param!$H$9))*100000,1),2)>PWallY, $G9*(K$2-Param!$G$16*$E9), "NoWall") -> NoWall | L9: =IF(J9="NoWall", IF(TRUNC(MOD((COS(L$2*$D9-0.5+Param!$H$8)+SIN(ROUND($H9*(L$2*$D9-Param!$G$15)+Param!$G$16,0)+Param!$H$9))*1000,1),2)>PwallX, $F9*(L$2-Param!$G$15*$D9), "NoWall"), J9) -> 2.2630452 | M9: =IF(K9="NoWall", IF(TRUNC(MOD((COS(ROUND($I9*(M$2*$E9-Param!$G$16)+Param!$G$15,0)+Param!$H$8)+SIN(M$2*$E9-0.5+Param!$H$9))*100000,1),2)>PWallY, $G9*(M$2-Param!$G$16*$E9), "NoWall"), K9) -> NoWall | N9: =IF(L9="NoWall", IF(TRUNC(MOD((COS(N$2*$D9-0.5+Param!$H$8)+SIN(ROUND($H9*(N$2*$D9-Param!$G$15)+Param!$G$16,0)+Param!$H$9))*1000,1),2)>PwallX, $F9*(N$2-Param!$G$15*$D9), "NoWall"), L9) -> 2.2630452 | O9: =IF(M9="NoWall", IF(TRUNC(MOD((COS(ROUND($I9*(O$2*$E9-Param!$G$16)+Param!$G$15,0)+Param!$H$8)+SIN(O$2*$E9-0.5+Param!$H$9))*100000,1),2)>PWallY, $G9*(O$2-Param!$G$16*$E9), "NoWall"), M9) -> NoWall | P9: =IF(N9="NoWall", IF(TRUNC(MOD((COS(P$2*$D9-0.5+Param!$H$8)+SIN(ROUND($H9*(P$2*$D9-Param!$G$15)+Param!$G$16,0)+Param!$H$9))*1000,1),2)>PwallX, $F9*(P$2-Param!$G$15*$D9), "NoWall"), N9) -> 2.2630452 | Q9: =IF(O9="NoWall", IF(TRUNC(MOD((COS(ROUND($I9*(Q$2*$E9-Param!$G$16)+Param!$G$15,0)+Param!$H$8)+SIN(Q$2*$E9-0.5+Param!$H$9))*100000,1),2)>PWallY, $G9*(Q$2-Param!$G$16*$E9), "NoWall"), O9) -> 6.0058129 | R9: =IF(P9="NoWall", IF(TRUNC(MOD((COS(R$2*$D9-0.5+Param!$H$8)+SIN(ROUND($H9*(R$2*$D9-Param!$G$15)+Param!$G$16,0)+Param!$H$9))*1000,1),2)>PwallX, $F9*(R$2-Param!$G$15*$D9), "NoWall"), P9) -> 2.2630452 | S9: =IF(Q9="NoWall", IF(TRUNC(MOD((COS(ROUND($I9*(S$2*$E9-Param!$G$16)+Param!$G$15,0)+Param!$H$8)+SIN(S$2*$E9-0.5+Param!$H$9))*100000,1),2)>PWallY, $G9*(S$2-Param!$G$16*$E9), "NoWall"), Q9) -> 6.0058129 | T9: =IF(R9="NoWall", IF(TRUNC(MOD((COS(T$2*$D9-0.5+Param!$H$8)+SIN(ROUND($H9*(T$2*$D9-Param!$G$15)+Param!$G$16,0)+Param!$H$9))*1000,1),2)>PwallX, $F9*(T$2-Param!$G$15*$D9), "NoWall"), R9) -> 2.2630452 | U9: =IF(S9="NoWall", IF(TRUNC(MOD((COS(ROUND($I9*(U$2*$E9-Param!$G$16)+Param!$G$15,0)+Param!$H$8)+SIN(U$2*$E9-0.5+Param!$H$9))*100000,1),2)>PWallY, $G9*(U$2-Param!$G$16*$E9), "NoWall"), S9) -> 6.0058129 | V9: =IF(T9="NoWall", IF(TRUNC(MOD((COS(V$2*$D9-0.5+Param!$H$8)+SIN(ROUND($H9*(V$2*$D9-Param!$G$15)+Param!$G$16,0)+Param!$H$9))*1000,1),2)>PwallX, $F9*(V$2-Param!$G$15*$D9), "NoWall"), T9) -> 2.2630452 | W9: =IF(U9="NoWall", IF(TRUNC(MOD((COS(ROUND($I9*(W$2*$E9-Param!$G$16)+Param!$G$15,0)+Param!$H$8)+SIN(W$2*$E9-0.5+Param!$H$9))*100000,1),2)>PWallY, $G9*(W$2-Param!$G$16*$E9), "NoWall"), U9) -> 6.0058129 | X9: =IF(V9="NoWall", IF(TRUNC(MOD((COS(X$2*$D9-0.5+Param!$H$8)+SIN(ROUND($H9*(X$2*$D9-Param!$G$15)+Param!$G$16,0)+Param!$H$9))*1000,1),2)>PwallX, $F9*(X$2-Param!$G$15*$D9), "NoWall"), V9) -> 2.2630452 | Y9: =IF(W9="NoWall", IF(TRUNC(MOD((COS(ROUND($I9*(Y$2*$E9-Param!$G$16)+Param!$G$15,0)+Param!$H$8)+SIN(Y$2*$E9-0.5+Param!$H$9))*100000,1),2)>PWallY, $G9*(Y$2-Param!$G$16*$E9), "NoWall"), W9) -> 6.0058129 | Z9: =IF(X9="NoWall", IF(TRUNC(MOD((COS(Z$2*$D9-0.5+Param!$H$8)+SIN(ROUND($H9*(Z$2*$D9-Param!$G$15)+Param!$G$16,0)+Param!$H$9))*1000,1),2)>PwallX, $F9*(Z$2-Param!$G$15*$D9), "NoWall"), X9) -> 2.2630452 | AA9: =IF(Y9="NoWall", IF(TRUNC(MOD((COS(ROUND($I9*(AA$2*$E9-Param!$G$16)+Param!$G$15,0)+Param!$H$8)+SIN(AA$2*$E9-0.5+Param!$H$9))*100000,1),2)>PWallY, $G9*(AA$2-Param!$G$16*$E9), "NoWall"), Y9) -> 6.0058129 | AB9: =MIN(IF(Z9="NoWall",10000,Z9),IF(AA9="NoWall",10000,AA9)) -> 2.2630452 | AC9: =AB9*COS(B9-Param!$D$14) -> 1.9405453 | AD9: =IF(Z9=AB9,MIN(ABS(COS($B9)),0.9999),IF(AA9=AB9,MIN(ABS(SIN($B9)),0.9999),0)) -> 0.82868368 | AE9: =MIN(AC9,Ghosts!P47) -> 1.9405453
A10: =A9-1 -> 44 | B10: =MOD(ATAN(A10/Param!$B$29*2)+Param!$D$14,2*PI()) -> 2.5376865 | C10: =B10*180/PI() -> 145.39873 | D10: =(($B10*2<=PI())+($B10*2>=PI()*3))*2-1 -> -1 | E10: =($B10<=PI())*2-1 -> 1 | F10: =1/MAX(ABS(COS(B10)),0.0001) -> 1.2148841 | G10: =1/MAX(ABS(SIN($B10)),0.0001) -> 1.7609912 | H10: =F10/G10*D10*E10 -> -0.68988657 | I10: =1/H10 -> -1.4495137 | J10: =IF(TRUNC(MOD((COS(J$2*$D10-0.5+Param!$H$8)+SIN(ROUND($H10*(J$2*$D10-Param!$G$15)+Param!$G$16,0)+Param!$H$9))*1000,1),2)>PwallX, $F10*(J$2-Param!$G$15*$D10), "NoWall") -> NoWall | K10: =IF(TRUNC(MOD((COS(ROUND($I10*(K$2*$E10-Param!$G$16)+Param!$G$15,0)+Param!$H$8)+SIN(K$2*$E10-0.5+Param!$H$9))*100000,1),2)>PWallY, $G10*(K$2-Param!$G$16*$E10), "NoWall") -> NoWall | L10: =IF(J10="NoWall", IF(TRUNC(MOD((COS(L$2*$D10-0.5+Param!$H$8)+SIN(ROUND($H10*(L$2*$D10-Param!$G$15)+Param!$G$16,0)+Param!$H$9))*1000,1),2)>PwallX, $F10*(L$2-Param!$G$15*$D10), "NoWall"), J10) -> 2.2783313 | M10: =IF(K10="NoWall", IF(TRUNC(MOD((COS(ROUND($I10*(M$2*$E10-Param!$G$16)+Param!$G$15,0)+Param!$H$8)+SIN(M$2*$E10-0.5+Param!$H$9))*100000,1),2)>PWallY, $G10*(M$2-Param!$G$16*$E10), "NoWall"), K10) -> NoWall | N10: =IF(L10="NoWall", IF(TRUNC(MOD((COS(N$2*$D10-0.5+Param!$H$8)+SIN(ROUND($H10*(N$2*$D10-Param!$G$15)+Param!$G$16,0)+Param!$H$9))*1000,1),2)>PwallX, $F10*(N$2-Param!$G$15*$D10), "NoWall"), L10) -> 2.2783313 | O10: =IF(M10="NoWall", IF(TRUNC(MOD((COS(ROUND($I10*(O$2*$E10-Param!$G$16)+Param!$G$15,0)+Param!$H$8)+SIN(O$2*$E10-0.5+Param!$H$9))*100000,1),2)>PWallY, $G10*(O$2-Param!$G$16*$E10), "NoWall"), M10) -> NoWall | P10: =IF(N10="NoWall", IF(TRUNC(MOD((COS(P$2*$D10-0.5+Param!$H$8)+SIN(ROUND($H10*(P$2*$D10-Param!$G$15)+Param!$G$16,0)+Param!$H$9))*1000,1),2)>PwallX, $F10*(P$2-Param!$G$15*$D10), "NoWall"), N10) -> 2.2783313 | Q10: =IF(O10="NoWall", IF(TRUNC(MOD((COS(ROUND($I10*(Q$2*$E10-Param!$G$16)+Param!$G$15,0)+Param!$H$8)+SIN(Q$2*$E10-0.5+Param!$H$9))*100000,1),2)>PWallY, $G10*(Q$2-Param!$G$16*$E10), "NoWall"), O10) -> NoWall | R10: =IF(P10="NoWall", IF(TRUNC(MOD((COS(R$2*$D10-0.5+Param!$H$8)+SIN(ROUND($H10*(R$2*$D10-Param!$G$15)+Param!$G$16,0)+Param!$H$9))*1000,1),2)>PwallX, $F10*(R$2-Param!$G$15*$D10), "NoWall"), P10) -> 2.2783313 | S10: =IF(Q10="NoWall", IF(TRUNC(MOD((COS(ROUND($I10*(S$2*$E10-Param!$G$16)+Param!$G$15,0)+Param!$H$8)+SIN(S$2*$E10-0.5+Param!$H$9))*100000,1),2)>PWallY, $G10*(S$2-Param!$G$16*$E10), "NoWall"), Q10) -> NoWall | T10: =IF(R10="NoWall", IF(TRUNC(MOD((COS(T$2*$D10-0.5+Param!$H$8)+SIN(ROUND($H10*(T$2*$D10-Param!$G$15)+Param!$G$16,0)+Param!$H$9))*1000,1),2)>PwallX, $F10*(T$2-Param!$G$15*$D10), "NoWall"), R10) -> 2.2783313 | U10: =IF(S10="NoWall", IF(TRUNC(MOD((COS(ROUND($I10*(U$2*$E10-Param!$G$16)+Param!$G$15,0)+Param!$H$8)+SIN(U$2*$E10-0.5+Param!$H$9))*100000,1),2)>PWallY, $G10*(U$2-Param!$G$16*$E10), "NoWall"), S10) -> 9.4416543 | V10: =IF(T10="NoWall", IF(TRUNC(MOD((COS(V$2*$D10-0.5+Param!$H$8)+SIN(ROUND($H10*(V$2*$D10-Param!$G$15)+Param!$G$16,0)+Param!$H$9))*1000,1),2)>PwallX, $F10*(V$2-Param!$G$15*$D10), "NoWall"), T10) -> 2.2783313 | W10: =IF(U10="NoWall", IF(TRUNC(MOD((COS(ROUND($I10*(W$2*$E10-Param!$G$16)+Param!$G$15,0)+Param!$H$8)+SIN(W$2*$E10-0.5+Param!$H$9))*100000,1),2)>PWallY, $G10*(W$2-Param!$G$16*$E10), "NoWall"), U10) -> 9.4416543 | X10: =IF(V10="NoWall", IF(TRUNC(MOD((COS(X$2*$D10-0.5+Param!$H$8)+SIN(ROUND($H10*(X$2*$D10-Param!$G$15)+Param!$G$16,0)+Param!$H$9))*1000,1),2)>PwallX, $F10*(X$2-Param!$G$15*$D10), "NoWall"), V10) -> 2.2783313 | Y10: =IF(W10="NoWall", IF(TRUNC(MOD((COS(ROUND($I10*(Y$2*$E10-Param!$G$16)+Param!$G$15,0)+Param!$H$8)+SIN(Y$2*$E10-0.5+Param!$H$9))*100000,1),2)>PWallY, $G10*(Y$2-Param!$G$16*$E10), "NoWall"), W10) -> 9.4416543 | Z10: =IF(X10="NoWall", IF(TRUNC(MOD((COS(Z$2*$D10-0.5+Param!$H$8)+SIN(ROUND($H10*(Z$2*$D10-Param!$G$15)+Param!$G$16,0)+Param!$H$9))*1000,1),2)>PwallX, $F10*(Z$2-Param!$G$15*$D10), "NoWall"), X10) -> 2.2783313 | AA10: =IF(Y10="NoWall", IF(TRUNC(MOD((COS(ROUND($I10*(AA$2*$E10-Param!$G$16)+Param!$G$15,0)+Param!$H$8)+SIN(AA$2*$E10-0.5+Param!$H$9))*100000,1),2)>PWallY, $G10*(AA$2-Param!$G$16*$E10), "NoWall"), Y10) -> 9.4416543 | AB10: =MIN(IF(Z10="NoWall",10000,Z10),IF(AA10="NoWall",10000,AA10)) -> 2.2783313 | AC10: =AB10*COS(B10-Param!$D$14) -> 1.9651175 | AD10: =IF(Z10=AB10,MIN(ABS(COS($B10)),0.9999),IF(AA10=AB10,MIN(ABS(SIN($B10)),0.9999),0)) -> 0.82312376 | AE10: =MIN(AC10,Ghosts!P48) -> 1.9651175
A11: =A10-1 -> 43 | B11: =MOD(ATAN(A11/Param!$B$29*2)+Param!$D$14,2*PI()) -> 2.5277095 | C11: =B11*180/PI() -> 144.82708 | D11: =(($B11*2<=PI())+($B11*2>=PI()*3))*2-1 -> -1 | E11: =($B11<=PI())*2-1 -> 1 | F11: =1/MAX(ABS(COS(B11)),0.0001) -> 1.2233654 | G11: =1/MAX(ABS(SIN($B11)),0.0001) -> 1.7359726 | H11: =F11/G11*D11*E11 -> -0.70471469 | I11: =1/H11 -> -1.419014 | J11: =IF(TRUNC(MOD((COS(J$2*$D11-0.5+Param!$H$8)+SIN(ROUND($H11*(J$2*$D11-Param!$G$15)+Param!$G$16,0)+Param!$H$9))*1000,1),2)>PwallX, $F11*(J$2-Param!$G$15*$D11), "NoWall") -> NoWall | K11: =IF(TRUNC(MOD((COS(ROUND($I11*(K$2*$E11-Param!$G$16)+Param!$G$15,0)+Param!$H$8)+SIN(K$2*$E11-0.5+Param!$H$9))*100000,1),2)>PWallY, $G11*(K$2-Param!$G$16*$E11), "NoWall") -> NoWall | L11: =IF(J11="NoWall", IF(TRUNC(MOD((COS(L$2*$D11-0.5+Param!$H$8)+SIN(ROUND($H11*(L$2*$D11-Param!$G$15)+Param!$G$16,0)+Param!$H$9))*1000,1),2)>PwallX, $F11*(L$2-Param!$G$15*$D11), "NoWall"), J11) -> 2.2942365 | M11: =IF(K11="NoWall", IF(TRUNC(MOD((COS(ROUND($I11*(M$2*$E11-Param!$G$16)+Param!$G$15,0)+Param!$H$8)+SIN(M$2*$E11-0.5+Param!$H$9))*100000,1),2)>PWallY, $G11*(M$2-Param!$G$16*$E11), "NoWall"), K11) -> NoWall | N11: =IF(L11="NoWall", IF(TRUNC(MOD((COS(N$2*$D11-0.5+Param!$H$8)+SIN(ROUND($H11*(N$2*$D11-Param!$G$15)+Param!$G$16,0)+Param!$H$9))*1000,1),2)>PwallX, $F11*(N$2-Param!$G$15*$D11), "NoWall"), L11) -> 2.2942365 | O11: =IF(M11="NoWall", IF(TRUNC(MOD((COS(ROUND($I11*(O$2*$E11-Param!$G$16)+Param!$G$15,0)+Param!$H$8)+SIN(O$2*$E11-0.5+Param!$H$9))*100000,1),2)>PWallY, $G11*(O$2-Param!$G$16*$E11), "NoWall"), M11) -> NoWall | P11: =IF(N11="NoWall", IF(TRUNC(MOD((COS(P$2*$D11-0.5+Param!$H$8)+SIN(ROUND($H11*(P$2*$D11-Param!$G$15)+Param!$G$16,0)+Param!$H$9))*1000,1),2)>PwallX, $F11*(P$2-Param!$G$15*$D11), "NoWall"), N11) -> 2.2942365 | Q11: =IF(O11="NoWall", IF(TRUNC(MOD((COS(ROUND($I11*(Q$2*$E11-Param!$G$16)+Param!$G$15,0)+Param!$H$8)+SIN(Q$2*$E11-0.5+Param!$H$9))*100000,1),2)>PWallY, $G11*(Q$2-Param!$G$16*$E11), "NoWall"), O11) -> NoWall | R11: =IF(P11="NoWall", IF(TRUNC(MOD((COS(R$2*$D11-0.5+Param!$H$8)+SIN(ROUND($H11*(R$2*$D11-Param!$G$15)+Param!$G$16,0)+Param!$H$9))*1000,1),2)>PwallX, $F11*(R$2-Param!$G$15*$D11), "NoWall"), P11) -> 2.2942365 | S11: =IF(Q11="NoWall", IF(TRUNC(MOD((COS(ROUND($I11*(S$2*$E11-Param!$G$16)+Param!$G$15,0)+Param!$H$8)+SIN(S$2*$E11-0.5+Param!$H$9))*100000,1),2)>PWallY, $G11*(S$2-Param!$G$16*$E11), "NoWall"), Q11) -> NoWall | T11: =IF(R11="NoWall", IF(TRUNC(MOD((COS(T$2*$D11-0.5+Param!$H$8)+SIN(ROUND($H11*(T$2*$D11-Param!$G$15)+Param!$G$16,0)+Param!$H$9))*1000,1),2)>PwallX, $F11*(T$2-Param!$G$15*$D11), "NoWall"), R11) -> 2.2942365 | U11: =IF(S11="NoWall", IF(TRUNC(MOD((COS(ROUND($I11*(U$2*$E11-Param!$G$16)+Param!$G$15,0)+Param!$H$8)+SIN(U$2*$E11-0.5+Param!$H$9))*100000,1),2)>PWallY, $G11*(U$2-Param!$G$16*$E11), "NoWall"), S11) -> 9.3075156 | V11: =IF(T11="NoWall", IF(TRUNC(MOD((COS(V$2*$D11-0.5+Param!$H$8)+SIN(ROUND($H11*(V$2*$D11-Param!$G$15)+Param!$G$16,0)+Param!$H$9))*1000,1),2)>PwallX, $F11*(V$2-Param!$G$15*$D11), "NoWall"), T11) -> 2.2942365 | W11: =IF(U11="NoWall", IF(TRUNC(MOD((COS(ROUND($I11*(W$2*$E11-Param!$G$16)+Param!$G$15,0)+Param!$H$8)+SIN(W$2*$E11-0.5+Param!$H$9))*100000,1),2)>PWallY, $G11*(W$2-Param!$G$16*$E11), "NoWall"), U11) -> 9.3075156 | X11: =IF(V11="NoWall", IF(TRUNC(MOD((COS(X$2*$D11-0.5+Param!$H$8)+SIN(ROUND($H11*(X$2*$D11-Param!$G$15)+Param!$G$16,0)+Param!$H$9))*1000,1),2)>PwallX, $F11*(X$2-Param!$G$15*$D11), "NoWall"), V11) -> 2.2942365 | Y11: =IF(W11="NoWall", IF(TRUNC(MOD((COS(ROUND($I11*(Y$2*$E11-Param!$G$16)+Param!$G$15,0)+Param!$H$8)+SIN(Y$2*$E11-0.5+Param!$H$9))*100000,1),2)>PWallY, $G11*(Y$2-Param!$G$16*$E11), "NoWall"), W11) -> 9.3075156 | Z11: =IF(X11="NoWall", IF(TRUNC(MOD((COS(Z$2*$D11-0.5+Param!$H$8)+SIN(ROUND($H11*(Z$2*$D11-Param!$G$15)+Param!$G$16,0)+Param!$H$9))*1000,1),2)>PwallX, $F11*(Z$2-Param!$G$15*$D11), "NoWall"), X11) -> 2.2942365 | AA11: =IF(Y11="NoWall", IF(TRUNC(MOD((COS(ROUND($I11*(AA$2*$E11-Param!$G$16)+Param!$G$15,0)+Param!$H$8)+SIN(AA$2*$E11-0.5+Param!$H$9))*100000,1),2)>PWallY, $G11*(AA$2-Param!$G$16*$E11), "NoWall"), Y11) -> 9.3075156 | AB11: =MIN(IF(Z11="NoWall",10000,Z11),IF(AA11="NoWall",10000,AA11)) -> 2.2942365 | AC11: =AB11*COS(B11-Param!$D$14) -> 1.99032 | AD11: =IF(Z11=AB11,MIN(ABS(COS($B11)),0.9999),IF(AA11=AB11,MIN(ABS(SIN($B11)),0.9999),0)) -> 0.8174173 | AE11: =MIN(AC11,Ghosts!P49) -> 1.99032
A12: =A11-1 -> 42 | B12: =MOD(ATAN(A12/Param!$B$29*2)+Param!$D$14,2*PI()) -> 2.517617 | C12: =B12*180/PI() -> 144.24883 | D12: =(($B12*2<=PI())+($B12*2>=PI()*3))*2-1 -> -1 | E12: =($B12<=PI())*2-1 -> 1 | F12: =1/MAX(ABS(COS(B12)),0.0001) -> 1.2321917 | G12: =1/MAX(ABS(SIN($B12)),0.0001) -> 1.7115483 | H12: =F12/G12*D12*E12 -> -0.71992809 | I12: =1/H12 -> -1.3890276 | J12: =IF(TRUNC(MOD((COS(J$2*$D12-0.5+Param!$H$8)+SIN(ROUND($H12*(J$2*$D12-Param!$G$15)+Param!$G$16,0)+Param!$H$9))*1000,1),2)>PwallX, $F12*(J$2-Param!$G$15*$D12), "NoWall") -> NoWall | K12: =IF(TRUNC(MOD((COS(ROUND($I12*(K$2*$E12-Param!$G$16)+Param!$G$15,0)+Param!$H$8)+SIN(K$2*$E12-0.5+Param!$H$9))*100000,1),2)>PWallY, $G12*(K$2-Param!$G$16*$E12), "NoWall") -> NoWall | L12: =IF(J12="NoWall", IF(TRUNC(MOD((COS(L$2*$D12-0.5+Param!$H$8)+SIN(ROUND($H12*(L$2*$D12-Param!$G$15)+Param!$G$16,0)+Param!$H$9))*1000,1),2)>PwallX, $F12*(L$2-Param!$G$15*$D12), "NoWall"), J12) -> 2.3107891 | M12: =IF(K12="NoWall", IF(TRUNC(MOD((COS(ROUND($I12*(M$2*$E12-Param!$G$16)+Param!$G$15,0)+Param!$H$8)+SIN(M$2*$E12-0.5+Param!$H$9))*100000,1),2)>PWallY, $G12*(M$2-Param!$G$16*$E12), "NoWall"), K12) -> NoWall | N12: =IF(L12="NoWall", IF(TRUNC(MOD((COS(N$2*$D12-0.5+Param!$H$8)+SIN(ROUND($H12*(N$2*$D12-Param!$G$15)+Param!$G$16,0)+Param!$H$9))*1000,1),2)>PwallX, $F12*(N$2-Param!$G$15*$D12), "NoWall"), L12) -> 2.3107891 | O12: =IF(M12="NoWall", IF(TRUNC(MOD((COS(ROUND($I12*(O$2*$E12-Param!$G$16)+Param!$G$15,0)+Param!$H$8)+SIN(O$2*$E12-0.5+Param!$H$9))*100000,1),2)>PWallY, $G12*(O$2-Param!$G$16*$E12), "NoWall"), M12) -> NoWall | P12: =IF(N12="NoWall", IF(TRUNC(MOD((COS(P$2*$D12-0.5+Param!$H$8)+SIN(ROUND($H12*(P$2*$D12-Param!$G$15)+Param!$G$16,0)+Param!$H$9))*1000,1),2)>PwallX, $F12*(P$2-Param!$G$15*$D12), "NoWall"), N12) -> 2.3107891 | Q12: =IF(O12="NoWall", IF(TRUNC(MOD((COS(ROUND($I12*(Q$2*$E12-Param!$G$16)+Param!$G$15,0)+Param!$H$8)+SIN(Q$2*$E12-0.5+Param!$H$9))*100000,1),2)>PWallY, $G12*(Q$2-Param!$G$16*$E12), "NoWall"), O12) -> NoWall | R12: =IF(P12="NoWall", IF(TRUNC(MOD((COS(R$2*$D12-0.5+Param!$H$8)+SIN(ROUND($H12*(R$2*$D12-Param!$G$15)+Param!$G$16,0)+Param!$H$9))*1000,1),2)>PwallX, $F12*(R$2-Param!$G$15*$D12), "NoWall"), P12) -> 2.3107891 | S12: =IF(Q12="NoWall", IF(TRUNC(MOD((COS(ROUND($I12*(S$2*$E12-Param!$G$16)+Param!$G$15,0)+Param!$H$8)+SIN(S$2*$E12-0.5+Param!$H$9))*100000,1),2)>PWallY, $G12*(S$2-Param!$G$16*$E12), "NoWall"), Q12) -> NoWall | T12: =IF(R12="NoWall", IF(TRUNC(MOD((COS(T$2*$D12-0.5+Param!$H$8)+SIN(ROUND($H12*(T$2*$D12-Param!$G$15)+Param!$G$16,0)+Param!$H$9))*1000,1),2)>PwallX, $F12*(T$2-Param!$G$15*$D12), "NoWall"), R12) -> 2.3107891 | U12: =IF(S12="NoWall", IF(TRUNC(MOD((COS(ROUND($I12*(U$2*$E12-Param!$G$16)+Param!$G$15,0)+Param!$H$8)+SIN(U$2*$E12-0.5+Param!$H$9))*100000,1),2)>PWallY, $G12*(U$2-Param!$G$16*$E12), "NoWall"), S12) -> 9.1765638 | V12: =IF(T12="NoWall", IF(TRUNC(MOD((COS(V$2*$D12-0.5+Param!$H$8)+SIN(ROUND($H12*(V$2*$D12-Param!$G$15)+Param!$G$16,0)+Param!$H$9))*1000,1),2)>PwallX, $F12*(V$2-Param!$G$15*$D12), "NoWall"), T12) -> 2.3107891 | W12: =IF(U12="NoWall", IF(TRUNC(MOD((COS(ROUND($I12*(W$2*$E12-Param!$G$16)+Param!$G$15,0)+Param!$H$8)+SIN(W$2*$E12-0.5+Param!$H$9))*100000,1),2)>PWallY, $G12*(W$2-Param!$G$16*$E12), "NoWall"), U12) -> 9.1765638 | X12: =IF(V12="NoWall", IF(TRUNC(MOD((COS(X$2*$D12-0.5+Param!$H$8)+SIN(ROUND($H12*(X$2*$D12-Param!$G$15)+Param!$G$16,0)+Param!$H$9))*1000,1),2)>PwallX, $F12*(X$2-Param!$G$15*$D12), "NoWall"), V12) -> 2.3107891 | Y12: =IF(W12="NoWall", IF(TRUNC(MOD((COS(ROUND($I12*(Y$2*$E12-Param!$G$16)+Param!$G$15,0)+Param!$H$8)+SIN(Y$2*$E12-0.5+Param!$H$9))*100000,1),2)>PWallY, $G12*(Y$2-Param!$G$16*$E12), "NoWall"), W12) -> 9.1765638 | Z12: =IF(X12="NoWall", IF(TRUNC(MOD((COS(Z$2*$D12-0.5+Param!$H$8)+SIN(ROUND($H12*(Z$2*$D12-Param!$G$15)+Param!$G$16,0)+Param!$H$9))*1000,1),2)>PwallX, $F12*(Z$2-Param!$G$15*$D12), "NoWall"), X12) -> 2.3107891 | AA12: =IF(Y12="NoWall", IF(TRUNC(MOD((COS(ROUND($I12*(AA$2*$E12-Param!$G$16)+Param!$G$15,0)+Param!$H$8)+SIN(AA$2*$E12-0.5+Param!$H$9))*100000,1),2)>PWallY, $G12*(AA$2-Param!$G$16*$E12), "NoWall"), Y12) -> 9.1765638 | AB12: =MIN(IF(Z12="NoWall",10000,Z12),IF(AA12="NoWall",10000,AA12)) -> 2.3107891 | AC12: =AB12*COS(B12-Param!$D$14) -> 2.0161774 | AD12: =IF(Z12=AB12,MIN(ABS(COS($B12)),0.9999),IF(AA12=AB12,MIN(ABS(SIN($B12)),0.9999),0)) -> 0.81156201 | AE12: =MIN(AC12,Ghosts!P50) -> 2.0161774
A13: =A12-1 -> 41 | B13: =MOD(ATAN(A13/Param!$B$29*2)+Param!$D$14,2*PI()) -> 2.5074091 | C13: =B13*180/PI() -> 143.66396 | D13: =(($B13*2<=PI())+($B13*2>=PI()*3))*2-1 -> -1 | E13: =($B13<=PI())*2-1 -> 1 | F13: =1/MAX(ABS(COS(B13)),0.0001) -> 1.2413791 | G13: =1/MAX(ABS(SIN($B13)),0.0001) -> 1.6877066 | H13: =F13/G13*D13*E13 -> -0.73554199 | I13: =1/H13 -> -1.3595417 | J13: =IF(TRUNC(MOD((COS(J$2*$D13-0.5+Param!$H$8)+SIN(ROUND($H13*(J$2*$D13-Param!$G$15)+Param!$G$16,0)+Param!$H$9))*1000,1),2)>PwallX, $F13*(J$2-Param!$G$15*$D13), "NoWall") -> NoWall | K13: =IF(TRUNC(MOD((COS(ROUND($I13*(K$2*$E13-Param!$G$16)+Param!$G$15,0)+Param!$H$8)+SIN(K$2*$E13-0.5+Param!$H$9))*100000,1),2)>PWallY, $G13*(K$2-Param!$G$16*$E13), "NoWall") -> NoWall | L13: =IF(J13="NoWall", IF(TRUNC(MOD((COS(L$2*$D13-0.5+Param!$H$8)+SIN(ROUND($H13*(L$2*$D13-Param!$G$15)+Param!$G$16,0)+Param!$H$9))*1000,1),2)>PwallX, $F13*(L$2-Param!$G$15*$D13), "NoWall"), J13) -> NoWall | M13: =IF(K13="NoWall", IF(TRUNC(MOD((COS(ROUND($I13*(M$2*$E13-Param!$G$16)+Param!$G$15,0)+Param!$H$8)+SIN(M$2*$E13-0.5+Param!$H$9))*100000,1),2)>PWallY, $G13*(M$2-Param!$G$16*$E13), "NoWall"), K13) -> NoWall | N13: =IF(L13="NoWall", IF(TRUNC(MOD((COS(N$2*$D13-0.5+Param!$H$8)+SIN(ROUND($H13*(N$2*$D13-Param!$G$15)+Param!$G$16,0)+Param!$H$9))*1000,1),2)>PwallX, $F13*(N$2-Param!$G$15*$D13), "NoWall"), L13) -> 3.5693976 | O13: =IF(M13="NoWall", IF(TRUNC(MOD((COS(ROUND($I13*(O$2*$E13-Param!$G$16)+Param!$G$15,0)+Param!$H$8)+SIN(O$2*$E13-0.5+Param!$H$9))*100000,1),2)>PWallY, $G13*(O$2-Param!$G$16*$E13), "NoWall"), M13) -> NoWall | P13: =IF(N13="NoWall", IF(TRUNC(MOD((COS(P$2*$D13-0.5+Param!$H$8)+SIN(ROUND($H13*(P$2*$D13-Param!$G$15)+Param!$G$16,0)+Param!$H$9))*1000,1),2)>PwallX, $F13*(P$2-Param!$G$15*$D13), "NoWall"), N13) -> 3.5693976 | Q13: =IF(O13="NoWall", IF(TRUNC(MOD((COS(ROUND($I13*(Q$2*$E13-Param!$G$16)+Param!$G$15,0)+Param!$H$8)+SIN(Q$2*$E13-0.5+Param!$H$9))*100000,1),2)>PWallY, $G13*(Q$2-Param!$G$16*$E13), "NoWall"), O13) -> NoWall | R13: =IF(P13="NoWall", IF(TRUNC(MOD((COS(R$2*$D13-0.5+Param!$H$8)+SIN(ROUND($H13*(R$2*$D13-Param!$G$15)+Param!$G$16,0)+Param!$H$9))*1000,1),2)>PwallX, $F13*(R$2-Param!$G$15*$D13), "NoWall"), P13) -> 3.5693976 | S13: =IF(Q13="NoWall", IF(TRUNC(MOD((COS(ROUND($I13*(S$2*$E13-Param!$G$16)+Param!$G$15,0)+Param!$H$8)+SIN(S$2*$E13-0.5+Param!$H$9))*100000,1),2)>PWallY, $G13*(S$2-Param!$G$16*$E13), "NoWall"), Q13) -> NoWall | T13: =IF(R13="NoWall", IF(TRUNC(MOD((COS(T$2*$D13-0.5+Param!$H$8)+SIN(ROUND($H13*(T$2*$D13-Param!$G$15)+Param!$G$16,0)+Param!$H$9))*1000,1),2)>PwallX, $F13*(T$2-Param!$G$15*$D13), "NoWall"), R13) -> 3.5693976 | U13: =IF(S13="NoWall", IF(TRUNC(MOD((COS(ROUND($I13*(U$2*$E13-Param!$G$16)+Param!$G$15,0)+Param!$H$8)+SIN(U$2*$E13-0.5+Param!$H$9))*100000,1),2)>PWallY, $G13*(U$2-Param!$G$16*$E13), "NoWall"), S13) -> 9.048735 | V13: =IF(T13="NoWall", IF(TRUNC(MOD((COS(V$2*$D13-0.5+Param!$H$8)+SIN(ROUND($H13*(V$2*$D13-Param!$G$15)+Param!$G$16,0)+Param!$H$9))*1000,1),2)>PwallX, $F13*(V$2-Param!$G$15*$D13), "NoWall"), T13) -> 3.5693976 | W13: =IF(U13="NoWall", IF(TRUNC(MOD((COS(ROUND($I13*(W$2*$E13-Param!$G$16)+Param!$G$15,0)+Param!$H$8)+SIN(W$2*$E13-0.5+Param!$H$9))*100000,1),2)>PWallY, $G13*(W$2-Param!$G$16*$E13), "NoWall"), U13) -> 9.048735 | X13: =IF(V13="NoWall", IF(TRUNC(MOD((COS(X$2*$D13-0.5+Param!$H$8)+SIN(ROUND($H13*(X$2*$D13-Param!$G$15)+Param!$G$16,0)+Param!$H$9))*1000,1),2)>PwallX, $F13*(X$2-Param!$G$15*$D13), "NoWall"), V13) -> 3.5693976 | Y13: =IF(W13="NoWall", IF(TRUNC(MOD((COS(ROUND($I13*(Y$2*$E13-Param!$G$16)+Param!$G$15,0)+Param!$H$8)+SIN(Y$2*$E13-0.5+Param!$H$9))*100000,1),2)>PWallY, $G13*(Y$2-Param!$G$16*$E13), "NoWall"), W13) -> 9.048735 | Z13: =IF(X13="NoWall", IF(TRUNC(MOD((COS(Z$2*$D13-0.5+Param!$H$8)+SIN(ROUND($H13*(Z$2*$D13-Param!$G$15)+Param!$G$16,0)+Param!$H$9))*1000,1),2)>PwallX, $F13*(Z$2-Param!$G$15*$D13), "NoWall"), X13) -> 3.5693976 | AA13: =IF(Y13="NoWall", IF(TRUNC(MOD((COS(ROUND($I13*(AA$2*$E13-Param!$G$16)+Param!$G$15,0)+Param!$H$8)+SIN(AA$2*$E13-0.5+Param!$H$9))*100000,1),2)>PWallY, $G13*(AA$2-Param!$G$16*$E13), "NoWall"), Y13) -> 9.048735 | AB13: =MIN(IF(Z13="NoWall",10000,Z13),IF(AA13="NoWall",10000,AA13)) -> 3.5693976 | AC13: =AB13*COS(B13-Param!$D$14) -> 3.1319611 | AD13: =IF(Z13=AB13,MIN(ABS(COS($B13)),0.9999),IF(AA13=AB13,MIN(ABS(SIN($B13)),0.9999),0)) -> 0.80555571 | AE13: =MIN(AC13,Ghosts!P51) -> 3.1319611
A14: =A13-1 -> 40 | B14: =MOD(ATAN(A14/Param!$B$29*2)+Param!$D$14,2*PI()) -> 2.497086 | C14: =B14*180/PI() -> 143.07249 | D14: =(($B14*2<=PI())+($B14*2>=PI()*3))*2-1 -> -1 | E14: =($B14<=PI())*2-1 -> 1 | F14: =1/MAX(ABS(COS(B14)),0.0001) -> 1.2509441 | G14: =1/MAX(ABS(SIN($B14)),0.0001) -> 1.6644359 | H14: =F14/G14*D14*E14 -> -0.7515724 | I14: =1/H14 -> -1.3305438 | J14: =IF(TRUNC(MOD((COS(J$2*$D14-0.5+Param!$H$8)+SIN(ROUND($H14*(J$2*$D14-Param!$G$15)+Param!$G$16,0)+Param!$H$9))*1000,1),2)>PwallX, $F14*(J$2-Param!$G$15*$D14), "NoWall") -> NoWall | K14: =IF(TRUNC(MOD((COS(ROUND($I14*(K$2*$E14-Param!$G$16)+Param!$G$15,0)+Param!$H$8)+SIN(K$2*$E14-0.5+Param!$H$9))*100000,1),2)>PWallY, $G14*(K$2-Param!$G$16*$E14), "NoWall") -> NoWall | L14: =IF(J14="NoWall", IF(TRUNC(MOD((COS(L$2*$D14-0.5+Param!$H$8)+SIN(ROUND($H14*(L$2*$D14-Param!$G$15)+Param!$G$16,0)+Param!$H$9))*1000,1),2)>PwallX, $F14*(L$2-Param!$G$15*$D14), "NoWall"), J14) -> NoWall | M14: =IF(K14="NoWall", IF(TRUNC(MOD((COS(ROUND($I14*(M$2*$E14-Param!$G$16)+Param!$G$15,0)+Param!$H$8)+SIN(M$2*$E14-0.5+Param!$H$9))*100000,1),2)>PWallY, $G14*(M$2-Param!$G$16*$E14), "NoWall"), K14) -> NoWall | N14: =IF(L14="NoWall", IF(TRUNC(MOD((COS(N$2*$D14-0.5+Param!$H$8)+SIN(ROUND($H14*(N$2*$D14-Param!$G$15)+Param!$G$16,0)+Param!$H$9))*1000,1),2)>PwallX, $F14*(N$2-Param!$G$15*$D14), "NoWall"), L14) -> 3.5969003 | O14: =IF(M14="NoWall", IF(TRUNC(MOD((COS(ROUND($I14*(O$2*$E14-Param!$G$16)+Param!$G$15,0)+Param!$H$8)+SIN(O$2*$E14-0.5+Param!$H$9))*100000,1),2)>PWallY, $G14*(O$2-Param!$G$16*$E14), "NoWall"), M14) -> NoWall | P14: =IF(N14="NoWall", IF(TRUNC(MOD((COS(P$2*$D14-0.5+Param!$H$8)+SIN(ROUND($H14*(P$2*$D14-Param!$G$15)+Param!$G$16,0)+Param!$H$9))*1000,1),2)>PwallX, $F14*(P$2-Param!$G$15*$D14), "NoWall"), N14) -> 3.5969003 | Q14: =IF(O14="NoWall", IF(TRUNC(MOD((COS(ROUND($I14*(Q$2*$E14-Param!$G$16)+Param!$G$15,0)+Param!$H$8)+SIN(Q$2*$E14-0.5+Param!$H$9))*100000,1),2)>PWallY, $G14*(Q$2-Param!$G$16*$E14), "NoWall"), O14) -> NoWall | R14: =IF(P14="NoWall", IF(TRUNC(MOD((COS(R$2*$D14-0.5+Param!$H$8)+SIN(ROUND($H14*(R$2*$D14-Param!$G$15)+Param!$G$16,0)+Param!$H$9))*1000,1),2)>PwallX, $F14*(R$2-Param!$G$15*$D14), "NoWall"), P14) -> 3.5969003 | S14: =IF(Q14="NoWall", IF(TRUNC(MOD((COS(ROUND($I14*(S$2*$E14-Param!$G$16)+Param!$G$15,0)+Param!$H$8)+SIN(S$2*$E14-0.5+Param!$H$9))*100000,1),2)>PWallY, $G14*(S$2-Param!$G$16*$E14), "NoWall"), Q14) -> 7.2595318 | T14: =IF(R14="NoWall", IF(TRUNC(MOD((COS(T$2*$D14-0.5+Param!$H$8)+SIN(ROUND($H14*(T$2*$D14-Param!$G$15)+Param!$G$16,0)+Param!$H$9))*1000,1),2)>PwallX, $F14*(T$2-Param!$G$15*$D14), "NoWall"), R14) -> 3.5969003 | U14: =IF(S14="NoWall", IF(TRUNC(MOD((COS(ROUND($I14*(U$2*$E14-Param!$G$16)+Param!$G$15,0)+Param!$H$8)+SIN(U$2*$E14-0.5+Param!$H$9))*100000,1),2)>PWallY, $G14*(U$2-Param!$G$16*$E14), "NoWall"), S14) -> 7.2595318 | V14: =IF(T14="NoWall", IF(TRUNC(MOD((COS(V$2*$D14-0.5+Param!$H$8)+SIN(ROUND($H14*(V$2*$D14-Param!$G$15)+Param!$G$16,0)+Param!$H$9))*1000,1),2)>PwallX, $F14*(V$2-Param!$G$15*$D14), "NoWall"), T14) -> 3.5969003 | W14: =IF(U14="NoWall", IF(TRUNC(MOD((COS(ROUND($I14*(W$2*$E14-Param!$G$16)+Param!$G$15,0)+Param!$H$8)+SIN(W$2*$E14-0.5+Param!$H$9))*100000,1),2)>PWallY, $G14*(W$2-Param!$G$16*$E14), "NoWall"), U14) -> 7.2595318 | X14: =IF(V14="NoWall", IF(TRUNC(MOD((COS(X$2*$D14-0.5+Param!$H$8)+SIN(ROUND($H14*(X$2*$D14-Param!$G$15)+Param!$G$16,0)+Param!$H$9))*1000,1),2)>PwallX, $F14*(X$2-Param!$G$15*$D14), "NoWall"), V14) -> 3.5969003 | Y14: =IF(W14="NoWall", IF(TRUNC(MOD((COS(ROUND($I14*(Y$2*$E14-Param!$G$16)+Param!$G$15,0)+Param!$H$8)+SIN(Y$2*$E14-0.5+Param!$H$9))*100000,1),2)>PWallY, $G14*(Y$2-Param!$G$16*$E14), "NoWall"), W14) -> 7.2595318 | Z14: =IF(X14="NoWall", IF(TRUNC(MOD((COS(Z$2*$D14-0.5+Param!$H$8)+SIN(ROUND($H14*(Z$2*$D14-Param!$G$15)+Param!$G$16,0)+Param!$H$9))*1000,1),2)>PwallX, $F14*(Z$2-Param!$G$15*$D14), "NoWall"), X14) -> 3.5969003 | AA14: =IF(Y14="NoWall", IF(TRUNC(MOD((COS(ROUND($I14*(AA$2*$E14-Param!$G$16)+Param!$G$15,0)+Param!$H$8)+SIN(AA$2*$E14-0.5+Param!$H$9))*100000,1),2)>PWallY, $G14*(AA$2-Param!$G$16*$E14), "NoWall"), Y14) -> 7.2595318 | AB14: =MIN(IF(Z14="NoWall",10000,Z14),IF(AA14="NoWall",10000,AA14)) -> 3.5969003 | AC14: =AB14*COS(B14-Param!$D$14) -> 3.1737356 | AD14: =IF(Z14=AB14,MIN(ABS(COS($B14)),0.9999),IF(AA14=AB14,MIN(ABS(SIN($B14)),0.9999),0)) -> 0.79939625 | AE14: =MIN(AC14,Ghosts!P52) -> 3.1737356
A15: =A14-1 -> 39 | B15: =MOD(ATAN(A15/Param!$B$29*2)+Param!$D$14,2*PI()) -> 2.4866479 | C15: =B15*180/PI() -> 142.47443 | D15: =(($B15*2<=PI())+($B15*2>=PI()*3))*2-1 -> -1 | E15: =($B15<=PI())*2-1 -> 1 | F15: =1/MAX(ABS(COS(B15)),0.0001) -> 1.2609043 | G15: =1/MAX(ABS(SIN($B15)),0.0001) -> 1.641725 | H15: =F15/G15*D15*E15 -> -0.76803623 | I15: =1/H15 -> -1.3020219 | J15: =IF(TRUNC(MOD((COS(J$2*$D15-0.5+Param!$H$8)+SIN(ROUND($H15*(J$2*$D15-Param!$G$15)+Param!$G$16,0)+Param!$H$9))*1000,1),2)>PwallX, $F15*(J$2-Param!$G$15*$D15), "NoWall") -> NoWall | K15: =IF(TRUNC(MOD((COS(ROUND($I15*(K$2*$E15-Param!$G$16)+Param!$G$15,0)+Param!$H$8)+SIN(K$2*$E15-0.5+Param!$H$9))*100000,1),2)>PWallY, $G15*(K$2-Param!$G$16*$E15), "NoWall") -> NoWall | L15: =IF(J15="NoWall", IF(TRUNC(MOD((COS(L$2*$D15-0.5+Param!$H$8)+SIN(ROUND($H15*(L$2*$D15-Param!$G$15)+Param!$G$16,0)+Param!$H$9))*1000,1),2)>PwallX, $F15*(L$2-Param!$G$15*$D15), "NoWall"), J15) -> NoWall | M15: =IF(K15="NoWall", IF(TRUNC(MOD((COS(ROUND($I15*(M$2*$E15-Param!$G$16)+Param!$G$15,0)+Param!$H$8)+SIN(M$2*$E15-0.5+Param!$H$9))*100000,1),2)>PWallY, $G15*(M$2-Param!$G$16*$E15), "NoWall"), K15) -> NoWall | N15: =IF(L15="NoWall", IF(TRUNC(MOD((COS(N$2*$D15-0.5+Param!$H$8)+SIN(ROUND($H15*(N$2*$D15-Param!$G$15)+Param!$G$16,0)+Param!$H$9))*1000,1),2)>PwallX, $F15*(N$2-Param!$G$15*$D15), "NoWall"), L15) -> 3.6255395 | O15: =IF(M15="NoWall", IF(TRUNC(MOD((COS(ROUND($I15*(O$2*$E15-Param!$G$16)+Param!$G$15,0)+Param!$H$8)+SIN(O$2*$E15-0.5+Param!$H$9))*100000,1),2)>PWallY, $G15*(O$2-Param!$G$16*$E15), "NoWall"), M15) -> NoWall | P15: =IF(N15="NoWall", IF(TRUNC(MOD((COS(P$2*$D15-0.5+Param!$H$8)+SIN(ROUND($H15*(P$2*$D15-Param!$G$15)+Param!$G$16,0)+Param!$H$9))*1000,1),2)>PwallX, $F15*(P$2-Param!$G$15*$D15), "NoWall"), N15) -> 3.6255395 | Q15: =IF(O15="NoWall", IF(TRUNC(MOD((COS(ROUND($I15*(Q$2*$E15-Param!$G$16)+Param!$G$15,0)+Param!$H$8)+SIN(Q$2*$E15-0.5+Param!$H$9))*100000,1),2)>PWallY, $G15*(Q$2-Param!$G$16*$E15), "NoWall"), O15) -> NoWall | R15: =IF(P15="NoWall", IF(TRUNC(MOD((COS(R$2*$D15-0.5+Param!$H$8)+SIN(ROUND($H15*(R$2*$D15-Param!$G$15)+Param!$G$16,0)+Param!$H$9))*1000,1),2)>PwallX, $F15*(R$2-Param!$G$15*$D15), "NoWall"), P15) -> 3.6255395 | S15: =IF(Q15="NoWall", IF(TRUNC(MOD((COS(ROUND($I15*(S$2*$E15-Param!$G$16)+Param!$G$15,0)+Param!$H$8)+SIN(S$2*$E15-0.5+Param!$H$9))*100000,1),2)>PWallY, $G15*(S$2-Param!$G$16*$E15), "NoWall"), Q15) -> 7.1604771 | T15: =IF(R15="NoWall", IF(TRUNC(MOD((COS(T$2*$D15-0.5+Param!$H$8)+SIN(ROUND($H15*(T$2*$D15-Param!$G$15)+Param!$G$16,0)+Param!$H$9))*1000,1),2)>PwallX, $F15*(T$2-Param!$G$15*$D15), "NoWall"), R15) -> 3.6255395 | U15: =IF(S15="NoWall", IF(TRUNC(MOD((COS(ROUND($I15*(U$2*$E15-Param!$G$16)+Param!$G$15,0)+Param!$H$8)+SIN(U$2*$E15-0.5+Param!$H$9))*100000,1),2)>PWallY, $G15*(U$2-Param!$G$16*$E15), "NoWall"), S15) -> 7.1604771 | V15: =IF(T15="NoWall", IF(TRUNC(MOD((COS(V$2*$D15-0.5+Param!$H$8)+SIN(ROUND($H15*(V$2*$D15-Param!$G$15)+Param!$G$16,0)+Param!$H$9))*1000,1),2)>PwallX, $F15*(V$2-Param!$G$15*$D15), "NoWall"), T15) -> 3.6255395 | W15: =IF(U15="NoWall", IF(TRUNC(MOD((COS(ROUND($I15*(W$2*$E15-Param!$G$16)+Param!$G$15,0)+Param!$H$8)+SIN(W$2*$E15-0.5+Param!$H$9))*100000,1),2)>PWallY, $G15*(W$2-Param!$G$16*$E15), "NoWall"), U15) -> 7.1604771 | X15: =IF(V15="NoWall", IF(TRUNC(MOD((COS(X$2*$D15-0.5+Param!$H$8)+SIN(ROUND($H15*(X$2*$D15-Param!$G$15)+Param!$G$16,0)+Param!$H$9))*1000,1),2)>PwallX, $F15*(X$2-Param!$G$15*$D15), "NoWall"), V15) -> 3.6255395 | Y15: =IF(W15="NoWall", IF(TRUNC(MOD((COS(ROUND($I15*(Y$2*$E15-Param!$G$16)+Param!$G$15,0)+Param!$H$8)+SIN(Y$2*$E15-0.5+Param!$H$9))*100000,1),2)>PWallY, $G15*(Y$2-Param!$G$16*$E15), "NoWall"), W15) -> 7.1604771 | Z15: =IF(X15="NoWall", IF(TRUNC(MOD((COS(Z$2*$D15-0.5+Param!$H$8)+SIN(ROUND($H15*(Z$2*$D15-Param!$G$15)+Param!$G$16,0)+Param!$H$9))*1000,1),2)>PwallX, $F15*(Z$2-Param!$G$15*$D15), "NoWall"), X15) -> 3.6255395 | AA15: =IF(Y15="NoWall", IF(TRUNC(MOD((COS(ROUND($I15*(AA$2*$E15-Param!$G$16)+Param!$G$15,0)+Param!$H$8)+SIN(AA$2*$E15-0.5+Param!$H$9))*100000,1),2)>PWallY, $G15*(AA$2-Param!$G$16*$E15), "NoWall"), Y15) -> 7.1604771 | AB15: =MIN(IF(Z15="NoWall",10000,Z15),IF(AA15="NoWall",10000,AA15)) -> 3.6255395 | AC15: =AB15*COS(B15-Param!$D$14) -> 3.2166395 | AD15: =IF(Z15=AB15,MIN(ABS(COS($B15)),0.9999),IF(AA15=AB15,MIN(ABS(SIN($B15)),0.9999),0)) -> 0.7930816 | AE15: =MIN(AC15,Ghosts!P53) -> 3.2166395
A16: =A15-1 -> 38 | B16: =MOD(ATAN(A16/Param!$B$29*2)+Param!$D$14,2*PI()) -> 2.4760953 | C16: =B16*180/PI() -> 141.86981 | D16: =(($B16*2<=PI())+($B16*2>=PI()*3))*2-1 -> -1 | E16: =($B16<=PI())*2-1 -> 1 | F16: =1/MAX(ABS(COS(B16)),0.0001) -> 1.2712783 | G16: =1/MAX(ABS(SIN($B16)),0.0001) -> 1.6195633 | H16: =F16/G16*D16*E16 -> -0.78495129 | I16: =1/H16 -> -1.2739644 | J16: =IF(TRUNC(MOD((COS(J$2*$D16-0.5+Param!$H$8)+SIN(ROUND($H16*(J$2*$D16-Param!$G$15)+Param!$G$16,0)+Param!$H$9))*1000,1),2)>PwallX, $F16*(J$2-Param!$G$15*$D16), "NoWall") -> NoWall | K16: =IF(TRUNC(MOD((COS(ROUND($I16*(K$2*$E16-Param!$G$16)+Param!$G$15,0)+Param!$H$8)+SIN(K$2*$E16-0.5+Param!$H$9))*100000,1),2)>PWallY, $G16*(K$2-Param!$G$16*$E16), "NoWall") -> NoWall | L16: =IF(J16="NoWall", IF(TRUNC(MOD((COS(L$2*$D16-0.5+Param!$H$8)+SIN(ROUND($H16*(L$2*$D16-Param!$G$15)+Param!$G$16,0)+Param!$H$9))*1000,1),2)>PwallX, $F16*(L$2-Param!$G$15*$D16), "NoWall"), J16) -> NoWall | M16: =IF(K16="NoWall", IF(TRUNC(MOD((COS(ROUND($I16*(M$2*$E16-Param!$G$16)+Param!$G$15,0)+Param!$H$8)+SIN(M$2*$E16-0.5+Param!$H$9))*100000,1),2)>PWallY, $G16*(M$2-Param!$G$16*$E16), "NoWall"), K16) -> NoWall | N16: =IF(L16="NoWall", IF(TRUNC(MOD((COS(N$2*$D16-0.5+Param!$H$8)+SIN(ROUND($H16*(N$2*$D16-Param!$G$15)+Param!$G$16,0)+Param!$H$9))*1000,1),2)>PwallX, $F16*(N$2-Param!$G$15*$D16), "NoWall"), L16) -> 3.6553683 | O16: =IF(M16="NoWall", IF(TRUNC(MOD((COS(ROUND($I16*(O$2*$E16-Param!$G$16)+Param!$G$15,0)+Param!$H$8)+SIN(O$2*$E16-0.5+Param!$H$9))*100000,1),2)>PWallY, $G16*(O$2-Param!$G$16*$E16), "NoWall"), M16) -> NoWall | P16: =IF(N16="NoWall", IF(TRUNC(MOD((COS(P$2*$D16-0.5+Param!$H$8)+SIN(ROUND($H16*(P$2*$D16-Param!$G$15)+Param!$G$16,0)+Param!$H$9))*1000,1),2)>PwallX, $F16*(P$2-Param!$G$15*$D16), "NoWall"), N16) -> 3.6553683 | Q16: =IF(O16="NoWall", IF(TRUNC(MOD((COS(ROUND($I16*(Q$2*$E16-Param!$G$16)+Param!$G$15,0)+Param!$H$8)+SIN(Q$2*$E16-0.5+Param!$H$9))*100000,1),2)>PWallY, $G16*(Q$2-Param!$G$16*$E16), "NoWall"), O16) -> NoWall | R16: =IF(P16="NoWall", IF(TRUNC(MOD((COS(R$2*$D16-0.5+Param!$H$8)+SIN(ROUND($H16*(R$2*$D16-Param!$G$15)+Param!$G$16,0)+Param!$H$9))*1000,1),2)>PwallX, $F16*(R$2-Param!$G$15*$D16), "NoWall"), P16) -> 3.6553683 | S16: =IF(Q16="NoWall", IF(TRUNC(MOD((COS(ROUND($I16*(S$2*$E16-Param!$G$16)+Param!$G$15,0)+Param!$H$8)+SIN(S$2*$E16-0.5+Param!$H$9))*100000,1),2)>PWallY, $G16*(S$2-Param!$G$16*$E16), "NoWall"), Q16) -> 7.0638175 | T16: =IF(R16="NoWall", IF(TRUNC(MOD((COS(T$2*$D16-0.5+Param!$H$8)+SIN(ROUND($H16*(T$2*$D16-Param!$G$15)+Param!$G$16,0)+Param!$H$9))*1000,1),2)>PwallX, $F16*(T$2-Param!$G$15*$D16), "NoWall"), R16) -> 3.6553683 | U16: =IF(S16="NoWall", IF(TRUNC(MOD((COS(ROUND($I16*(U$2*$E16-Param!$G$16)+Param!$G$15,0)+Param!$H$8)+SIN(U$2*$E16-0.5+Param!$H$9))*100000,1),2)>PWallY, $G16*(U$2-Param!$G$16*$E16), "NoWall"), S16) -> 7.0638175 | V16: =IF(T16="NoWall", IF(TRUNC(MOD((COS(V$2*$D16-0.5+Param!$H$8)+SIN(ROUND($H16*(V$2*$D16-Param!$G$15)+Param!$G$16,0)+Param!$H$9))*1000,1),2)>PwallX, $F16*(V$2-Param!$G$15*$D16), "NoWall"), T16) -> 3.6553683 | W16: =IF(U16="NoWall", IF(TRUNC(MOD((COS(ROUND($I16*(W$2*$E16-Param!$G$16)+Param!$G$15,0)+Param!$H$8)+SIN(W$2*$E16-0.5+Param!$H$9))*100000,1),2)>PWallY, $G16*(W$2-Param!$G$16*$E16), "NoWall"), U16) -> 7.0638175 | X16: =IF(V16="NoWall", IF(TRUNC(MOD((COS(X$2*$D16-0.5+Param!$H$8)+SIN(ROUND($H16*(X$2*$D16-Param!$G$15)+Param!$G$16,0)+Param!$H$9))*1000,1),2)>PwallX, $F16*(X$2-Param!$G$15*$D16), "NoWall"), V16) -> 3.6553683 | Y16: =IF(W16="NoWall", IF(TRUNC(MOD((COS(ROUND($I16*(Y$2*$E16-Param!$G$16)+Param!$G$15,0)+Param!$H$8)+SIN(Y$2*$E16-0.5+Param!$H$9))*100000,1),2)>PWallY, $G16*(Y$2-Param!$G$16*$E16), "NoWall"), W16) -> 7.0638175 | Z16: =IF(X16="NoWall", IF(TRUNC(MOD((COS(Z$2*$D16-0.5+Param!$H$8)+SIN(ROUND($H16*(Z$2*$D16-Param!$G$15)+Param!$G$16,0)+Param!$H$9))*1000,1),2)>PwallX, $F16*(Z$2-Param!$G$15*$D16), "NoWall"), X16) -> 3.6553683 | AA16: =IF(Y16="NoWall", IF(TRUNC(MOD((COS(ROUND($I16*(AA$2*$E16-Param!$G$16)+Param!$G$15,0)+Param!$H$8)+SIN(AA$2*$E16-0.5+Param!$H$9))*100000,1),2)>PWallY, $G16*(AA$2-Param!$G$16*$E16), "NoWall"), Y16) -> 7.0638175 | AB16: =MIN(IF(Z16="NoWall",10000,Z16),IF(AA16="NoWall",10000,AA16)) -> 3.6553683 | AC16: =AB16*COS(B16-Param!$D$14) -> 3.2607193 | AD16: =IF(Z16=AB16,MIN(ABS(COS($B16)),0.9999),IF(AA16=AB16,MIN(ABS(SIN($B16)),0.9999),0)) -> 0.78660982 | AE16: =MIN(AC16,Ghosts!P54) -> 3.2607193
... A104: =A103-1 -> -50 | B104: =MOD(ATAN(A104/Param!$B$29*2)+Param!$D$14,2*PI()) -> 1.419126 | C104: =B104*180/PI() -> 81.309932 | D104: =(($B104*2<=PI())+($B104*2>=PI()*3))*2-1 -> 1 | E104: =($B104<=PI())*2-1 -> 1 | F104: =1/MAX(ABS(COS(B104)),0.0001) -> 6.6185954 | G104: =1/MAX(ABS(SIN($B104)),0.0001) -> 1.0116132 | H104: =F104/G104*D104*E104 -> 6.5426146 | I104: =1/H104 -> 0.15284409 | J104: =IF(TRUNC(MOD((COS(J$2*$D104-0.5+Param!$H$8)+SIN(ROUND($H104*(J$2*$D104-Param!$G$15)+Param!$G$16,0)+Param!$H$9))*1000,1),2)>PwallX, $F104*(J$2-Param!$G$15*$D104), "NoWall") -> NoWall | K104: =IF(TRUNC(MOD((COS(ROUND($I104*(K$2*$E104-Param!$G$16)+Param!$G$15,0)+Param!$H$8)+SIN(K$2*$E104-0.5+Param!$H$9))*100000,1),2)>PWallY, $G104*(K$2-Param!$G$16*$E104), "NoWall") -> NoWall | L104: =IF(J104="NoWall", IF(TRUNC(MOD((COS(L$2*$D104-0.5+Param!$H$8)+SIN(ROUND($H104*(L$2*$D104-Param!$G$15)+Param!$G$16,0)+Param!$H$9))*1000,1),2)>PwallX, $F104*(L$2-Param!$G$15*$D104), "NoWall"), J104) -> NoWall | M104: =IF(K104="NoWall", IF(TRUNC(MOD((COS(ROUND($I104*(M$2*$E104-Param!$G$16)+Param!$G$15,0)+Param!$H$8)+SIN(M$2*$E104-0.5+Param!$H$9))*100000,1),2)>PWallY, $G104*(M$2-Param!$G$16*$E104), "NoWall"), K104) -> NoWall | N104: =IF(L104="NoWall", IF(TRUNC(MOD((COS(N$2*$D104-0.5+Param!$H$8)+SIN(ROUND($H104*(N$2*$D104-Param!$G$15)+Param!$G$16,0)+Param!$H$9))*1000,1),2)>PwallX, $F104*(N$2-Param!$G$15*$D104), "NoWall"), L104) -> NoWall | O104: =IF(M104="NoWall", IF(TRUNC(MOD((COS(ROUND($I104*(O$2*$E104-Param!$G$16)+Param!$G$15,0)+Param!$H$8)+SIN(O$2*$E104-0.5+Param!$H$9))*100000,1),2)>PWallY, $G104*(O$2-Param!$G$16*$E104), "NoWall"), M104) -> 2.3889822 | P104: =IF(N104="NoWall", IF(TRUNC(MOD((COS(P$2*$D104-0.5+Param!$H$8)+SIN(ROUND($H104*(P$2*$D104-Param!$G$15)+Param!$G$16,0)+Param!$H$9))*1000,1),2)>PwallX, $F104*(P$2-Param!$G$15*$D104), "NoWall"), N104) -> NoWall | Q104: =IF(O104="NoWall", IF(TRUNC(MOD((COS(ROUND($I104*(Q$2*$E104-Param!$G$16)+Param!$G$15,0)+Param!$H$8)+SIN(Q$2*$E104-0.5+Param!$H$9))*100000,1),2)>PWallY, $G104*(Q$2-Param!$G$16*$E104), "NoWall"), O104) -> 2.3889822 | R104: =IF(P104="NoWall", IF(TRUNC(MOD((COS(R$2*$D104-0.5+Param!$H$8)+SIN(ROUND($H104*(R$2*$D104-Param!$G$15)+Param!$G$16,0)+Param!$H$9))*1000,1),2)>PwallX, $F104*(R$2-Param!$G$15*$D104), "NoWall"), P104) -> NoWall | S104: =IF(Q104="NoWall", IF(TRUNC(MOD((COS(ROUND($I104*(S$2*$E104-Param!$G$16)+Param!$G$15,0)+Param!$H$8)+SIN(S$2*$E104-0.5+Param!$H$9))*100000,1),2)>PWallY, $G104*(S$2-Param!$G$16*$E104), "NoWall"), Q104) -> 2.3889822 | T104: =IF(R104="NoWall", IF(TRUNC(MOD((COS(T$2*$D104-0.5+Param!$H$8)+SIN(ROUND($H104*(T$2*$D104-Param!$G$15)+Param!$G$16,0)+Param!$H$9))*1000,1),2)>PwallX, $F104*(T$2-Param!$G$15*$D104), "NoWall"), R104) -> NoWall | U104: =IF(S104="NoWall", IF(TRUNC(MOD((COS(ROUND($I104*(U$2*$E104-Param!$G$16)+Param!$G$15,0)+Param!$H$8)+SIN(U$2*$E104-0.5+Param!$H$9))*100000,1),2)>PWallY, $G104*(U$2-Param!$G$16*$E104), "NoWall"), S104) -> 2.3889822 | V104: =IF(T104="NoWall", IF(TRUNC(MOD((COS(V$2*$D104-0.5+Param!$H$8)+SIN(ROUND($H104*(V$2*$D104-Param!$G$15)+Param!$G$16,0)+Param!$H$9))*1000,1),2)>PwallX, $F104*(V$2-Param!$G$15*$D104), "NoWall"), T104) -> NoWall | W104: =IF(U104="NoWall", IF(TRUNC(MOD((COS(ROUND($I104*(W$2*$E104-Param!$G$16)+Param!$G$15,0)+Param!$H$8)+SIN(W$2*$E104-0.5+Param!$H$9))*100000,1),2)>PWallY, $G104*(W$2-Param!$G$16*$E104), "NoWall"), U104) -> 2.3889822 | X104: =IF(V104="NoWall", IF(TRUNC(MOD((COS(X$2*$D104-0.5+Param!$H$8)+SIN(ROUND($H104*(X$2*$D104-Param!$G$15)+Param!$G$16,0)+Param!$H$9))*1000,1),2)>PwallX, $F104*(X$2-Param!$G$15*$D104), "NoWall"), V104) -> NoWall | Y104: =IF(W104="NoWall", IF(TRUNC(MOD((COS(ROUND($I104*(Y$2*$E104-Param!$G$16)+Param!$G$15,0)+Param!$H$8)+SIN(Y$2*$E104-0.5+Param!$H$9))*100000,1),2)>PWallY, $G104*(Y$2-Param!$G$16*$E104), "NoWall"), W104) -> 2.3889822 | Z104: =IF(X104="NoWall", IF(TRUNC(MOD((COS(Z$2*$D104-0.5+Param!$H$8)+SIN(ROUND($H104*(Z$2*$D104-Param!$G$15)+Param!$G$16,0)+Param!$H$9))*1000,1),2)>PwallX, $F104*(Z$2-Param!$G$15*$D104), "NoWall"), X104) -> 53.773781 | AA104: =IF(Y104="NoWall", IF(TRUNC(MOD((COS(ROUND($I104*(AA$2*$E104-Param!$G$16)+Param!$G$15,0)+Param!$H$8)+SIN(AA$2*$E104-0.5+Param!$H$9))*100000,1),2)>PWallY, $G104*(AA$2-Param!$G$16*$E104), "NoWall"), Y104) -> 2.3889822 | AB104: =MIN(IF(Z104="NoWall",10000,Z104),IF(AA104="NoWall",10000,AA104)) -> 2.3889822 | AC104: =AB104*COS(B104-Param!$D$14) -> 1.9877533 | AD104: =IF(Z104=AB104,MIN(ABS(COS($B104)),0.9999),IF(AA104=AB104,MIN(ABS(SIN($B104)),0.9999),0)) -> 0.98852009 | AE104: =MIN(AC104,Ghosts!P142) -> 1.9877533
AC106: Ghost distance | AD106: Ghost Attack
A107: 1 | B107: =MOD(OFFSET(Ghosts!$C$31,0,A107),2*PI()) -> 0.077269874 | C107: =B107*180/PI() -> 4.4272377 | D107: =(($B107*2<=PI())+($B107*2>=PI()*3))*2-1 -> 1 | E107: =($B107<=PI())*2-1 -> 1 | F107: =1/MAX(ABS(COS(B107)),0.0001) -> 1.0029928 | G107: =1/MAX(ABS(SIN($B107)),0.0001) -> 12.954542 | H107: =F107/G107*D107*E107 -> 0.077424026 | I107: =1/H107 -> 12.915887 | J107: =IF(TRUNC(MOD((COS(J$2*$D107-0.5+Param!$H$8)+SIN(ROUND($H107*(J$2*$D107-Param!$G$15)+Param!$G$16,0)+Param!$H$9))*1000,1),2)>PwallX, $F107*(J$2-Param!$G$15*$D107), "NoWall") -> 0.12502442 | K107: =IF(TRUNC(MOD((COS(ROUND($I107*(K$2*$E107-Param!$G$16)+Param!$G$15,0)+Param!$H$8)+SIN(K$2*$E107-0.5+Param!$H$9))*100000,1),2)>PWallY, $G107*(K$2-Param!$G$16*$E107), "NoWall") -> NoWall | L107: =IF(J107="NoWall", IF(TRUNC(MOD((COS(L$2*$D107-0.5+Param!$H$8)+SIN(ROUND($H107*(L$2*$D107-Param!$G$15)+Param!$G$16,0)+Param!$H$9))*1000,1),2)>PwallX, $F107*(L$2-Param!$G$15*$D107), "NoWall"), J107) -> 0.12502442 | M107: =IF(K107="NoWall", IF(TRUNC(MOD((COS(ROUND($I107*(M$2*$E107-Param!$G$16)+Param!$G$15,0)+Param!$H$8)+SIN(M$2*$E107-0.5+Param!$H$9))*100000,1),2)>PWallY, $G107*(M$2-Param!$G$16*$E107), "NoWall"), K107) -> 17.638345 | N107: =IF(L107="NoWall", IF(TRUNC(MOD((COS(N$2*$D107-0.5+Param!$H$8)+SIN(ROUND($H107*(N$2*$D107-Param!$G$15)+Param!$G$16,0)+Param!$H$9))*1000,1),2)>PwallX, $F107*(N$2-Param!$G$15*$D107), "NoWall"), L107) -> 0.12502442 | O107: =IF(M107="NoWall", IF(TRUNC(MOD((COS(ROUND($I107*(O$2*$E107-Param!$G$16)+Param!$G$15,0)+Param!$H$8)+SIN(O$2*$E107-0.5+Param!$H$9))*100000,1),2)>PWallY, $G107*(O$2-Param!$G$16*$E107), "NoWall"), M107) -> 17.638345 | P107: =IF(N107="NoWall", IF(TRUNC(MOD((COS(P$2*$D107-0.5+Param!$H$8)+SIN(ROUND($H107*(P$2*$D107-Param!$G$15)+Param!$G$16,0)+Param!$H$9))*1000,1),2)>PwallX, $F107*(P$2-Param!$G$15*$D107), "NoWall"), N107) -> 0.12502442 | Q107: =IF(O107="NoWall", IF(TRUNC(MOD((COS(ROUND($I107*(Q$2*$E107-Param!$G$16)+Param!$G$15,0)+Param!$H$8)+SIN(Q$2*$E107-0.5+Param!$H$9))*100000,1),2)>PWallY, $G107*(Q$2-Param!$G$16*$E107), "NoWall"), O107) -> 17.638345 | R107: =IF(P107="NoWall", IF(TRUNC(MOD((COS(R$2*$D107-0.5+Param!$H$8)+SIN(ROUND($H107*(R$2*$D107-Param!$G$15)+Param!$G$16,0)+Param!$H$9))*1000,1),2)>PwallX, $F107*(R$2-Param!$G$15*$D107), "NoWall"), P107) -> 0.12502442 | S107: =IF(Q107="NoWall", IF(TRUNC(MOD((COS(ROUND($I107*(S$2*$E107-Param!$G$16)+Param!$G$15,0)+Param!$H$8)+SIN(S$2*$E107-0.5+Param!$H$9))*100000,1),2)>PWallY, $G107*(S$2-Param!$G$16*$E107), "NoWall"), Q107) -> 17.638345 | T107: =IF(R107="NoWall", IF(TRUNC(MOD((COS(T$2*$D107-0.5+Param!$H$8)+SIN(ROUND($H107*(T$2*$D107-Param!$G$15)+Param!$G$16,0)+Param!$H$9))*1000,1),2)>PwallX, $F107*(T$2-Param!$G$15*$D107), "NoWall"), R107) -> 0.12502442 | U107: =IF(S107="NoWall", IF(TRUNC(MOD((COS(ROUND($I107*(U$2*$E107-Param!$G$16)+Param!$G$15,0)+Param!$H$8)+SIN(U$2*$E107-0.5+Param!$H$9))*100000,1),2)>PWallY, $G107*(U$2-Param!$G$16*$E107), "NoWall"), S107) -> 17.638345 | V107: =IF(T107="NoWall", IF(TRUNC(MOD((COS(V$2*$D107-0.5+Param!$H$8)+SIN(ROUND($H107*(V$2*$D107-Param!$G$15)+Param!$G$16,0)+Param!$H$9))*1000,1),2)>PwallX, $F107*(V$2-Param!$G$15*$D107), "NoWall"), T107) -> 0.12502442 | W107: =IF(U107="NoWall", IF(TRUNC(MOD((COS(ROUND($I107*(W$2*$E107-Param!$G$16)+Param!$G$15,0)+Param!$H$8)+SIN(W$2*$E107-0.5+Param!$H$9))*100000,1),2)>PWallY, $G107*(W$2-Param!$G$16*$E107), "NoWall"), U107) -> 17.638345 | X107: =IF(V107="NoWall", IF(TRUNC(MOD((COS(X$2*$D107-0.5+Param!$H$8)+SIN(ROUND($H107*(X$2*$D107-Param!$G$15)+Param!$G$16,0)+Param!$H$9))*1000,1),2)>PwallX, $F107*(X$2-Param!$G$15*$D107), "NoWall"), V107) -> 0.12502442 | Y107: =IF(W107="NoWall", IF(TRUNC(MOD((COS(ROUND($I107*(Y$2*$E107-Param!$G$16)+Param!$G$15,0)+Param!$H$8)+SIN(Y$2*$E107-0.5+Param!$H$9))*100000,1),2)>PWallY, $G107*(Y$2-Param!$G$16*$E107), "NoWall"), W107) -> 17.638345 | Z107: =IF(X107="NoWall", IF(TRUNC(MOD((COS(Z$2*$D107-0.5+Param!$H$8)+SIN(ROUND($H107*(Z$2*$D107-Param!$G$15)+Param!$G$16,0)+Param!$H$9))*1000,1),2)>PwallX, $F107*(Z$2-Param!$G$15*$D107), "NoWall"), X107) -> 0.12502442 | AA107: =IF(Y107="NoWall", IF(TRUNC(MOD((COS(ROUND($I107*(AA$2*$E107-Param!$G$16)+Param!$G$15,0)+Param!$H$8)+SIN(AA$2*$E107-0.5+Param!$H$9))*100000,1),2)>PWallY, $G107*(AA$2-Param!$G$16*$E107), "NoWall"), Y107) -> 17.638345 | AB107: =MIN(IF(Z107="NoWall",10000,Z107),IF(AA107="NoWall",10000,AA107)) -> 0.12502442 | AC107: =OFFSET(Ghosts!$C$30,0,A107) -> 13.630922 | AD107: =AND(AC107<4.8,AB107>AC107) -> FALSE
A108: 2 | B108: =MOD(OFFSET(Ghosts!$C$31,0,A108),2*PI()) -> 2.0416488 | C108: =B108*180/PI() -> 116.97786 | D108: =(($B108*2<=PI())+($B108*2>=PI()*3))*2-1 -> -1 | E108: =($B108<=PI())*2-1 -> 1 | F108: =1/MAX(ABS(COS(B108)),0.0001) -> 2.2043614 | G108: =1/MAX(ABS(SIN($B108)),0.0001) -> 1.1221054 | H108: =F108/G108*D108*E108 -> -1.964487 | I108: =1/H108 -> -0.50903875 | J108: =IF(TRUNC(MOD((COS(J$2*$D108-0.5+Param!$H$8)+SIN(ROUND($H108*(J$2*$D108-Param!$G$15)+Param!$G$16,0)+Param!$H$9))*1000,1),2)>PwallX, $F108*(J$2-Param!$G$15*$D108), "NoWall") -> 1.9295847 | K108: =IF(TRUNC(MOD((COS(ROUND($I108*(K$2*$E108-Param!$G$16)+Param!$G$15,0)+Param!$H$8)+SIN(K$2*$E108-0.5+Param!$H$9))*100000,1),2)>PWallY, $G108*(K$2-Param!$G$16*$E108), "NoWall") -> NoWall | L108: =IF(J108="NoWall", IF(TRUNC(MOD((COS(L$2*$D108-0.5+Param!$H$8)+SIN(ROUND($H108*(L$2*$D108-Param!$G$15)+Param!$G$16,0)+Param!$H$9))*1000,1),2)>PwallX, $F108*(L$2-Param!$G$15*$D108), "NoWall"), J108) -> 1.9295847 | M108: =IF(K108="NoWall", IF(TRUNC(MOD((COS(ROUND($I108*(M$2*$E108-Param!$G$16)+Param!$G$15,0)+Param!$H$8)+SIN(M$2*$E108-0.5+Param!$H$9))*100000,1),2)>PWallY, $G108*(M$2-Param!$G$16*$E108), "NoWall"), K108) -> NoWall | N108: =IF(L108="NoWall", IF(TRUNC(MOD((COS(N$2*$D108-0.5+Param!$H$8)+SIN(ROUND($H108*(N$2*$D108-Param!$G$15)+Param!$G$16,0)+Param!$H$9))*1000,1),2)>PwallX, $F108*(N$2-Param!$G$15*$D108), "NoWall"), L108) -> 1.9295847 | O108: =IF(M108="NoWall", IF(TRUNC(MOD((COS(ROUND($I108*(O$2*$E108-Param!$G$16)+Param!$G$15,0)+Param!$H$8)+SIN(O$2*$E108-0.5+Param!$H$9))*100000,1),2)>PWallY, $G108*(O$2-Param!$G$16*$E108), "NoWall"), M108) -> 2.6499157 | P108: =IF(N108="NoWall", IF(TRUNC(MOD((COS(P$2*$D108-0.5+Param!$H$8)+SIN(ROUND($H108*(P$2*$D108-Param!$G$15)+Param!$G$16,0)+Param!$H$9))*1000,1),2)>PwallX, $F108*(P$2-Param!$G$15*$D108), "NoWall"), N108) -> 1.9295847 | Q108: =IF(O108="NoWall", IF(TRUNC(MOD((COS(ROUND($I108*(Q$2*$E108-Param!$G$16)+Param!$G$15,0)+Param!$H$8)+SIN(Q$2*$E108-0.5+Param!$H$9))*100000,1),2)>PWallY, $G108*(Q$2-Param!$G$16*$E108), "NoWall"), O108) -> 2.6499157 | R108: =IF(P108="NoWall", IF(TRUNC(MOD((COS(R$2*$D108-0.5+Param!$H$8)+SIN(ROUND($H108*(R$2*$D108-Param!$G$15)+Param!$G$16,0)+Param!$H$9))*1000,1),2)>PwallX, $F108*(R$2-Param!$G$15*$D108), "NoWall"), P108) -> 1.9295847 | S108: =IF(Q108="NoWall", IF(TRUNC(MOD((COS(ROUND($I108*(S$2*$E108-Param!$G$16)+Param!$G$15,0)+Param!$H$8)+SIN(S$2*$E108-0.5+Param!$H$9))*100000,1),2)>PWallY, $G108*(S$2-Param!$G$16*$E108), "NoWall"), Q108) -> 2.6499157 | T108: =IF(R108="NoWall", IF(TRUNC(MOD((COS(T$2*$D108-0.5+Param!$H$8)+SIN(ROUND($H108*(T$2*$D108-Param!$G$15)+Param!$G$16,0)+Param!$H$9))*1000,1),2)>PwallX, $F108*(T$2-Param!$G$15*$D108), "NoWall"), R108) -> 1.9295847 | U108: =IF(S108="NoWall", IF(TRUNC(MOD((COS(ROUND($I108*(U$2*$E108-Param!$G$16)+Param!$G$15,0)+Param!$H$8)+SIN(U$2*$E108-0.5+Param!$H$9))*100000,1),2)>PWallY, $G108*(U$2-Param!$G$16*$E108), "NoWall"), S108) -> 2.6499157 | V108: =IF(T108="NoWall", IF(TRUNC(MOD((COS(V$2*$D108-0.5+Param!$H$8)+SIN(ROUND($H108*(V$2*$D108-Param!$G$15)+Param!$G$16,0)+Param!$H$9))*1000,1),2)>PwallX, $F108*(V$2-Param!$G$15*$D108), "NoWall"), T108) -> 1.9295847 | W108: =IF(U108="NoWall", IF(TRUNC(MOD((COS(ROUND($I108*(W$2*$E108-Param!$G$16)+Param!$G$15,0)+Param!$H$8)+SIN(W$2*$E108-0.5+Param!$H$9))*100000,1),2)>PWallY, $G108*(W$2-Param!$G$16*$E108), "NoWall"), U108) -> 2.6499157 | X108: =IF(V108="NoWall", IF(TRUNC(MOD((COS(X$2*$D108-0.5+Param!$H$8)+SIN(ROUND($H108*(X$2*$D108-Param!$G$15)+Param!$G$16,0)+Param!$H$9))*1000,1),2)>PwallX, $F108*(X$2-Param!$G$15*$D108), "NoWall"), V108) -> 1.9295847 | Y108: =IF(W108="NoWall", IF(TRUNC(MOD((COS(ROUND($I108*(Y$2*$E108-Param!$G$16)+Param!$G$15,0)+Param!$H$8)+SIN(Y$2*$E108-0.5+Param!$H$9))*100000,1),2)>PWallY, $G108*(Y$2-Param!$G$16*$E108), "NoWall"), W108) -> 2.6499157 | Z108: =IF(X108="NoWall", IF(TRUNC(MOD((COS(Z$2*$D108-0.5+Param!$H$8)+SIN(ROUND($H108*(Z$2*$D108-Param!$G$15)+Param!$G$16,0)+Param!$H$9))*1000,1),2)>PwallX, $F108*(Z$2-Param!$G$15*$D108), "NoWall"), X108) -> 1.9295847 | AA108: =IF(Y108="NoWall", IF(TRUNC(MOD((COS(ROUND($I108*(AA$2*$E108-Param!$G$16)+Param!$G$15,0)+Param!$H$8)+SIN(AA$2*$E108-0.5+Param!$H$9))*100000,1),2)>PWallY, $G108*(AA$2-Param!$G$16*$E108), "NoWall"), Y108) -> 2.6499157 | AB108: =MIN(IF(Z108="NoWall",10000,Z108),IF(AA108="NoWall",10000,AA108)) -> 1.9295847 | AC108: =OFFSET(Ghosts!$C$30,0,A108) -> 15.449573 | AD108: =AND(AC108<4.8,AB108>AC108) -> FALSE
A109: 3 | B109: =MOD(OFFSET(Ghosts!$C$31,0,A109),2*PI()) -> 0.63934602 | C109: =B109*180/PI() -> 36.631829 | D109: =(($B109*2<=PI())+($B109*2>=PI()*3))*2-1 -> 1 | E109: =($B109<=PI())*2-1 -> 1 | F109: =1/MAX(ABS(COS(B109)),0.0001) -> 1.2461274 | G109: =1/MAX(ABS(SIN($B109)),0.0001) -> 1.6759662 | H109: =F109/G109*D109*E109 -> 0.7435278 | I109: =1/H109 -> 1.3449396 | J109: =IF(TRUNC(MOD((COS(J$2*$D109-0.5+Param!$H$8)+SIN(ROUND($H109*(J$2*$D109-Param!$G$15)+Param!$G$16,0)+Param!$H$9))*1000,1),2)>PwallX, $F109*(J$2-Param!$G$15*$D109), "NoWall") -> 0.15533149 | K109: =IF(TRUNC(MOD((COS(ROUND($I109*(K$2*$E109-Param!$G$16)+Param!$G$15,0)+Param!$H$8)+SIN(K$2*$E109-0.5+Param!$H$9))*100000,1),2)>PWallY, $G109*(K$2-Param!$G$16*$E109), "NoWall") -> 0.60595711 | L109: =IF(J109="NoWall", IF(TRUNC(MOD((COS(L$2*$D109-0.5+Param!$H$8)+SIN(ROUND($H109*(L$2*$D109-Param!$G$15)+Param!$G$16,0)+Param!$H$9))*1000,1),2)>PwallX, $F109*(L$2-Param!$G$15*$D109), "NoWall"), J109) -> 0.15533149 | M109: =IF(K109="NoWall", IF(TRUNC(MOD((COS(ROUND($I109*(M$2*$E109-Param!$G$16)+Param!$G$15,0)+Param!$H$8)+SIN(M$2*$E109-0.5+Param!$H$9))*100000,1),2)>PWallY, $G109*(M$2-Param!$G$16*$E109), "NoWall"), K109) -> 0.60595711 | N109: =IF(L109="NoWall", IF(TRUNC(MOD((COS(N$2*$D109-0.5+Param!$H$8)+SIN(ROUND($H109*(N$2*$D109-Param!$G$15)+Param!$G$16,0)+Param!$H$9))*1000,1),2)>PwallX, $F109*(N$2-Param!$G$15*$D109), "NoWall"), L109) -> 0.15533149 | O109: =IF(M109="NoWall", IF(TRUNC(MOD((COS(ROUND($I109*(O$2*$E109-Param!$G$16)+Param!$G$15,0)+Param!$H$8)+SIN(O$2*$E109-0.5+Param!$H$9))*100000,1),2)>PWallY, $G109*(O$2-Param!$G$16*$E109), "NoWall"), M109) -> 0.60595711 | P109: =IF(N109="NoWall", IF(TRUNC(MOD((COS(P$2*$D109-0.5+Param!$H$8)+SIN(ROUND($H109*(P$2*$D109-Param!$G$15)+Param!$G$16,0)+Param!$H$9))*1000,1),2)>PwallX, $F109*(P$2-Param!$G$15*$D109), "NoWall"), N109) -> 0.15533149 | Q109: =IF(O109="NoWall", IF(TRUNC(MOD((COS(ROUND($I109*(Q$2*$E109-Param!$G$16)+Param!$G$15,0)+Param!$H$8)+SIN(Q$2*$E109-0.5+Param!$H$9))*100000,1),2)>PWallY, $G109*(Q$2-Param!$G$16*$E109), "NoWall"), O109) -> 0.60595711 | R109: =IF(P109="NoWall", IF(TRUNC(MOD((COS(R$2*$D109-0.5+Param!$H$8)+SIN(ROUND($H109*(R$2*$D109-Param!$G$15)+Param!$G$16,0)+Param!$H$9))*1000,1),2)>PwallX, $F109*(R$2-Param!$G$15*$D109), "NoWall"), P109) -> 0.15533149 | S109: =IF(Q109="NoWall", IF(TRUNC(MOD((COS(ROUND($I109*(S$2*$E109-Param!$G$16)+Param!$G$15,0)+Param!$H$8)+SIN(S$2*$E109-0.5+Param!$H$9))*100000,1),2)>PWallY, $G109*(S$2-Param!$G$16*$E109), "NoWall"), Q109) -> 0.60595711 | T109: =IF(R109="NoWall", IF(TRUNC(MOD((COS(T$2*$D109-0.5+Param!$H$8)+SIN(ROUND($H109*(T$2*$D109-Param!$G$15)+Param!$G$16,0)+Param!$H$9))*1000,1),2)>PwallX, $F109*(T$2-Param!$G$15*$D109), "NoWall"), R109) -> 0.15533149 | U109: =IF(S109="NoWall", IF(TRUNC(MOD((COS(ROUND($I109*(U$2*$E109-Param!$G$16)+Param!$G$15,0)+Param!$H$8)+SIN(U$2*$E109-0.5+Param!$H$9))*100000,1),2)>PWallY, $G109*(U$2-Param!$G$16*$E109), "NoWall"), S109) -> 0.60595711 | V109: =IF(T109="NoWall", IF(TRUNC(MOD((COS(V$2*$D109-0.5+Param!$H$8)+SIN(ROUND($H109*(V$2*$D109-Param!$G$15)+Param!$G$16,0)+Param!$H$9))*1000,1),2)>PwallX, $F109*(V$2-Param!$G$15*$D109), "NoWall"), T109) -> 0.15533149 | W109: =IF(U109="NoWall", IF(TRUNC(MOD((COS(ROUND($I109*(W$2*$E109-Param!$G$16)+Param!$G$15,0)+Param!$H$8)+SIN(W$2*$E109-0.5+Param!$H$9))*100000,1),2)>PWallY, $G109*(W$2-Param!$G$16*$E109), "NoWall"), U109) -> 0.60595711 | X109: =IF(V109="NoWall", IF(TRUNC(MOD((COS(X$2*$D109-0.5+Param!$H$8)+SIN(ROUND($H109*(X$2*$D109-Param!$G$15)+Param!$G$16,0)+Param!$H$9))*1000,1),2)>PwallX, $F109*(X$2-Param!$G$15*$D109), "NoWall"), V109) -> 0.15533149 | Y109: =IF(W109="NoWall", IF(TRUNC(MOD((COS(ROUND($I109*(Y$2*$E109-Param!$G$16)+Param!$G$15,0)+Param!$H$8)+SIN(Y$2*$E109-0.5+Param!$H$9))*100000,1),2)>PWallY, $G109*(Y$2-Param!$G$16*$E109), "NoWall"), W109) -> 0.60595711 | Z109: =IF(X109="NoWall", IF(TRUNC(MOD((COS(Z$2*$D109-0.5+Param!$H$8)+SIN(ROUND($H109*(Z$2*$D109-Param!$G$15)+Param!$G$16,0)+Param!$H$9))*1000,1),2)>PwallX, $F109*(Z$2-Param!$G$15*$D109), "NoWall"), X109) -> 0.15533149 | AA109: =IF(Y109="NoWall", IF(TRUNC(MOD((COS(ROUND($I109*(AA$2*$E109-Param!$G$16)+Param!$G$15,0)+Param!$H$8)+SIN(AA$2*$E109-0.5+Param!$H$9))*100000,1),2)>PWallY, $G109*(AA$2-Param!$G$16*$E109), "NoWall"), Y109) -> 0.60595711 | AB109: =MIN(IF(Z109="NoWall",10000,Z109),IF(AA109="NoWall",10000,AA109)) -> 0.15533149 | AC109: =OFFSET(Ghosts!$C$30,0,A109) -> 11.819477 | AD109: =AND(AC109<4.8,AB109>AC109) -> FALSE
A110: 4 | B110: =MOD(OFFSET(Ghosts!$C$31,0,A110),2*PI()) -> 0.57624696 | C110: =B110*180/PI() -> 33.016519 | D110: =(($B110*2<=PI())+($B110*2>=PI()*3))*2-1 -> 1 | E110: =($B110<=PI())*2-1 -> 1 | F110: =1/MAX(ABS(COS(B110)),0.0001) -> 1.1925866 | G110: =1/MAX(ABS(SIN($B110)),0.0001) -> 1.8352638 | H110: =F110/G110*D110*E110 -> 0.64981757 | I110: =1/H110 -> 1.5388934 | J110: =IF(TRUNC(MOD((COS(J$2*$D110-0.5+Param!$H$8)+SIN(ROUND($H110*(J$2*$D110-Param!$G$15)+Param!$G$16,0)+Param!$H$9))*1000,1),2)>PwallX, $F110*(J$2-Param!$G$15*$D110), "NoWall") -> 0.14865755 | K110: =IF(TRUNC(MOD((COS(ROUND($I110*(K$2*$E110-Param!$G$16)+Param!$G$15,0)+Param!$H$8)+SIN(K$2*$E110-0.5+Param!$H$9))*100000,1),2)>PWallY, $G110*(K$2-Param!$G$16*$E110), "NoWall") -> 0.66355226 | L110: =IF(J110="NoWall", IF(TRUNC(MOD((COS(L$2*$D110-0.5+Param!$H$8)+SIN(ROUND($H110*(L$2*$D110-Param!$G$15)+Param!$G$16,0)+Param!$H$9))*1000,1),2)>PwallX, $F110*(L$2-Param!$G$15*$D110), "NoWall"), J110) -> 0.14865755 | M110: =IF(K110="NoWall", IF(TRUNC(MOD((COS(ROUND($I110*(M$2*$E110-Param!$G$16)+Param!$G$15,0)+Param!$H$8)+SIN(M$2*$E110-0.5+Param!$H$9))*100000,1),2)>PWallY, $G110*(M$2-Param!$G$16*$E110), "NoWall"), K110) -> 0.66355226 | N110: =IF(L110="NoWall", IF(TRUNC(MOD((COS(N$2*$D110-0.5+Param!$H$8)+SIN(ROUND($H110*(N$2*$D110-Param!$G$15)+Param!$G$16,0)+Param!$H$9))*1000,1),2)>PwallX, $F110*(N$2-Param!$G$15*$D110), "NoWall"), L110) -> 0.14865755 | O110: =IF(M110="NoWall", IF(TRUNC(MOD((COS(ROUND($I110*(O$2*$E110-Param!$G$16)+Param!$G$15,0)+Param!$H$8)+SIN(O$2*$E110-0.5+Param!$H$9))*100000,1),2)>PWallY, $G110*(O$2-Param!$G$16*$E110), "NoWall"), M110) -> 0.66355226 | P110: =IF(N110="NoWall", IF(TRUNC(MOD((COS(P$2*$D110-0.5+Param!$H$8)+SIN(ROUND($H110*(P$2*$D110-Param!$G$15)+Param!$G$16,0)+Param!$H$9))*1000,1),2)>PwallX, $F110*(P$2-Param!$G$15*$D110), "NoWall"), N110) -> 0.14865755 | Q110: =IF(O110="NoWall", IF(TRUNC(MOD((COS(ROUND($I110*(Q$2*$E110-Param!$G$16)+Param!$G$15,0)+Param!$H$8)+SIN(Q$2*$E110-0.5+Param!$H$9))*100000,1),2)>PWallY, $G110*(Q$2-Param!$G$16*$E110), "NoWall"), O110) -> 0.66355226 | R110: =IF(P110="NoWall", IF(TRUNC(MOD((COS(R$2*$D110-0.5+Param!$H$8)+SIN(ROUND($H110*(R$2*$D110-Param!$G$15)+Param!$G$16,0)+Param!$H$9))*1000,1),2)>PwallX, $F110*(R$2-Param!$G$15*$D110), "NoWall"), P110) -> 0.14865755 | S110: =IF(Q110="NoWall", IF(TRUNC(MOD((COS(ROUND($I110*(S$2*$E110-Param!$G$16)+Param!$G$15,0)+Param!$H$8)+SIN(S$2*$E110-0.5+Param!$H$9))*100000,1),2)>PWallY, $G110*(S$2-Param!$G$16*$E110), "NoWall"), Q110) -> 0.66355226 | T110: =IF(R110="NoWall", IF(TRUNC(MOD((COS(T$2*$D110-0.5+Param!$H$8)+SIN(ROUND($H110*(T$2*$D110-Param!$G$15)+Param!$G$16,0)+Param!$H$9))*1000,1),2)>PwallX, $F110*(T$2-Param!$G$15*$D110), "NoWall"), R110) -> 0.14865755 | U110: =IF(S110="NoWall", IF(TRUNC(MOD((COS(ROUND($I110*(U$2*$E110-Param!$G$16)+Param!$G$15,0)+Param!$H$8)+SIN(U$2*$E110-0.5+Param!$H$9))*100000,1),2)>PWallY, $G110*(U$2-Param!$G$16*$E110), "NoWall"), S110) -> 0.66355226 | V110: =IF(T110="NoWall", IF(TRUNC(MOD((COS(V$2*$D110-0.5+Param!$H$8)+SIN(ROUND($H110*(V$2*$D110-Param!$G$15)+Param!$G$16,0)+Param!$H$9))*1000,1),2)>PwallX, $F110*(V$2-Param!$G$15*$D110), "NoWall"), T110) -> 0.14865755 | W110: =IF(U110="NoWall", IF(TRUNC(MOD((COS(ROUND($I110*(W$2*$E110-Param!$G$16)+Param!$G$15,0)+Param!$H$8)+SIN(W$2*$E110-0.5+Param!$H$9))*100000,1),2)>PWallY, $G110*(W$2-Param!$G$16*$E110), "NoWall"), U110) -> 0.66355226 | X110: =IF(V110="NoWall", IF(TRUNC(MOD((COS(X$2*$D110-0.5+Param!$H$8)+SIN(ROUND($H110*(X$2*$D110-Param!$G$15)+Param!$G$16,0)+Param!$H$9))*1000,1),2)>PwallX, $F110*(X$2-Param!$G$15*$D110), "NoWall"), V110) -> 0.14865755 | Y110: =IF(W110="NoWall", IF(TRUNC(MOD((COS(ROUND($I110*(Y$2*$E110-Param!$G$16)+Param!$G$15,0)+Param!$H$8)+SIN(Y$2*$E110-0.5+Param!$H$9))*100000,1),2)>PWallY, $G110*(Y$2-Param!$G$16*$E110), "NoWall"), W110) -> 0.66355226 | Z110: =IF(X110="NoWall", IF(TRUNC(MOD((COS(Z$2*$D110-0.5+Param!$H$8)+SIN(ROUND($H110*(Z$2*$D110-Param!$G$15)+Param!$G$16,0)+Param!$H$9))*1000,1),2)>PwallX, $F110*(Z$2-Param!$G$15*$D110), "NoWall"), X110) -> 0.14865755 | AA110: =IF(Y110="NoWall", IF(TRUNC(MOD((COS(ROUND($I110*(AA$2*$E110-Param!$G$16)+Param!$G$15,0)+Param!$H$8)+SIN(AA$2*$E110-0.5+Param!$H$9))*100000,1),2)>PWallY, $G110*(AA$2-Param!$G$16*$E110), "NoWall"), Y110) -> 0.66355226 | AB110: =MIN(IF(Z110="NoWall",10000,Z110),IF(AA110="NoWall",10000,AA110)) -> 0.14865755 | AC110: =OFFSET(Ghosts!$C$30,0,A110) -> 22.708674 | AD110: =AND(AC110<4.8,AB110>AC110) -> FALSE
A111: 5 | B111: =MOD(OFFSET(Ghosts!$C$31,0,A111),2*PI()) -> 1.5586924 | C111: =B111*180/PI() -> 89.306498 | D111: =(($B111*2<=PI())+($B111*2>=PI()*3))*2-1 -> 1 | E111: =($B111<=PI())*2-1 -> 1 | F111: =1/MAX(ABS(COS(B111)),0.0001) -> 82.620071 | G111: =1/MAX(ABS(SIN($B111)),0.0001) -> 1.0000733 | H111: =F111/G111*D111*E111 -> 82.614019 | I111: =1/H111 -> 0.012104483 | J111: =IF(TRUNC(MOD((COS(J$2*$D111-0.5+Param!$H$8)+SIN(ROUND($H111*(J$2*$D111-Param!$G$15)+Param!$G$16,0)+Param!$H$9))*1000,1),2)>PwallX, $F111*(J$2-Param!$G$15*$D111), "NoWall") -> NoWall | K111: =IF(TRUNC(MOD((COS(ROUND($I111*(K$2*$E111-Param!$G$16)+Param!$G$15,0)+Param!$H$8)+SIN(K$2*$E111-0.5+Param!$H$9))*100000,1),2)>PWallY, $G111*(K$2-Param!$G$16*$E111), "NoWall") -> NoWall | L111: =IF(J111="NoWall", IF(TRUNC(MOD((COS(L$2*$D111-0.5+Param!$H$8)+SIN(ROUND($H111*(L$2*$D111-Param!$G$15)+Param!$G$16,0)+Param!$H$9))*1000,1),2)>PwallX, $F111*(L$2-Param!$G$15*$D111), "NoWall"), J111) -> NoWall | M111: =IF(K111="NoWall", IF(TRUNC(MOD((COS(ROUND($I111*(M$2*$E111-Param!$G$16)+Param!$G$15,0)+Param!$H$8)+SIN(M$2*$E111-0.5+Param!$H$9))*100000,1),2)>PWallY, $G111*(M$2-Param!$G$16*$E111), "NoWall"), K111) -> NoWall | N111: =IF(L111="NoWall", IF(TRUNC(MOD((COS(N$2*$D111-0.5+Param!$H$8)+SIN(ROUND($H111*(N$2*$D111-Param!$G$15)+Param!$G$16,0)+Param!$H$9))*1000,1),2)>PwallX, $F111*(N$2-Param!$G$15*$D111), "NoWall"), L111) -> NoWall | O111: =IF(M111="NoWall", IF(TRUNC(MOD((COS(ROUND($I111*(O$2*$E111-Param!$G$16)+Param!$G$15,0)+Param!$H$8)+SIN(O$2*$E111-0.5+Param!$H$9))*100000,1),2)>PWallY, $G111*(O$2-Param!$G$16*$E111), "NoWall"), M111) -> NoWall | P111: =IF(N111="NoWall", IF(TRUNC(MOD((COS(P$2*$D111-0.5+Param!$H$8)+SIN(ROUND($H111*(P$2*$D111-Param!$G$15)+Param!$G$16,0)+Param!$H$9))*1000,1),2)>PwallX, $F111*(P$2-Param!$G$15*$D111), "NoWall"), N111) -> NoWall | Q111: =IF(O111="NoWall", IF(TRUNC(MOD((COS(ROUND($I111*(Q$2*$E111-Param!$G$16)+Param!$G$15,0)+Param!$H$8)+SIN(Q$2*$E111-0.5+Param!$H$9))*100000,1),2)>PWallY, $G111*(Q$2-Param!$G$16*$E111), "NoWall"), O111) -> 3.3618031 | R111: =IF(P111="NoWall", IF(TRUNC(MOD((COS(R$2*$D111-0.5+Param!$H$8)+SIN(ROUND($H111*(R$2*$D111-Param!$G$15)+Param!$G$16,0)+Param!$H$9))*1000,1),2)>PwallX, $F111*(R$2-Param!$G$15*$D111), "NoWall"), P111) -> NoWall | S111: =IF(Q111="NoWall", IF(TRUNC(MOD((COS(ROUND($I111*(S$2*$E111-Param!$G$16)+Param!$G$15,0)+Param!$H$8)+SIN(S$2*$E111-0.5+Param!$H$9))*100000,1),2)>PWallY, $G111*(S$2-Param!$G$16*$E111), "NoWall"), Q111) -> 3.3618031 | T111: =IF(R111="NoWall", IF(TRUNC(MOD((COS(T$2*$D111-0.5+Param!$H$8)+SIN(ROUND($H111*(T$2*$D111-Param!$G$15)+Param!$G$16,0)+Param!$H$9))*1000,1),2)>PwallX, $F111*(T$2-Param!$G$15*$D111), "NoWall"), R111) -> NoWall | U111: =IF(S111="NoWall", IF(TRUNC(MOD((COS(ROUND($I111*(U$2*$E111-Param!$G$16)+Param!$G$15,0)+Param!$H$8)+SIN(U$2*$E111-0.5+Param!$H$9))*100000,1),2)>PWallY, $G111*(U$2-Param!$G$16*$E111), "NoWall"), S111) -> 3.3618031 | V111: =IF(T111="NoWall", IF(TRUNC(MOD((COS(V$2*$D111-0.5+Param!$H$8)+SIN(ROUND($H111*(V$2*$D111-Param!$G$15)+Param!$G$16,0)+Param!$H$9))*1000,1),2)>PwallX, $F111*(V$2-Param!$G$15*$D111), "NoWall"), T111) -> 506.01913 | W111: =IF(U111="NoWall", IF(TRUNC(MOD((COS(ROUND($I111*(W$2*$E111-Param!$G$16)+Param!$G$15,0)+Param!$H$8)+SIN(W$2*$E111-0.5+Param!$H$9))*100000,1),2)>PWallY, $G111*(W$2-Param!$G$16*$E111), "NoWall"), U111) -> 3.3618031 | X111: =IF(V111="NoWall", IF(TRUNC(MOD((COS(X$2*$D111-0.5+Param!$H$8)+SIN(ROUND($H111*(X$2*$D111-Param!$G$15)+Param!$G$16,0)+Param!$H$9))*1000,1),2)>PwallX, $F111*(X$2-Param!$G$15*$D111), "NoWall"), V111) -> 506.01913 | Y111: =IF(W111="NoWall", IF(TRUNC(MOD((COS(ROUND($I111*(Y$2*$E111-Param!$G$16)+Param!$G$15,0)+Param!$H$8)+SIN(Y$2*$E111-0.5+Param!$H$9))*100000,1),2)>PWallY, $G111*(Y$2-Param!$G$16*$E111), "NoWall"), W111) -> 3.3618031 | Z111: =IF(X111="NoWall", IF(TRUNC(MOD((COS(Z$2*$D111-0.5+Param!$H$8)+SIN(ROUND($H111*(Z$2*$D111-Param!$G$15)+Param!$G$16,0)+Param!$H$9))*1000,1),2)>PwallX, $F111*(Z$2-Param!$G$15*$D111), "NoWall"), X111) -> 506.01913 | AA111: =IF(Y111="NoWall", IF(TRUNC(MOD((COS(ROUND($I111*(AA$2*$E111-Param!$G$16)+Param!$G$15,0)+Param!$H$8)+SIN(AA$2*$E111-0.5+Param!$H$9))*100000,1),2)>PWallY, $G111*(AA$2-Param!$G$16*$E111), "NoWall"), Y111) -> 3.3618031 | AB111: =MIN(IF(Z111="NoWall",10000,Z111),IF(AA111="NoWall",10000,AA111)) -> 3.3618031 | AC111: =OFFSET(Ghosts!$C$30,0,A111) -> 11.241159 | AD111: =AND(AC111<4.8,AB111>AC111) -> FALSE
A112: 6 | B112: =MOD(OFFSET(Ghosts!$C$31,0,A112),2*PI()) -> 1.4676773 | C112: =B112*180/PI() -> 84.091715 | D112: =(($B112*2<=PI())+($B112*2>=PI()*3))*2-1 -> 1 | E112: =($B112<=PI())*2-1 -> 1 | F112: =1/MAX(ABS(COS(B112)),0.0001) -> 9.7147393 | G112: =1/MAX(ABS(SIN($B112)),0.0001) -> 1.0053404 | H112: =F112/G112*D112*E112 -> 9.6631341 | I112: =1/H112 -> 0.10348609 | J112: =IF(TRUNC(MOD((COS(J$2*$D112-0.5+Param!$H$8)+SIN(ROUND($H112*(J$2*$D112-Param!$G$15)+Param!$G$16,0)+Param!$H$9))*1000,1),2)>PwallX, $F112*(J$2-Param!$G$15*$D112), "NoWall") -> NoWall | K112: =IF(TRUNC(MOD((COS(ROUND($I112*(K$2*$E112-Param!$G$16)+Param!$G$15,0)+Param!$H$8)+SIN(K$2*$E112-0.5+Param!$H$9))*100000,1),2)>PWallY, $G112*(K$2-Param!$G$16*$E112), "NoWall") -> NoWall | L112: =IF(J112="NoWall", IF(TRUNC(MOD((COS(L$2*$D112-0.5+Param!$H$8)+SIN(ROUND($H112*(L$2*$D112-Param!$G$15)+Param!$G$16,0)+Param!$H$9))*1000,1),2)>PwallX, $F112*(L$2-Param!$G$15*$D112), "NoWall"), J112) -> NoWall | M112: =IF(K112="NoWall", IF(TRUNC(MOD((COS(ROUND($I112*(M$2*$E112-Param!$G$16)+Param!$G$15,0)+Param!$H$8)+SIN(M$2*$E112-0.5+Param!$H$9))*100000,1),2)>PWallY, $G112*(M$2-Param!$G$16*$E112), "NoWall"), K112) -> NoWall | N112: =IF(L112="NoWall", IF(TRUNC(MOD((COS(N$2*$D112-0.5+Param!$H$8)+SIN(ROUND($H112*(N$2*$D112-Param!$G$15)+Param!$G$16,0)+Param!$H$9))*1000,1),2)>PwallX, $F112*(N$2-Param!$G$15*$D112), "NoWall"), L112) -> 20.640434 | O112: =IF(M112="NoWall", IF(TRUNC(MOD((COS(ROUND($I112*(O$2*$E112-Param!$G$16)+Param!$G$15,0)+Param!$H$8)+SIN(O$2*$E112-0.5+Param!$H$9))*100000,1),2)>PWallY, $G112*(O$2-Param!$G$16*$E112), "NoWall"), M112) -> 2.3741686 | P112: =IF(N112="NoWall", IF(TRUNC(MOD((COS(P$2*$D112-0.5+Param!$H$8)+SIN(ROUND($H112*(P$2*$D112-Param!$G$15)+Param!$G$16,0)+Param!$H$9))*1000,1),2)>PwallX, $F112*(P$2-Param!$G$15*$D112), "NoWall"), N112) -> 20.640434 | Q112: =IF(O112="NoWall", IF(TRUNC(MOD((COS(ROUND($I112*(Q$2*$E112-Param!$G$16)+Param!$G$15,0)+Param!$H$8)+SIN(Q$2*$E112-0.5+Param!$H$9))*100000,1),2)>PWallY, $G112*(Q$2-Param!$G$16*$E112), "NoWall"), O112) -> 2.3741686 | R112: =IF(P112="NoWall", IF(TRUNC(MOD((COS(R$2*$D112-0.5+Param!$H$8)+SIN(ROUND($H112*(R$2*$D112-Param!$G$15)+Param!$G$16,0)+Param!$H$9))*1000,1),2)>PwallX, $F112*(R$2-Param!$G$15*$D112), "NoWall"), P112) -> 20.640434 | S112: =IF(Q112="NoWall", IF(TRUNC(MOD((COS(ROUND($I112*(S$2*$E112-Param!$G$16)+Param!$G$15,0)+Param!$H$8)+SIN(S$2*$E112-0.5+Param!$H$9))*100000,1),2)>PWallY, $G112*(S$2-Param!$G$16*$E112), "NoWall"), Q112) -> 2.3741686 | T112: =IF(R112="NoWall", IF(TRUNC(MOD((COS(T$2*$D112-0.5+Param!$H$8)+SIN(ROUND($H112*(T$2*$D112-Param!$G$15)+Param!$G$16,0)+Param!$H$9))*1000,1),2)>PwallX, $F112*(T$2-Param!$G$15*$D112), "NoWall"), R112) -> 20.640434 | U112: =IF(S112="NoWall", IF(TRUNC(MOD((COS(ROUND($I112*(U$2*$E112-Param!$G$16)+Param!$G$15,0)+Param!$H$8)+SIN(U$2*$E112-0.5+Param!$H$9))*100000,1),2)>PWallY, $G112*(U$2-Param!$G$16*$E112), "NoWall"), S112) -> 2.3741686 | V112: =IF(T112="NoWall", IF(TRUNC(MOD((COS(V$2*$D112-0.5+Param!$H$8)+SIN(ROUND($H112*(V$2*$D112-Param!$G$15)+Param!$G$16,0)+Param!$H$9))*1000,1),2)>PwallX, $F112*(V$2-Param!$G$15*$D112), "NoWall"), T112) -> 20.640434 | W112: =IF(U112="NoWall", IF(TRUNC(MOD((COS(ROUND($I112*(W$2*$E112-Param!$G$16)+Param!$G$15,0)+Param!$H$8)+SIN(W$2*$E112-0.5+Param!$H$9))*100000,1),2)>PWallY, $G112*(W$2-Param!$G$16*$E112), "NoWall"), U112) -> 2.3741686 | X112: =IF(V112="NoWall", IF(TRUNC(MOD((COS(X$2*$D112-0.5+Param!$H$8)+SIN(ROUND($H112*(X$2*$D112-Param!$G$15)+Param!$G$16,0)+Param!$H$9))*1000,1),2)>PwallX, $F112*(X$2-Param!$G$15*$D112), "NoWall"), V112) -> 20.640434 | Y112: =IF(W112="NoWall", IF(TRUNC(MOD((COS(ROUND($I112*(Y$2*$E112-Param!$G$16)+Param!$G$15,0)+Param!$H$8)+SIN(Y$2*$E112-0.5+Param!$H$9))*100000,1),2)>PWallY, $G112*(Y$2-Param!$G$16*$E112), "NoWall"), W112) -> 2.3741686 | Z112: =IF(X112="NoWall", IF(TRUNC(MOD((COS(Z$2*$D112-0.5+Param!$H$8)+SIN(ROUND($H112*(Z$2*$D112-Param!$G$15)+Param!$G$16,0)+Param!$H$9))*1000,1),2)>PwallX, $F112*(Z$2-Param!$G$15*$D112), "NoWall"), X112) -> 20.640434 | AA112: =IF(Y112="NoWall", IF(TRUNC(MOD((COS(ROUND($I112*(AA$2*$E112-Param!$G$16)+Param!$G$15,0)+Param!$H$8)+SIN(AA$2*$E112-0.5+Param!$H$9))*100000,1),2)>PWallY, $G112*(AA$2-Param!$G$16*$E112), "NoWall"), Y112) -> 2.3741686 | AB112: =MIN(IF(Z112="NoWall",10000,Z112),IF(AA112="NoWall",10000,AA112)) -> 2.3741686 | AC112: =OFFSET(Ghosts!$C$30,0,A112) -> 5.9651937 | AD112: =AND(AC112<4.8,AB112>AC112) -> FALSE
A113: 7 | B113: =MOD(OFFSET(Ghosts!$C$31,0,A113),2*PI()) -> 4.342769 | C113: =B113*180/PI() -> 248.82234 | D113: =(($B113*2<=PI())+($B113*2>=PI()*3))*2-1 -> -1 | E113: =($B113<=PI())*2-1 -> -1 | F113: =1/MAX(ABS(COS(B113)),0.0001) -> 2.7680811 | G113: =1/MAX(ABS(SIN($B113)),0.0001) -> 1.0724267 | H113: =F113/G113*D113*E113 -> 2.5811379 | I113: =1/H113 -> 0.38742602 | J113: =IF(TRUNC(MOD((COS(J$2*$D113-0.5+Param!$H$8)+SIN(ROUND($H113*(J$2*$D113-Param!$G$15)+Param!$G$16,0)+Param!$H$9))*1000,1),2)>PwallX, $F113*(J$2-Param!$G$15*$D113), "NoWall") -> NoWall | K113: =IF(TRUNC(MOD((COS(ROUND($I113*(K$2*$E113-Param!$G$16)+Param!$G$15,0)+Param!$H$8)+SIN(K$2*$E113-0.5+Param!$H$9))*100000,1),2)>PWallY, $G113*(K$2-Param!$G$16*$E113), "NoWall") -> NoWall | L113: =IF(J113="NoWall", IF(TRUNC(MOD((COS(L$2*$D113-0.5+Param!$H$8)+SIN(ROUND($H113*(L$2*$D113-Param!$G$15)+Param!$G$16,0)+Param!$H$9))*1000,1),2)>PwallX, $F113*(L$2-Param!$G$15*$D113), "NoWall"), J113) -> NoWall | M113: =IF(K113="NoWall", IF(TRUNC(MOD((COS(ROUND($I113*(M$2*$E113-Param!$G$16)+Param!$G$15,0)+Param!$H$8)+SIN(M$2*$E113-0.5+Param!$H$9))*100000,1),2)>PWallY, $G113*(M$2-Param!$G$16*$E113), "NoWall"), K113) -> 1.7571101 | N113: =IF(L113="NoWall", IF(TRUNC(MOD((COS(N$2*$D113-0.5+Param!$H$8)+SIN(ROUND($H113*(N$2*$D113-Param!$G$15)+Param!$G$16,0)+Param!$H$9))*1000,1),2)>PwallX, $F113*(N$2-Param!$G$15*$D113), "NoWall"), L113) -> NoWall | O113: =IF(M113="NoWall", IF(TRUNC(MOD((COS(ROUND($I113*(O$2*$E113-Param!$G$16)+Param!$G$15,0)+Param!$H$8)+SIN(O$2*$E113-0.5+Param!$H$9))*100000,1),2)>PWallY, $G113*(O$2-Param!$G$16*$E113), "NoWall"), M113) -> 1.7571101 | P113: =IF(N113="NoWall", IF(TRUNC(MOD((COS(P$2*$D113-0.5+Param!$H$8)+SIN(ROUND($H113*(P$2*$D113-Param!$G$15)+Param!$G$16,0)+Param!$H$9))*1000,1),2)>PwallX, $F113*(P$2-Param!$G$15*$D113), "NoWall"), N113) -> 10.727279 | Q113: =IF(O113="NoWall", IF(TRUNC(MOD((COS(ROUND($I113*(Q$2*$E113-Param!$G$16)+Param!$G$15,0)+Param!$H$8)+SIN(Q$2*$E113-0.5+Param!$H$9))*100000,1),2)>PWallY, $G113*(Q$2-Param!$G$16*$E113), "NoWall"), O113) -> 1.7571101 | R113: =IF(P113="NoWall", IF(TRUNC(MOD((COS(R$2*$D113-0.5+Param!$H$8)+SIN(ROUND($H113*(R$2*$D113-Param!$G$15)+Param!$G$16,0)+Param!$H$9))*1000,1),2)>PwallX, $F113*(R$2-Param!$G$15*$D113), "NoWall"), P113) -> 10.727279 | S113: =IF(Q113="NoWall", IF(TRUNC(MOD((COS(ROUND($I113*(S$2*$E113-Param!$G$16)+Param!$G$15,0)+Param!$H$8)+SIN(S$2*$E113-0.5+Param!$H$9))*100000,1),2)>PWallY, $G113*(S$2-Param!$G$16*$E113), "NoWall"), Q113) -> 1.7571101 | T113: =IF(R113="NoWall", IF(TRUNC(MOD((COS(T$2*$D113-0.5+Param!$H$8)+SIN(ROUND($H113*(T$2*$D113-Param!$G$15)+Param!$G$16,0)+Param!$H$9))*1000,1),2)>PwallX, $F113*(T$2-Param!$G$15*$D113), "NoWall"), R113) -> 10.727279 | U113: =IF(S113="NoWall", IF(TRUNC(MOD((COS(ROUND($I113*(U$2*$E113-Param!$G$16)+Param!$G$15,0)+Param!$H$8)+SIN(U$2*$E113-0.5+Param!$H$9))*100000,1),2)>PWallY, $G113*(U$2-Param!$G$16*$E113), "NoWall"), S113) -> 1.7571101 | V113: =IF(T113="NoWall", IF(TRUNC(MOD((COS(V$2*$D113-0.5+Param!$H$8)+SIN(ROUND($H113*(V$2*$D113-Param!$G$15)+Param!$G$16,0)+Param!$H$9))*1000,1),2)>PwallX, $F113*(V$2-Param!$G$15*$D113), "NoWall"), T113) -> 10.727279 | W113: =IF(U113="NoWall", IF(TRUNC(MOD((COS(ROUND($I113*(W$2*$E113-Param!$G$16)+Param!$G$15,0)+Param!$H$8)+SIN(W$2*$E113-0.5+Param!$H$9))*100000,1),2)>PWallY, $G113*(W$2-Param!$G$16*$E113), "NoWall"), U113) -> 1.7571101 | X113: =IF(V113="NoWall", IF(TRUNC(MOD((COS(X$2*$D113-0.5+Param!$H$8)+SIN(ROUND($H113*(X$2*$D113-Param!$G$15)+Param!$G$16,0)+Param!$H$9))*1000,1),2)>PwallX, $F113*(X$2-Param!$G$15*$D113), "NoWall"), V113) -> 10.727279 | Y113: =IF(W113="NoWall", IF(TRUNC(MOD((COS(ROUND($I113*(Y$2*$E113-Param!$G$16)+Param!$G$15,0)+Param!$H$8)+SIN(Y$2*$E113-0.5+Param!$H$9))*100000,1),2)>PWallY, $G113*(Y$2-Param!$G$16*$E113), "NoWall"), W113) -> 1.7571101 | Z113: =IF(X113="NoWall", IF(TRUNC(MOD((COS(Z$2*$D113-0.5+Param!$H$8)+SIN(ROUND($H113*(Z$2*$D113-Param!$G$15)+Param!$G$16,0)+Param!$H$9))*1000,1),2)>PwallX, $F113*(Z$2-Param!$G$15*$D113), "NoWall"), X113) -> 10.727279 | AA113: =IF(Y113="NoWall", IF(TRUNC(MOD((COS(ROUND($I113*(AA$2*$E113-Param!$G$16)+Param!$G$15,0)+Param!$H$8)+SIN(AA$2*$E113-0.5+Param!$H$9))*100000,1),2)>PWallY, $G113*(AA$2-Param!$G$16*$E113), "NoWall"), Y113) -> 1.7571101 | AB113: =MIN(IF(Z113="NoWall",10000,Z113),IF(AA113="NoWall",10000,AA113)) -> 1.7571101 | AC113: =OFFSET(Ghosts!$C$30,0,A113) -> 2.8962165 | AD113: =AND(AC113<4.8,AB113>AC113) -> FALSE
A114: 8 | B114: =MOD(OFFSET(Ghosts!$C$31,0,A114),2*PI()) -> 2.2937841 | C114: =B114*180/PI() -> 131.42415 | D114: =(($B114*2<=PI())+($B114*2>=PI()*3))*2-1 -> -1 | E114: =($B114<=PI())*2-1 -> 1 | F114: =1/MAX(ABS(COS(B114)),0.0001) -> 1.5114234 | G114: =1/MAX(ABS(SIN($B114)),0.0001) -> 1.3336316 | H114: =F114/G114*D114*E114 -> -1.1333141 | I114: =1/H114 -> -0.88236793 | J114: =IF(TRUNC(MOD((COS(J$2*$D114-0.5+Param!$H$8)+SIN(ROUND($H114*(J$2*$D114-Param!$G$15)+Param!$G$16,0)+Param!$H$9))*1000,1),2)>PwallX, $F114*(J$2-Param!$G$15*$D114), "NoWall") -> NoWall | K114: =IF(TRUNC(MOD((COS(ROUND($I114*(K$2*$E114-Param!$G$16)+Param!$G$15,0)+Param!$H$8)+SIN(K$2*$E114-0.5+Param!$H$9))*100000,1),2)>PWallY, $G114*(K$2-Param!$G$16*$E114), "NoWall") -> NoWall | L114: =IF(J114="NoWall", IF(TRUNC(MOD((COS(L$2*$D114-0.5+Param!$H$8)+SIN(ROUND($H114*(L$2*$D114-Param!$G$15)+Param!$G$16,0)+Param!$H$9))*1000,1),2)>PwallX, $F114*(L$2-Param!$G$15*$D114), "NoWall"), J114) -> NoWall | M114: =IF(K114="NoWall", IF(TRUNC(MOD((COS(ROUND($I114*(M$2*$E114-Param!$G$16)+Param!$G$15,0)+Param!$H$8)+SIN(M$2*$E114-0.5+Param!$H$9))*100000,1),2)>PWallY, $G114*(M$2-Param!$G$16*$E114), "NoWall"), K114) -> NoWall | N114: =IF(L114="NoWall", IF(TRUNC(MOD((COS(N$2*$D114-0.5+Param!$H$8)+SIN(ROUND($H114*(N$2*$D114-Param!$G$15)+Param!$G$16,0)+Param!$H$9))*1000,1),2)>PwallX, $F114*(N$2-Param!$G$15*$D114), "NoWall"), L114) -> NoWall | O114: =IF(M114="NoWall", IF(TRUNC(MOD((COS(ROUND($I114*(O$2*$E114-Param!$G$16)+Param!$G$15,0)+Param!$H$8)+SIN(O$2*$E114-0.5+Param!$H$9))*100000,1),2)>PWallY, $G114*(O$2-Param!$G$16*$E114), "NoWall"), M114) -> NoWall | P114: =IF(N114="NoWall", IF(TRUNC(MOD((COS(P$2*$D114-0.5+Param!$H$8)+SIN(ROUND($H114*(P$2*$D114-Param!$G$15)+Param!$G$16,0)+Param!$H$9))*1000,1),2)>PwallX, $F114*(P$2-Param!$G$15*$D114), "NoWall"), N114) -> 5.8572928 | Q114: =IF(O114="NoWall", IF(TRUNC(MOD((COS(ROUND($I114*(Q$2*$E114-Param!$G$16)+Param!$G$15,0)+Param!$H$8)+SIN(Q$2*$E114-0.5+Param!$H$9))*100000,1),2)>PWallY, $G114*(Q$2-Param!$G$16*$E114), "NoWall"), O114) -> NoWall | R114: =IF(P114="NoWall", IF(TRUNC(MOD((COS(R$2*$D114-0.5+Param!$H$8)+SIN(ROUND($H114*(R$2*$D114-Param!$G$15)+Param!$G$16,0)+Param!$H$9))*1000,1),2)>PwallX, $F114*(R$2-Param!$G$15*$D114), "NoWall"), P114) -> 5.8572928 | S114: =IF(Q114="NoWall", IF(TRUNC(MOD((COS(ROUND($I114*(S$2*$E114-Param!$G$16)+Param!$G$15,0)+Param!$H$8)+SIN(S$2*$E114-0.5+Param!$H$9))*100000,1),2)>PWallY, $G114*(S$2-Param!$G$16*$E114), "NoWall"), Q114) -> NoWall | T114: =IF(R114="NoWall", IF(TRUNC(MOD((COS(T$2*$D114-0.5+Param!$H$8)+SIN(ROUND($H114*(T$2*$D114-Param!$G$15)+Param!$G$16,0)+Param!$H$9))*1000,1),2)>PwallX, $F114*(T$2-Param!$G$15*$D114), "NoWall"), R114) -> 5.8572928 | U114: =IF(S114="NoWall", IF(TRUNC(MOD((COS(ROUND($I114*(U$2*$E114-Param!$G$16)+Param!$G$15,0)+Param!$H$8)+SIN(U$2*$E114-0.5+Param!$H$9))*100000,1),2)>PWallY, $G114*(U$2-Param!$G$16*$E114), "NoWall"), S114) -> NoWall | V114: =IF(T114="NoWall", IF(TRUNC(MOD((COS(V$2*$D114-0.5+Param!$H$8)+SIN(ROUND($H114*(V$2*$D114-Param!$G$15)+Param!$G$16,0)+Param!$H$9))*1000,1),2)>PwallX, $F114*(V$2-Param!$G$15*$D114), "NoWall"), T114) -> 5.8572928 | W114: =IF(U114="NoWall", IF(TRUNC(MOD((COS(ROUND($I114*(W$2*$E114-Param!$G$16)+Param!$G$15,0)+Param!$H$8)+SIN(W$2*$E114-0.5+Param!$H$9))*100000,1),2)>PWallY, $G114*(W$2-Param!$G$16*$E114), "NoWall"), U114) -> NoWall | X114: =IF(V114="NoWall", IF(TRUNC(MOD((COS(X$2*$D114-0.5+Param!$H$8)+SIN(ROUND($H114*(X$2*$D114-Param!$G$15)+Param!$G$16,0)+Param!$H$9))*1000,1),2)>PwallX, $F114*(X$2-Param!$G$15*$D114), "NoWall"), V114) -> 5.8572928 | Y114: =IF(W114="NoWall", IF(TRUNC(MOD((COS(ROUND($I114*(Y$2*$E114-Param!$G$16)+Param!$G$15,0)+Param!$H$8)+SIN(Y$2*$E114-0.5+Param!$H$9))*100000,1),2)>PWallY, $G114*(Y$2-Param!$G$16*$E114), "NoWall"), W114) -> 9.8176047 | Z114: =IF(X114="NoWall", IF(TRUNC(MOD((COS(Z$2*$D114-0.5+Param!$H$8)+SIN(ROUND($H114*(Z$2*$D114-Param!$G$15)+Param!$G$16,0)+Param!$H$9))*1000,1),2)>PwallX, $F114*(Z$2-Param!$G$15*$D114), "NoWall"), X114) -> 5.8572928 | AA114: =IF(Y114="NoWall", IF(TRUNC(MOD((COS(ROUND($I114*(AA$2*$E114-Param!$G$16)+Param!$G$15,0)+Param!$H$8)+SIN(AA$2*$E114-0.5+Param!$H$9))*100000,1),2)>PWallY, $G114*(AA$2-Param!$G$16*$E114), "NoWall"), Y114) -> 9.8176047 | AB114: =MIN(IF(Z114="NoWall",10000,Z114),IF(AA114="NoWall",10000,AA114)) -> 5.8572928 | AC114: =OFFSET(Ghosts!$C$30,0,A114) -> 12.980904 | AD114: =AND(AC114<4.8,AB114>AC114) -> FALSE
A115: 9 | B115: =MOD(OFFSET(Ghosts!$C$31,0,A115),2*PI()) -> 2.5134297 | C115: =B115*180/PI() -> 144.00891 | D115: =(($B115*2<=PI())+($B115*2>=PI()*3))*2-1 -> -1 | E115: =($B115<=PI())*2-1 -> 1 | F115: =1/MAX(ABS(COS(B115)),0.0001) -> 1.2359283 | G115: =1/MAX(ABS(SIN($B115)),0.0001) -> 1.701666 | H115: =F115/G115*D115*E115 -> -0.72630487 | I115: =1/H115 -> -1.3768323 | J115: =IF(TRUNC(MOD((COS(J$2*$D115-0.5+Param!$H$8)+SIN(ROUND($H115*(J$2*$D115-Param!$G$15)+Param!$G$16,0)+Param!$H$9))*1000,1),2)>PwallX, $F115*(J$2-Param!$G$15*$D115), "NoWall") -> NoWall | K115: =IF(TRUNC(MOD((COS(ROUND($I115*(K$2*$E115-Param!$G$16)+Param!$G$15,0)+Param!$H$8)+SIN(K$2*$E115-0.5+Param!$H$9))*100000,1),2)>PWallY, $G115*(K$2-Param!$G$16*$E115), "NoWall") -> NoWall | L115: =IF(J115="NoWall", IF(TRUNC(MOD((COS(L$2*$D115-0.5+Param!$H$8)+SIN(ROUND($H115*(L$2*$D115-Param!$G$15)+Param!$G$16,0)+Param!$H$9))*1000,1),2)>PwallX, $F115*(L$2-Param!$G$15*$D115), "NoWall"), J115) -> NoWall | M115: =IF(K115="NoWall", IF(TRUNC(MOD((COS(ROUND($I115*(M$2*$E115-Param!$G$16)+Param!$G$15,0)+Param!$H$8)+SIN(M$2*$E115-0.5+Param!$H$9))*100000,1),2)>PWallY, $G115*(M$2-Param!$G$16*$E115), "NoWall"), K115) -> NoWall | N115: =IF(L115="NoWall", IF(TRUNC(MOD((COS(N$2*$D115-0.5+Param!$H$8)+SIN(ROUND($H115*(N$2*$D115-Param!$G$15)+Param!$G$16,0)+Param!$H$9))*1000,1),2)>PwallX, $F115*(N$2-Param!$G$15*$D115), "NoWall"), L115) -> 3.5537248 | O115: =IF(M115="NoWall", IF(TRUNC(MOD((COS(ROUND($I115*(O$2*$E115-Param!$G$16)+Param!$G$15,0)+Param!$H$8)+SIN(O$2*$E115-0.5+Param!$H$9))*100000,1),2)>PWallY, $G115*(O$2-Param!$G$16*$E115), "NoWall"), M115) -> NoWall | P115: =IF(N115="NoWall", IF(TRUNC(MOD((COS(P$2*$D115-0.5+Param!$H$8)+SIN(ROUND($H115*(P$2*$D115-Param!$G$15)+Param!$G$16,0)+Param!$H$9))*1000,1),2)>PwallX, $F115*(P$2-Param!$G$15*$D115), "NoWall"), N115) -> 3.5537248 | Q115: =IF(O115="NoWall", IF(TRUNC(MOD((COS(ROUND($I115*(Q$2*$E115-Param!$G$16)+Param!$G$15,0)+Param!$H$8)+SIN(Q$2*$E115-0.5+Param!$H$9))*100000,1),2)>PWallY, $G115*(Q$2-Param!$G$16*$E115), "NoWall"), O115) -> NoWall | R115: =IF(P115="NoWall", IF(TRUNC(MOD((COS(R$2*$D115-0.5+Param!$H$8)+SIN(ROUND($H115*(R$2*$D115-Param!$G$15)+Param!$G$16,0)+Param!$H$9))*1000,1),2)>PwallX, $F115*(R$2-Param!$G$15*$D115), "NoWall"), P115) -> 3.5537248 | S115: =IF(Q115="NoWall", IF(TRUNC(MOD((COS(ROUND($I115*(S$2*$E115-Param!$G$16)+Param!$G$15,0)+Param!$H$8)+SIN(S$2*$E115-0.5+Param!$H$9))*100000,1),2)>PWallY, $G115*(S$2-Param!$G$16*$E115), "NoWall"), Q115) -> NoWall | T115: =IF(R115="NoWall", IF(TRUNC(MOD((COS(T$2*$D115-0.5+Param!$H$8)+SIN(ROUND($H115*(T$2*$D115-Param!$G$15)+Param!$G$16,0)+Param!$H$9))*1000,1),2)>PwallX, $F115*(T$2-Param!$G$15*$D115), "NoWall"), R115) -> 3.5537248 | U115: =IF(S115="NoWall", IF(TRUNC(MOD((COS(ROUND($I115*(U$2*$E115-Param!$G$16)+Param!$G$15,0)+Param!$H$8)+SIN(U$2*$E115-0.5+Param!$H$9))*100000,1),2)>PWallY, $G115*(U$2-Param!$G$16*$E115), "NoWall"), S115) -> 9.123579 | V115: =IF(T115="NoWall", IF(TRUNC(MOD((COS(V$2*$D115-0.5+Param!$H$8)+SIN(ROUND($H115*(V$2*$D115-Param!$G$15)+Param!$G$16,0)+Param!$H$9))*1000,1),2)>PwallX, $F115*(V$2-Param!$G$15*$D115), "NoWall"), T115) -> 3.5537248 | W115: =IF(U115="NoWall", IF(TRUNC(MOD((COS(ROUND($I115*(W$2*$E115-Param!$G$16)+Param!$G$15,0)+Param!$H$8)+SIN(W$2*$E115-0.5+Param!$H$9))*100000,1),2)>PWallY, $G115*(W$2-Param!$G$16*$E115), "NoWall"), U115) -> 9.123579 | X115: =IF(V115="NoWall", IF(TRUNC(MOD((COS(X$2*$D115-0.5+Param!$H$8)+SIN(ROUND($H115*(X$2*$D115-Param!$G$15)+Param!$G$16,0)+Param!$H$9))*1000,1),2)>PwallX, $F115*(X$2-Param!$G$15*$D115), "NoWall"), V115) -> 3.5537248 | Y115: =IF(W115="NoWall", IF(TRUNC(MOD((COS(ROUND($I115*(Y$2*$E115-Param!$G$16)+Param!$G$15,0)+Param!$H$8)+SIN(Y$2*$E115-0.5+Param!$H$9))*100000,1),2)>PWallY, $G115*(Y$2-Param!$G$16*$E115), "NoWall"), W115) -> 9.123579 | Z115: =IF(X115="NoWall", IF(TRUNC(MOD((COS(Z$2*$D115-0.5+Param!$H$8)+SIN(ROUND($H115*(Z$2*$D115-Param!$G$15)+Param!$G$16,0)+Param!$H$9))*1000,1),2)>PwallX, $F115*(Z$2-Param!$G$15*$D115), "NoWall"), X115) -> 3.5537248 | AA115: =IF(Y115="NoWall", IF(TRUNC(MOD((COS(ROUND($I115*(AA$2*$E115-Param!$G$16)+Param!$G$15,0)+Param!$H$8)+SIN(AA$2*$E115-0.5+Param!$H$9))*100000,1),2)>PWallY, $G115*(AA$2-Param!$G$16*$E115), "NoWall"), Y115) -> 9.123579 | AB115: =MIN(IF(Z115="NoWall",10000,Z115),IF(AA115="NoWall",10000,AA115)) -> 3.5537248 | AC115: =OFFSET(Ghosts!$C$30,0,A115) -> 20.644882 | AD115: =AND(AC115<4.8,AB115>AC115) -> FALSE
A116: 10 | B116: =MOD(OFFSET(Ghosts!$C$31,0,A116),2*PI()) -> 4.1941154 | C116: =B116*180/PI() -> 240.30511 | D116: =(($B116*2<=PI())+($B116*2>=PI()*3))*2-1 -> -1 | E116: =($B116<=PI())*2-1 -> -1 | F116: =1/MAX(ABS(COS(B116)),0.0001) -> 2.0186475 | G116: =1/MAX(ABS(SIN($B116)),0.0001) -> 1.1511776 | H116: =F116/G116*D116*E116 -> 1.7535501 | I116: =1/H116 -> 0.57027172 | J116: =IF(TRUNC(MOD((COS(J$2*$D116-0.5+Param!$H$8)+SIN(ROUND($H116*(J$2*$D116-Param!$G$15)+Param!$G$16,0)+Param!$H$9))*1000,1),2)>PwallX, $F116*(J$2-Param!$G$15*$D116), "NoWall") -> 1.7670203 | K116: =IF(TRUNC(MOD((COS(ROUND($I116*(K$2*$E116-Param!$G$16)+Param!$G$15,0)+Param!$H$8)+SIN(K$2*$E116-0.5+Param!$H$9))*100000,1),2)>PWallY, $G116*(K$2-Param!$G$16*$E116), "NoWall") -> NoWall | L116: =IF(J116="NoWall", IF(TRUNC(MOD((COS(L$2*$D116-0.5+Param!$H$8)+SIN(ROUND($H116*(L$2*$D116-Param!$G$15)+Param!$G$16,0)+Param!$H$9))*1000,1),2)>PwallX, $F116*(L$2-Param!$G$15*$D116), "NoWall"), J116) -> 1.7670203 | M116: =IF(K116="NoWall", IF(TRUNC(MOD((COS(ROUND($I116*(M$2*$E116-Param!$G$16)+Param!$G$15,0)+Param!$H$8)+SIN(M$2*$E116-0.5+Param!$H$9))*100000,1),2)>PWallY, $G116*(M$2-Param!$G$16*$E116), "NoWall"), K116) -> 1.886139 | N116: =IF(L116="NoWall", IF(TRUNC(MOD((COS(N$2*$D116-0.5+Param!$H$8)+SIN(ROUND($H116*(N$2*$D116-Param!$G$15)+Param!$G$16,0)+Param!$H$9))*1000,1),2)>PwallX, $F116*(N$2-Param!$G$15*$D116), "NoWall"), L116) -> 1.7670203 | O116: =IF(M116="NoWall", IF(TRUNC(MOD((COS(ROUND($I116*(O$2*$E116-Param!$G$16)+Param!$G$15,0)+Param!$H$8)+SIN(O$2*$E116-0.5+Param!$H$9))*100000,1),2)>PWallY, $G116*(O$2-Param!$G$16*$E116), "NoWall"), M116) -> 1.886139 | P116: =IF(N116="NoWall", IF(TRUNC(MOD((COS(P$2*$D116-0.5+Param!$H$8)+SIN(ROUND($H116*(P$2*$D116-Param!$G$15)+Param!$G$16,0)+Param!$H$9))*1000,1),2)>PwallX, $F116*(P$2-Param!$G$15*$D116), "NoWall"), N116) -> 1.7670203 | Q116: =IF(O116="NoWall", IF(TRUNC(MOD((COS(ROUND($I116*(Q$2*$E116-Param!$G$16)+Param!$G$15,0)+Param!$H$8)+SIN(Q$2*$E116-0.5+Param!$H$9))*100000,1),2)>PWallY, $G116*(Q$2-Param!$G$16*$E116), "NoWall"), O116) -> 1.886139 | R116: =IF(P116="NoWall", IF(TRUNC(MOD((COS(R$2*$D116-0.5+Param!$H$8)+SIN(ROUND($H116*(R$2*$D116-Param!$G$15)+Param!$G$16,0)+Param!$H$9))*1000,1),2)>PwallX, $F116*(R$2-Param!$G$15*$D116), "NoWall"), P116) -> 1.7670203 | S116: =IF(Q116="NoWall", IF(TRUNC(MOD((COS(ROUND($I116*(S$2*$E116-Param!$G$16)+Param!$G$15,0)+Param!$H$8)+SIN(S$2*$E116-0.5+Param!$H$9))*100000,1),2)>PWallY, $G116*(S$2-Param!$G$16*$E116), "NoWall"), Q116) -> 1.886139 | T116: =IF(R116="NoWall", IF(TRUNC(MOD((COS(T$2*$D116-0.5+Param!$H$8)+SIN(ROUND($H116*(T$2*$D116-Param!$G$15)+Param!$G$16,0)+Param!$H$9))*1000,1),2)>PwallX, $F116*(T$2-Param!$G$15*$D116), "NoWall"), R116) -> 1.7670203 | U116: =IF(S116="NoWall", IF(TRUNC(MOD((COS(ROUND($I116*(U$2*$E116-Param!$G$16)+Param!$G$15,0)+Param!$H$8)+SIN(U$2*$E116-0.5+Param!$H$9))*100000,1),2)>PWallY, $G116*(U$2-Param!$G$16*$E116), "NoWall"), S116) -> 1.886139 | V116: =IF(T116="NoWall", IF(TRUNC(MOD((COS(V$2*$D116-0.5+Param!$H$8)+SIN(ROUND($H116*(V$2*$D116-Param!$G$15)+Param!$G$16,0)+Param!$H$9))*1000,1),2)>PwallX, $F116*(V$2-Param!$G$15*$D116), "NoWall"), T116) -> 1.7670203 | W116: =IF(U116="NoWall", IF(TRUNC(MOD((COS(ROUND($I116*(W$2*$E116-Param!$G$16)+Param!$G$15,0)+Param!$H$8)+SIN(W$2*$E116-0.5+Param!$H$9))*100000,1),2)>PWallY, $G116*(W$2-Param!$G$16*$E116), "NoWall"), U116) -> 1.886139 | X116: =IF(V116="NoWall", IF(TRUNC(MOD((COS(X$2*$D116-0.5+Param!$H$8)+SIN(ROUND($H116*(X$2*$D116-Param!$G$15)+Param!$G$16,0)+Param!$H$9))*1000,1),2)>PwallX, $F116*(X$2-Param!$G$15*$D116), "NoWall"), V116) -> 1.7670203 | Y116: =IF(W116="NoWall", IF(TRUNC(MOD((COS(ROUND($I116*(Y$2*$E116-Param!$G$16)+Param!$G$15,0)+Param!$H$8)+SIN(Y$2*$E116-0.5+Param!$H$9))*100000,1),2)>PWallY, $G116*(Y$2-Param!$G$16*$E116), "NoWall"), W116) -> 1.886139 | Z116: =IF(X116="NoWall", IF(TRUNC(MOD((COS(Z$2*$D116-0.5+Param!$H$8)+SIN(ROUND($H116*(Z$2*$D116-Param!$G$15)+Param!$G$16,0)+Param!$H$9))*1000,1),2)>PwallX, $F116*(Z$2-Param!$G$15*$D116), "NoWall"), X116) -> 1.7670203 | AA116: =IF(Y116="NoWall", IF(TRUNC(MOD((COS(ROUND($I116*(AA$2*$E116-Param!$G$16)+Param!$G$15,0)+Param!$H$8)+SIN(AA$2*$E116-0.5+Param!$H$9))*100000,1),2)>PWallY, $G116*(AA$2-Param!$G$16*$E116), "NoWall"), Y116) -> 1.886139 | AB116: =MIN(IF(Z116="NoWall",10000,Z116),IF(AA116="NoWall",10000,AA116)) -> 1.7670203 | AC116: =OFFSET(Ghosts!$C$30,0,A116) -> 13.050821 | AD116: =AND(AC116<4.8,AB116>AC116) -> FALSE

Sheet Ghosts
A1: =POWER(2,2/3) -> 1.5874011 | B1: Ghost Generator | D1: Ghost#1 | E1: Ghost#2 | F1: Ghost#3 | G1: Ghost#4 | H1: Ghost#5 | I1: Ghost#6 | J1: Ghost#7 | K1: Ghost#8 | L1: Ghost#9 | M1: Ghost#10
A2: 16 | B2: =(RAND()+1,5)*F2 | C2: kx1 | D2: 24.66969 | E2: 28.10817 | F2: 32.6858 | G2: 32.610934 | H2: 25.311316 | I2: 36.804837 | J2: 35.569059 | K2: 35.426301 | L2: 25.766191 | M2: 27.316058
A3: 16 | B3: =(RAND()+1,5)*F3 | C3: ky1 | D3: 27.996777 | E3: 39.471751 | F3: 31.454911 | G3: 35.472974 | H3: 33.968168 | I3: 30.506255 | J3: 25.144267 | K3: 26.112958 | L3: 29.248882 | M3: 32.436067
A4: =A2/A$1 -> 10.079368 | B4: =(RAND()+1,5)*F4 | C4: kx2 | D4: 18.590724 | E4: 18.514846 | F4: 18.045369 | G4: 18.517712 | H4: 22.37384 | I4: 15.484053 | J4: 23.924466 | K4: 24.286737 | L4: 22.111555 | M4: 17.47526
A5: =A3/A$1 -> 10.079368 | B5: =(RAND()+1,5)*F5 | C5: ky2 | D5: 16.772485 | E5: 23.451272 | F5: 15.314941 | G5: 23.248123 | H5: 23.455687 | I5: 24.260629 | J5: 19.078753 | K5: 19.728362 | L5: 23.979834 | M5: 24.23735
A6: =A4/A$1 -> 6.3496042 | B6: =(RAND()+1,5)*F6 | C6: kx3 | D6: 12.49269 | E6: 10.967023 | F6: 11.090429 | G6: 13.058918 | H6: 14.642752 | I6: 9.8917785 | J6: 12.769586 | K6: 13.183137 | L6: 10.522486 | M6: 13.926297
A7: =A5/A$1 -> 6.3496042 | B7: =(RAND()+1,5)*F7 | C7: ky3 | D7: 10.203931 | E7: 14.202177 | F7: 11.967812 | G7: 10.945487 | H7: 14.961838 | I7: 15.090431 | J7: 12.32982 | K7: 15.303274 | L7: 15.524389 | M7: 12.044723
A8: =A6/A$1 -> 4 | B8: =(RAND()+1,5)*F8 | C8: kx4 | D8: 9.6897286 | E8: 8.7470605 | F8: 7.828241 | G8: 9.6660557 | H8: 8.6156895 | I8: 8.4702326 | J8: 7.0341857 | K8: 8.3357935 | L8: 8.8686548 | M8: 6.0051217
A9: =A7/A$1 -> 4 | B9: =(RAND()+1,5)*F9 | C9: ky4 | D9: 8.0285024 | E9: 6.0402792 | F9: 6.7317074 | G9: 9.8160063 | H9: 9.6430651 | I9: 8.2653329 | J9: 9.8843881 | K9: 6.254231 | L9: 9.9397472 | M9: 8.2649875
A10: =A8/A$1 -> 2.5198421 | B10: =(RAND()+1,5)*F10 | C10: kx5 | D10: 6.2798873 | E10: 3.8725682 | F10: 4.4684749 | G10: 3.8634257 | H10: 4.6194824 | I10: 6.097462 | J10: 6.0392517 | K10: 5.6541302 | L10: 4.829359 | M10: 4.3904393
A11: =A9/A$1 -> 2.5198421 | B11: =(RAND()+1,5)*F11 | C11: ky5 | D11: 4.971983 | E11: 5.5330497 | F11: 4.2327779 | G11: 5.2852932 | H11: 4.644696 | I11: 4.0441433 | J11: 5.9996757 | K11: 6.1805945 | L11: 5.872098 | M11: 5.8805681
A12: =A10/A$1 -> 1.5874011 | B12: =(RAND()+1,5)*F12 | C12: kx6 | D12: 2.8025045 | E12: 2.6761485 | F12: 2.4208555 | G12: 2.9568661 | H12: 3.739123 | I12: 3.1848787 | J12: 3.7488408 | K12: 2.791374 | L12: 3.8528067 | M12: 3.1156881
A13: =A11/A$1 -> 1.5874011 | B13: =(RAND()+1,5)*F13 | C13: ky6 | D13: 2.4314547 | E13: 3.0938545 | F13: 3.7435228 | G13: 2.3899766 | H13: 2.888942 | I13: 2.5127129 | J13: 2.830576 | K13: 3.2626514 | L13: 3.191526 | M13: 3.5938311
A14: =A12/A$1 -> 1 | B14: =(RAND()+1,5)*F14 | C14: kx7 | D14: 1.5643641 | E14: 2.4656932 | F14: 1.6359043 | G14: 1.8881749 | H14: 2.4385747 | I14: 1.7282829 | J14: 2.448503 | K14: 2.4078765 | L14: 2.0061199 | M14: 2.2961616
A15: =A13/A$1 -> 1 | B15: =(RAND()+1,5)*F15 | C15: ky7 | D15: 2.1873013 | E15: 1.8028606 | F15: 2.3613922 | G15: 1.910253 | H15: 1.8440271 | I15: 1.5887467 | J15: 1.7933446 | K15: 1.7813782 | L15: 1.9469153 | M15: 2.0839146
... A23: =A21/A$1 -> 0.15749013 | B23: =(RAND()+1,5)*F23 | C23: ky11 | D23: 0.33958697 | E23: 0.31353689 | F23: 0.36398173 | G23: 0.27487093 | H23: 0.32576184 | I23: 0.33638534 | J23: 0.37611975 | K23: 0.32772643 | L23: 0.29463869 | M23: 0.27920398
B24: =RAND()*2+9 | C24: speed | D24: 9.2208901 | E24: 9.0556003 | F24: 10.099181 | G24: 10.316581 | H24: 9.4461123 | I24: 9.8205421 | J24: 9.7930062 | K24: 10.800405 | L24: 10.235395 | M24: 10.960715
B25: =RAND()*5000 | C25: offset x | D25: 513.18826 | E25: 4302.0752 | F25: 3660.0048 | G25: 425.31254 | H25: 899.15339 | I25: 613.25816 | J25: 732.33225 | K25: 1161.6156 | L25: 1211.9759 | M25: 166.09825
B26: =RAND()*5000 | C26: offset y | D26: 2986.5703 | E26: 4309.3793 | F26: 1594.0567 | G26: 3885.3113 | H26: 3391.0868 | I26: 128.67218 | J26: 3289.3019 | K26: 2633.6348 | L26: 1082.9839 | M26: 3286.1323
C27: Pos in Time | D27: =tick/D$24 -> 649.17878 | E27: =tick/E$24 -> 661.0281 | F27: =tick/F$24 -> 592.72193 | G27: =tick/G$24 -> 580.23157 | H27: =tick/H$24 -> 633.70051 | I27: =tick/I$24 -> 609.53929 | J27: =tick/J$24 -> 611.25318 | K27: =tick/K$24 -> 554.23907 | ... M27: =tick/M$24 -> 546.1328
C28: x | D28: =PosX+(MOD(SIN(D25+D27/D2)*D2+SIN(D25+D27/D4)*D4+SIN(D25+D27/D6)*D6+SIN(D25+D27/D8)*D8+SIN(D25+D27/D10)*D10+SIN(D25+D27/D12)*D12+SIN(D25+D27/D14)*D14+SIN(D25+D27/D16)*D16+SIN(D25+D27/D18)*D18+SIN(D25+D27/D20)*D20+SIN(D25+D27/D22)*D22+Param!$B$26-PosX,Param!$B$26*2)-Param!$B$26)/Param!$E$25 -> 3564.9656 | E28: =PosX+(MOD(SIN(E25+E27/E2)*E2+SIN(E25+E27/E4)*E4+SIN(E25+E27/E6)*E6+SIN(E25+E27/E8)*E8+SIN(E25+E27/E10)*E10+SIN(E25+E27/E12)*E12+SIN(E25+E27/E14)*E14+SIN(E25+E27/E16)*E16+SIN(E25+E27/E18)*E18+SIN(E25+E27/E20)*E20+SIN(E25+E27/E22)*E22+Param!$B$26-PosX,Param!$B$26*2)-Param!$B$26)/Param!$E$25 -> 3544.3667 | F28: =PosX+(MOD(SIN(F25+F27/F2)*F2+SIN(F25+F27/F4)*F4+SIN(F25+F27/F6)*F6+SIN(F25+F27/F8)*F8+SIN(F25+F27/F10)*F10+SIN(F25+F27/F12)*F12+SIN(F25+F27/F14)*F14+SIN(F25+F27/F16)*F16+SIN(F25+F27/F18)*F18+SIN(F25+F27/F20)*F20+SIN(F25+F27/F22)*F22+Param!$B$26-PosX,Param!$B$26*2)-Param!$B$26)/Param!$E$25 -> 3560.8603 | G28: =PosX+(MOD(SIN(G25+G27/G2)*G2+SIN(G25+G27/G4)*G4+SIN(G25+G27/G6)*G6+SIN(G25+G27/G8)*G8+SIN(G25+G27/G10)*G10+SIN(G25+G27/G12)*G12+SIN(G25+G27/G14)*G14+SIN(G25+G27/G16)*G16+SIN(G25+G27/G18)*G18+SIN(G25+G27/G20)*G20+SIN(G25+G27/G22)*G22+Param!$B$26-PosX,Param!$B$26*2)-Param!$B$26)/Param!$E$25 -> 3570.4169 | H28: =PosX+(MOD(SIN(H25+H27/H2)*H2+SIN(H25+H27/H4)*H4+SIN(H25+H27/H6)*H6+SIN(H25+H27/H8)*H8+SIN(H25+H27/H10)*H10+SIN(H25+H27/H12)*H12+SIN(H25+H27/H14)*H14+SIN(H25+H27/H16)*H16+SIN(H25+H27/H18)*H18+SIN(H25+H27/H20)*H20+SIN(H25+H27/H22)*H22+Param!$B$26-PosX,Param!$B$26*2)-Param!$B$26)/Param!$E$25 -> 3551.5114 | I28: =PosX+(MOD(SIN(I25+I27/I2)*I2+SIN(I25+I27/I4)*I4+SIN(I25+I27/I6)*I6+SIN(I25+I27/I8)*I8+SIN(I25+I27/I10)*I10+SIN(I25+I27/I12)*I12+SIN(I25+I27/I14)*I14+SIN(I25+I27/I16)*I16+SIN(I25+I27/I18)*I18+SIN(I25+I27/I20)*I20+SIN(I25+I27/I22)*I22+Param!$B$26-PosX,Param!$B$26*2)-Param!$B$26)/Param!$E$25 -> 3551.9894 | J28: =PosX+(MOD(SIN(J25+J27/J2)*J2+SIN(J25+J27/J4)*J4+SIN(J25+J27/J6)*J6+SIN(J25+J27/J8)*J8+SIN(J25+J27/J10)*J10+SIN(J25+J27/J12)*J12+SIN(J25+J27/J14)*J14+SIN(J25+J27/J16)*J16+SIN(J25+J27/J18)*J18+SIN(J25+J27/J20)*J20+SIN(J25+J27/J22)*J22+Param!$B$26-PosX,Param!$B$26*2)-Param!$B$26)/Param!$E$25 -> 3550.3291 | K28: =PosX+(MOD(SIN(K25+K27/K2)*K2+SIN(K25+K27/K4)*K4+SIN(K25+K27/K6)*K6+SIN(K25+K27/K8)*K8+SIN(K25+K27/K10)*K10+SIN(K25+K27/K12)*K12+SIN(K25+K27/K14)*K14+SIN(K25+K27/K16)*K16+SIN(K25+K27/K18)*K18+SIN(K25+K27/K20)*K20+SIN(K25+K27/K22)*K22+Param!$B$26-PosX,Param!$B$26*2)-Param!$B$26)/Param!$E$25 -> 3542.7868 | ... M28: =PosX+(MOD(SIN(M25+M27/M2)*M2+SIN(M25+M27/M4)*M4+SIN(M25+M27/M6)*M6+SIN(M25+M27/M8)*M8+SIN(M25+M27/M10)*M10+SIN(M25+M27/M12)*M12+SIN(M25+M27/M14)*M14+SIN(M25+M27/M16)*M16+SIN(M25+M27/M18)*M18+SIN(M25+M27/M20)*M20+SIN(M25+M27/M22)*M22+Param!$B$26-PosX,Param!$B$26*2)-Param!$B$26)/Param!$E$25 -> 3544.9102
C29: y | D29: =PosY+(MOD(SIN(D26+D27/D3)*D3+SIN(D26+D27/D5)*D5+SIN(D26+D27/D7)*D7+SIN(D26+D27/D9)*D9+SIN(D26+D27/D11)*D11+SIN(D26+D27/D13)*D13+SIN(D26+D27/D15)*D15+SIN(D26+D27/D17)*D17+SIN(D26+D27/D19)*D19+SIN(D26+D27/D21)*D21+SIN(D26+D27/D23)*D23+Param!$B$26-PosY,Param!$B$26*2)-Param!$B$26)/Param!$E$25 -> 1695.1907 | E29: =PosY+(MOD(SIN(E26+E27/E3)*E3+SIN(E26+E27/E5)*E5+SIN(E26+E27/E7)*E7+SIN(E26+E27/E9)*E9+SIN(E26+E27/E11)*E11+SIN(E26+E27/E13)*E13+SIN(E26+E27/E15)*E15+SIN(E26+E27/E17)*E17+SIN(E26+E27/E19)*E19+SIN(E26+E27/E21)*E21+SIN(E26+E27/E23)*E23+Param!$B$26-PosY,Param!$B$26*2)-Param!$B$26)/Param!$E$25 -> 1707.9068 | F29: =PosY+(MOD(SIN(F26+F27/F3)*F3+SIN(F26+F27/F5)*F5+SIN(F26+F27/F7)*F7+SIN(F26+F27/F9)*F9+SIN(F26+F27/F11)*F11+SIN(F26+F27/F13)*F13+SIN(F26+F27/F15)*F15+SIN(F26+F27/F17)*F17+SIN(F26+F27/F19)*F19+SIN(F26+F27/F21)*F21+SIN(F26+F27/F23)*F23+Param!$B$26-PosY,Param!$B$26*2)-Param!$B$26)/Param!$E$25 -> 1701.1908 | G29: =PosY+(MOD(SIN(G26+G27/G3)*G3+SIN(G26+G27/G5)*G5+SIN(G26+G27/G7)*G7+SIN(G26+G27/G9)*G9+SIN(G26+G27/G11)*G11+SIN(G26+G27/G13)*G13+SIN(G26+G27/G15)*G15+SIN(G26+G27/G17)*G17+SIN(G26+G27/G19)*G19+SIN(G26+G27/G21)*G21+SIN(G26+G27/G23)*G23+Param!$B$26-PosY,Param!$B$26*2)-Param!$B$26)/Param!$E$25 -> 1706.512 | H29: =PosY+(MOD(SIN(H26+H27/H3)*H3+SIN(H26+H27/H5)*H5+SIN(H26+H27/H7)*H7+SIN(H26+H27/H9)*H9+SIN(H26+H27/H11)*H11+SIN(H26+H27/H13)*H13+SIN(H26+H27/H15)*H15+SIN(H26+H27/H17)*H17+SIN(H26+H27/H19)*H19+SIN(H26+H27/H21)*H21+SIN(H26+H27/H23)*H23+Param!$B$26-PosY,Param!$B$26*2)-Param!$B$26)/Param!$E$25 -> 1705.3788 | I29: =PosY+(MOD(SIN(I26+I27/I3)*I3+SIN(I26+I27/I5)*I5+SIN(I26+I27/I7)*I7+SIN(I26+I27/I9)*I9+SIN(I26+I27/I11)*I11+SIN(I26+I27/I13)*I13+SIN(I26+I27/I15)*I15+SIN(I26+I27/I17)*I17+SIN(I26+I27/I19)*I19+SIN(I26+I27/I21)*I21+SIN(I26+I27/I23)*I23+Param!$B$26-PosY,Param!$B$26*2)-Param!$B$26)/Param!$E$25 -> 1700.0719 | J29: =PosY+(MOD(SIN(J26+J27/J3)*J3+SIN(J26+J27/J5)*J5+SIN(J26+J27/J7)*J7+SIN(J26+J27/J9)*J9+SIN(J26+J27/J11)*J11+SIN(J26+J27/J13)*J13+SIN(J26+J27/J15)*J15+SIN(J26+J27/J17)*J17+SIN(J26+J27/J19)*J19+SIN(J26+J27/J21)*J21+SIN(J26+J27/J23)*J23+Param!$B$26-PosY,Param!$B$26*2)-Param!$B$26)/Param!$E$25 -> 1691.4378 | K29: =PosY+(MOD(SIN(K26+K27/K3)*K3+SIN(K26+K27/K5)*K5+SIN(K26+K27/K7)*K7+SIN(K26+K27/K9)*K9+SIN(K26+K27/K11)*K11+SIN(K26+K27/K13)*K13+SIN(K26+K27/K15)*K15+SIN(K26+K27/K17)*K17+SIN(K26+K27/K19)*K19+SIN(K26+K27/K21)*K21+SIN(K26+K27/K23)*K23+Param!$B$26-PosY,Param!$B$26*2)-Param!$B$26)/Param!$E$25 -> 1703.8719 | ... M29: =PosY+(MOD(SIN(M26+M27/M3)*M3+SIN(M26+M27/M5)*M5+SIN(M26+M27/M7)*M7+SIN(M26+M27/M9)*M9+SIN(M26+M27/M11)*M11+SIN(M26+M27/M13)*M13+SIN(M26+M27/M15)*M15+SIN(M26+M27/M17)*M17+SIN(M26+M27/M19)*M19+SIN(M26+M27/M21)*M21+SIN(M26+M27/M23)*M23+Param!$B$26-PosY,Param!$B$26*2)-Param!$B$26)/Param!$E$25 -> 1682.8015
C30: distance | D30: =SQRT((PosX-D28)*(PosX-D28)+(PosY-D29)*(PosY-D29)) -> 13.630922 | E30: =SQRT((PosX-E28)*(PosX-E28)+(PosY-E29)*(PosY-E29)) -> 15.449573 | F30: =SQRT((PosX-F28)*(PosX-F28)+(PosY-F29)*(PosY-F29)) -> 11.819477 | G30: =SQRT((PosX-G28)*(PosX-G28)+(PosY-G29)*(PosY-G29)) -> 22.708674 | H30: =SQRT((PosX-H28)*(PosX-H28)+(PosY-H29)*(PosY-H29)) -> 11.241159 | I30: =SQRT((PosX-I28)*(PosX-I28)+(PosY-I29)*(PosY-I29)) -> 5.9651937 | J30: =SQRT((PosX-J28)*(PosX-J28)+(PosY-J29)*(PosY-J29)) -> 2.8962165 | K30: =SQRT((PosX-K28)*(PosX-K28)+(PosY-K29)*(PosY-K29)) -> 12.980904 | ... M30: =SQRT((PosX-M28)*(PosX-M28)+(PosY-M29)*(PosY-M29)) -> 13.050821
C31: Angle | D31: =ATAN2(D28-PosX,D29-PosY) -> 0.077269874 | E31: =ATAN2(E28-PosX,E29-PosY) -> 2.0416488 | F31: =ATAN2(F28-PosX,F29-PosY) -> 0.63934602 | G31: =ATAN2(G28-PosX,G29-PosY) -> 0.57624696 | H31: =ATAN2(H28-PosX,H29-PosY) -> 1.5586924 | I31: =ATAN2(I28-PosX,I29-PosY) -> 1.4676773 | J31: =ATAN2(J28-PosX,J29-PosY) -> -1.9404163 | K31: =ATAN2(K28-PosX,K29-PosY) -> 2.2937841 | ... M31: =ATAN2(M28-PosX,M29-PosY) -> -2.0890699
B32: Current State | C32: =Param!B18 -> 2695248842105 | D32: =TRUNC(C32/20,0) -> 134762442105 | E32: =TRUNC(D32/20,0) -> 6738122105 | F32: =TRUNC(E32/20,0) -> 336906105 | G32: =TRUNC(F32/20,0) -> 16845305 | H32: =TRUNC(G32/20,0) -> 842265 | I32: =TRUNC(H32/20,0) -> 42113 | J32: =TRUNC(I32/20,0) -> 2105 | K32: =TRUNC(J32/20,0) -> 105 | ... M32: =TRUNC(L32/20,0) -> 0
D33: =C32-D32*20 -> 5 | E33: =D32-E32*20 -> 5 | F33: =E32-F32*20 -> 5 | G33: =F32-G32*20 -> 5 | H33: =G32-H32*20 -> 5 | I33: =H32-I32*20 -> 5 | J33: =I32-J32*20 -> 13 | K33: =J32-K32*20 -> 5 | ... M33: =L32-M32*20 -> 5
C34: Radius | D34: =IF(D33>10,0,IF(D33>5,0.1,0.15*POWER(2,5-D33))) -> 0.15 | E34: =IF(E33>10,0,IF(E33>5,0.1,0.15*POWER(2,5-E33))) -> 0.15 | F34: =IF(F33>10,0,IF(F33>5,0.1,0.15*POWER(2,5-F33))) -> 0.15 | G34: =IF(G33>10,0,IF(G33>5,0.1,0.15*POWER(2,5-G33))) -> 0.15 | H34: =IF(H33>10,0,IF(H33>5,0.1,0.15*POWER(2,5-H33))) -> 0.15 | I34: =IF(I33>10,0,IF(I33>5,0.1,0.15*POWER(2,5-I33))) -> 0.15 | J34: =IF(J33>10,0,IF(J33>5,0.1,0.15*POWER(2,5-J33))) -> 0 | K34: =IF(K33>10,0,IF(K33>5,0.1,0.15*POWER(2,5-K33))) -> 0.15 | ... M34: =IF(M33>10,0,IF(M33>5,0.1,0.15*POWER(2,5-M33))) -> 0.15
A35: Inside Monster | B35: =OR(ISERR(SUM(D35:M35)),Param!M21) -> FALSE | C35: Angular Radius | D35: =ASIN(D34/D30) -> 0.011004613 | E35: =ASIN(E34/E30) -> 0.0097091589 | F35: =ASIN(F34/F30) -> 0.012691257 | G35: =ASIN(G34/G30) -> 0.0066054535 | H35: =ASIN(H34/H30) -> 0.013344216 | I35: =ASIN(I34/I30) -> 0.025148523 | J35: =ASIN(J34/J30) -> 0 | K35: =ASIN(K34/K30) -> 0.011555693 | ... M35: =ASIN(M34/M30) -> 0.011493783
C36: Height | D36: =IF(D33>10,0,MIN((12-D33)/6,1)*MIN(Param!$B$31:$B$32)) -> 0.3 | E36: =IF(E33>10,0,MIN((12-E33)/6,1)*MIN(Param!$B$31:$B$32)) -> 0.3 | F36: =IF(F33>10,0,MIN((12-F33)/6,1)*MIN(Param!$B$31:$B$32)) -> 0.3 | G36: =IF(G33>10,0,MIN((12-G33)/6,1)*MIN(Param!$B$31:$B$32)) -> 0.3 | H36: =IF(H33>10,0,MIN((12-H33)/6,1)*MIN(Param!$B$31:$B$32)) -> 0.3 | I36: =IF(I33>10,0,MIN((12-I33)/6,1)*MIN(Param!$B$31:$B$32)) -> 0.3 | J36: =IF(J33>10,0,MIN((12-J33)/6,1)*MIN(Param!$B$31:$B$32)) -> 0 | K36: =IF(K33>10,0,MIN((12-K33)/6,1)*MIN(Param!$B$31:$B$32)) -> 0.3 | ... M36: =IF(M33>10,0,MIN((12-M33)/6,1)*MIN(Param!$B$31:$B$32)) -> 0.3 | N36: Yes, it's a simplification to skip the ground/ghost collision calculus. To be done in T/(d+T) column, if I ever find the grit
A37: Max Distance | B37: 10 | C37: Visible | D37: =IF($B$35,FALSE,AND(D30+D34<=$B$37,PI()/2-ABS(MOD(D$31-Param!$D$14,2*PI())-PI())<D$35)) -> FALSE | E37: =IF($B$35,FALSE,AND(E30+E34<=$B$37,PI()/2-ABS(MOD(E$31-Param!$D$14,2*PI())-PI())<E$35)) -> FALSE | F37: =IF($B$35,FALSE,AND(F30+F34<=$B$37,PI()/2-ABS(MOD(F$31-Param!$D$14,2*PI())-PI())<F$35)) -> FALSE | G37: =IF($B$35,FALSE,AND(G30+G34<=$B$37,PI()/2-ABS(MOD(G$31-Param!$D$14,2*PI())-PI())<G$35)) -> FALSE | H37: =IF($B$35,FALSE,AND(H30+H34<=$B$37,PI()/2-ABS(MOD(H$31-Param!$D$14,2*PI())-PI())<H$35)) -> FALSE | I37: =IF($B$35,FALSE,AND(I30+I34<=$B$37,PI()/2-ABS(MOD(I$31-Param!$D$14,2*PI())-PI())<I$35)) -> TRUE | J37: =IF($B$35,FALSE,AND(J30+J34<=$B$37,PI()/2-ABS(MOD(J$31-Param!$D$14,2*PI())-PI())<J$35)) -> FALSE | K37: =IF($B$35,FALSE,AND(K30+K34<=$B$37,PI()/2-ABS(MOD(K$31-Param!$D$14,2*PI())-PI())<K$35)) -> FALSE | ... M37: =IF($B$35,FALSE,AND(M30+M34<=$B$37,PI()/2-ABS(MOD(M$31-Param!$D$14,2*PI())-PI())<M$35)) -> FALSE
A41: Pixel | B41: Angle(Rad) | N41: Final | O41: First Ghost | P41: Final Straight Lines | Q41: Thickness² | R41: (d+Thickness)²/R² | S41: T/(d+T) | T41: Thickness ratio²
A42: =Param!$C$42-1 -> 50 | B42: =MOD(ATAN(A42/Param!$B$29*2)+Param!$D$14,2*PI()) -> 2.5951312 | D42: =IF(IF(D$37,ABS(MOD(D$31-$B42+PI(),2*PI())-PI())<D$35), ROUND(D$30*COS(D$31-$B42)-SQRT(D$34*D$34-POWER(D$30*SIN(D$31-$B42),2)),5)+ (COLUMN()-3)/10000000, 99999) -> 99999 | E42: =IF(IF(E$37,ABS(MOD(E$31-$B42+PI(),2*PI())-PI())<E$35), ROUND(E$30*COS(E$31-$B42)-SQRT(E$34*E$34-POWER(E$30*SIN(E$31-$B42),2)),5)+ (COLUMN()-3)/10000000, 99999) -> 99999 | F42: =IF(IF(F$37,ABS(MOD(F$31-$B42+PI(),2*PI())-PI())<F$35), ROUND(F$30*COS(F$31-$B42)-SQRT(F$34*F$34-POWER(F$30*SIN(F$31-$B42),2)),5)+ (COLUMN()-3)/10000000, 99999) -> 99999 | G42: =IF(IF(G$37,ABS(MOD(G$31-$B42+PI(),2*PI())-PI())<G$35), ROUND(G$30*COS(G$31-$B42)-SQRT(G$34*G$34-POWER(G$30*SIN(G$31-$B42),2)),5)+ (COLUMN()-3)/10000000, 99999) -> 99999 | H42: =IF(IF(H$37,ABS(MOD(H$31-$B42+PI(),2*PI())-PI())<H$35), ROUND(H$30*COS(H$31-$B42)-SQRT(H$34*H$34-POWER(H$30*SIN(H$31-$B42),2)),5)+ (COLUMN()-3)/10000000, 99999) -> 99999 | I42: =IF(IF(I$37,ABS(MOD(I$31-$B42+PI(),2*PI())-PI())<I$35), ROUND(I$30*COS(I$31-$B42)-SQRT(I$34*I$34-POWER(I$30*SIN(I$31-$B42),2)),5)+ (COLUMN()-3)/10000000, 99999) -> 99999 | J42: =IF(IF(J$37,ABS(MOD(J$31-$B42+PI(),2*PI())-PI())<J$35), ROUND(J$30*COS(J$31-$B42)-SQRT(J$34*J$34-POWER(J$30*SIN(J$31-$B42),2)),5)+ (COLUMN()-3)/10000000, 99999) -> 99999 | K42: =IF(IF(K$37,ABS(MOD(K$31-$B42+PI(),2*PI())-PI())<K$35), ROUND(K$30*COS(K$31-$B42)-SQRT(K$34*K$34-POWER(K$30*SIN(K$31-$B42),2)),5)+ (COLUMN()-3)/10000000, 99999) -> 99999 | ... M42: =IF(IF(M$37,ABS(MOD(M$31-$B42+PI(),2*PI())-PI())<M$35), ROUND(M$30*COS(M$31-$B42)-SQRT(M$34*M$34-POWER(M$30*SIN(M$31-$B42),2)),5)+ (COLUMN()-3)/10000000, 99999) -> 99999 | N42: =MIN(D42:M42) -> 99999 | O42: =ROUND((N42-TRUNC(N42,5))*10000000,0) -> 0 | P42: =N42*COS(ABS(TRUNC(B42,4)-Param!$D$14)) -> 83205.93 | Q42: =IF(O42=0,0,(POWER(OFFSET(C$34,0,O42),2)-POWER(OFFSET(C$30,0,O42)*SIN(OFFSET(C$31,0,O42)-$B42),2))) -> 0 | R42: =IF(O42=0,0,POWER((N42+SQRT(Q42))/OFFSET(C$36,0,O42),2)) -> 0 | S42: =IF(P42>Radar!AC4,-1,OFFSET(C$36,0,O42)/OFFSET(C$34,0,O42)/(N42/SQRT(Q42)+1)) -> -1 | T42: =IF(O42=0,0,Q42/POWER(OFFSET(C$34,0,O42),2)) -> 0
A43: =A42-1 -> 49 | B43: =MOD(ATAN(A43/Param!$B$29*2)+Param!$D$14,2*PI()) -> 2.5858436 | D43: =IF(IF(D$37,ABS(MOD(D$31-$B43+PI(),2*PI())-PI())<D$35), ROUND(D$30*COS(D$31-$B43)-SQRT(D$34*D$34-POWER(D$30*SIN(D$31-$B43),2)),5)+ (COLUMN()-3)/10000000, 99999) -> 99999 | E43: =IF(IF(E$37,ABS(MOD(E$31-$B43+PI(),2*PI())-PI())<E$35), ROUND(E$30*COS(E$31-$B43)-SQRT(E$34*E$34-POWER(E$30*SIN(E$31-$B43),2)),5)+ (COLUMN()-3)/10000000, 99999) -> 99999 | F43: =IF(IF(F$37,ABS(MOD(F$31-$B43+PI(),2*PI())-PI())<F$35), ROUND(F$30*COS(F$31-$B43)-SQRT(F$34*F$34-POWER(F$30*SIN(F$31-$B43),2)),5)+ (COLUMN()-3)/10000000, 99999) -> 99999 | G43: =IF(IF(G$37,ABS(MOD(G$31-$B43+PI(),2*PI())-PI())<G$35), ROUND(G$30*COS(G$31-$B43)-SQRT(G$34*G$34-POWER(G$30*SIN(G$31-$B43),2)),5)+ (COLUMN()-3)/10000000, 99999) -> 99999 | H43: =IF(IF(H$37,ABS(MOD(H$31-$B43+PI(),2*PI())-PI())<H$35), ROUND(H$30*COS(H$31-$B43)-SQRT(H$34*H$34-POWER(H$30*SIN(H$31-$B43),2)),5)+ (COLUMN()-3)/10000000, 99999) -> 99999 | I43: =IF(IF(I$37,ABS(MOD(I$31-$B43+PI(),2*PI())-PI())<I$35), ROUND(I$30*COS(I$31-$B43)-SQRT(I$34*I$34-POWER(I$30*SIN(I$31-$B43),2)),5)+ (COLUMN()-3)/10000000, 99999) -> 99999 | J43: =IF(IF(J$37,ABS(MOD(J$31-$B43+PI(),2*PI())-PI())<J$35), ROUND(J$30*COS(J$31-$B43)-SQRT(J$34*J$34-POWER(J$30*SIN(J$31-$B43),2)),5)+ (COLUMN()-3)/10000000, 99999) -> 99999 | K43: =IF(IF(K$37,ABS(MOD(K$31-$B43+PI(),2*PI())-PI())<K$35), ROUND(K$30*COS(K$31-$B43)-SQRT(K$34*K$34-POWER(K$30*SIN(K$31-$B43),2)),5)+ (COLUMN()-3)/10000000, 99999) -> 99999 | ... M43: =IF(IF(M$37,ABS(MOD(M$31-$B43+PI(),2*PI())-PI())<M$35), ROUND(M$30*COS(M$31-$B43)-SQRT(M$34*M$34-POWER(M$30*SIN(M$31-$B43),2)),5)+ (COLUMN()-3)/10000000, 99999) -> 99999 | N43: =MIN(D43:M43) -> 99999 | O43: =ROUND((N43-TRUNC(N43,5))*10000000,0) -> 0 | P43: =N43*COS(ABS(TRUNC(B43,4)-Param!$D$14)) -> 83718.167 | Q43: =IF(O43=0,0,(POWER(OFFSET(C$34,0,O43),2)-POWER(OFFSET(C$30,0,O43)*SIN(OFFSET(C$31,0,O43)-$B43),2))) -> 0 | R43: =IF(O43=0,0,POWER((N43+SQRT(Q43))/OFFSET(C$36,0,O43),2)) -> 0 | S43: =IF(P43>Radar!AC5,-1,OFFSET(C$36,0,O43)/OFFSET(C$34,0,O43)/(N43/SQRT(Q43)+1)) -> -1 | T43: =IF(O43=0,0,Q43/POWER(OFFSET(C$34,0,O43),2)) -> 0
